{"text_format":"1","workbook":"xlsx","n_sheets":14,"sheets":["Раздел0","Раздел1","Раздел2","Раздел3","Раздел4","Раздел5","Раздел6","Раздел7","Раздел8","Раздел9","Раздел10","Раздел11","Раздел12","Лист1"],"not_rendered":{"charts":0,"images":2,"macros":1,"external_links":2,"defined_names":418,"comments":0,"pivot_tables":0},"unopened":[],"bounds":{"document_bytes":16777216,"sheet_cells":100000,"rows_first":2000,"rows_last":500,"rows_between":2000,"halvings":0,"cell_chars":16384,"cell_head_chars":4096},"cells_cut":0,"cells_raw":0,"read":"whole","date_system":"1900"}

{"sheet":"Раздел0","index":0,"n_rows":36,"n_cols":14,"rows_kept":36,"cut":false,"hidden":false,"merged":[[37,0,37,18],[34,1,34,3],[34,4,34,7],[34,8,34,11],[34,12,34,17],[35,1,35,3],[35,4,35,7],[35,8,35,11],[35,12,35,17],[30,1,30,6],[30,7,30,17],[31,1,31,3],[31,4,31,17],[28,10,28,11],[29,2,29,9],[29,10,29,11],[32,1,33,3],[32,4,32,17],[33,4,33,7],[33,8,33,11],[33,12,33,17],[17,2,17,9],[17,13,17,16],[23,1,23,9],[23,10,23,11],[18,2,18,9],[18,13,18,16],[19,2,19,9],[19,10,19,11],[19,13,19,16],[20,2,20,9],[20,10,20,11],[21,13,21,16],[22,1,22,9],[22,10,22,11],[21,2,21,9],[14,13,14,16],[15,2,15,9],[15,13,15,16],[16,2,16,9],[16,13,16,16],[0,0,0,18],[1,0,36,0],[1,4,1,14],[1,18,36,18],[3,4,3,14],[5,3,5,15],[7,4,7,14],[9,5,9,13],[10,5,10,13],[12,1,12,9],[12,10,12,11],[12,13,12,16],[13,1,13,9],[13,10,13,11],[14,2,14,9],[14,10,14,11],[24,1,24,9],[24,10,24,11],[26,2,26,9],[28,1,28,9],[25,2,25,9],[27,1,27,9],[27,10,27,11]]}
[]
[null,null,null,null,"ФЕДЕРАЛЬНОЕ СТАТИСТИЧЕСКОЕ НАБЛЮДЕНИЕ"]
[]
[null,null,null,null,"КОНФИДЕНЦИАЛЬНОСТЬ ГАРАНТИРУЕТСЯ ПОЛУЧАТЕЛЕМ ИНФОРМАЦИИ"]
[]
[null,null,null,"Нарушение порядка представления статистической информации, а равно представление недостоверной статистической информации влечет ответственность, установленную статьей 13.19 Кодекса Российской Федерации об административных правонарушениях от 30.12.2001 № 195-ФЗ, а также статьей 3 Закона Российской Федерации от 13.05.1992 № 2761-1 “Об ответственности за нарушение порядка представления государственной статистической отчетности”\nпорядка представления государственной статистической отчетности”"]
[]
[null,null,null,null,"ВОЗМОЖНО ПРЕДОСТАВЛЕНИЕ В ЭЛЕКТРОННОМ ВИДЕ"]
[]
[null,null,null,null,null,"СВЕДЕНИЯ ПО ОРГАНИЗАЦИЯМ, ОСУЩЕСТВЛЯЮЩИМ СПОРТИВНУЮ ПОДГОТОВКУ"]
[null,null,null,null,null,"по состоянию на 31 декабря 2016 г."]
[]
[null,"Предоставляют:",null,null,null,null,null,null,null,null,"Сроки предоставления",null,null,"Форма № 5-ФК (сводная)"]
[null,"юридические лица – организации, осуществляющие спортивную подготовку:",null,null,null,null,null,null,null,null,"10 января"]
[null,"-","органу местного самоуправления поселения, внутригородской территории города ",null,null,null,null,null,null,null,"после отчетного периода",null,null,"Приказ Росстата:"]
[null,null,"федерального значения;",null,null,null,null,null,null,null,null,null,null,"Об утверждении формы "]
[null,"-","органу местного самоуправления городского округа, муниципального района в",null,null,null,null,null,null,null,null,null,null,"от 30.09.2016 № 559"]
[null,null,"сфере физической культуры и спорта;",null,null,null,null,null,null,null,null,null,null,"О внесении изменений (при наличии)"]
[null,"-","территориальному органу исполнительной власти города федерального значения в ",null,null,null,null,null,null,null,null,null,null,"от 22.12.2016 № 825"]
[null,null,"сфере физической культуры и спорта;",null,null,null,null,null,null,null,null,null,null,"от ____________ № ____"]
[null,"-","иные органы местного самоуправления, в ведении которых находятся"]
[null,null,"организации, осуществляющие спортивную подготовку",null,null,null,null,null,null,null,null,null,null,"Годовая"]
[null,"органы местного самоуправления городских округов, муниципальных районов в сфере ",null,null,null,null,null,null,null,null,"15 января"]
[null,"физической культуры и спорта, территориальные органы исполнительной власти ",null,null,null,null,null,null,null,null,"после отчетного периода"]
[null,"городов федерального значения в сфере физической культуры и спорта:"]
[null,"-","органу исполнительной власти субъекта Российской Федерации в области "]
[null,null,"физической культуры и спорта"]
[null,"органы исполнительной власти субъектов Российской Федерации в области ",null,null,null,null,null,null,null,null,"20 января"]
[null,"физической культуры и спорта:",null,null,null,null,null,null,null,null,"после отчетного периода"]
[null,"-","Министерству спорта Российской Федерации"]
[null,"Наименование отчитывающейся организации",null,null,null,null,null,"Комитет Республики Адыгея по физической культуре и спорту (СВОДНАЯ Субъект Адыгея)"]
[null,"Почтовый адрес",null,null,"385000, Республика Адыгея, город Майкоп, ул. Краснооктябрьская, 12"]
[null,"Код\nформы\nпо ОКУД",null,null,"Код"]
[null,null,null,null,"отчитывающейся организации\nпо ОКПО"]
[null,1,null,null,2,null,null,null,3,null,null,null,4]
[null,"0609403"]

{"sheet":"Раздел1","index":1,"n_rows":21,"n_cols":12,"rows_kept":21,"cut":false,"hidden":false,"merged":[[0,0,8,0],[0,1,0,11],[1,8,1,11],[2,2,3,2],[2,4,2,11],[0,12,8,12],[2,1,3,1],[2,3,3,3],[13,1,15,1],[13,2,15,2],[12,9,12,12],[19,1,20,1],[19,2,20,2],[16,3,16,4],[17,3,17,4],[16,1,17,1],[16,2,17,2],[19,3,19,5],[19,6,19,8],[20,3,20,5],[20,6,20,8],[12,7,12,8],[16,5,16,6],[16,7,16,8],[17,5,17,6],[17,7,17,8],[18,3,18,8],[13,3,13,7],[14,4,14,5],[14,6,14,7],[15,4,15,5],[15,6,15,7],[14,8,15,8]]}
[null,"Раздел I. Число организаций"]
[null,null,null,null,null,null,null,null,"Код по ОКЕИ: единица – 642"]
[null,"Ведомственная \nпринадлежность","№ стро-ки","Число организаций – всего","в том числе по виду организации:"]
[null,null,null,null,"ДЮСШ ","СШ","СДЮСШОР","СШОР","УОР","ЦСП","ЦОП","Другие\nорганизации"]
[null,1,2,3,4,5,6,7,8,9,10,11]
[null,"Органы управления в сфере образования","01",8,8,0,0,0,0,0,0,0]
[null,"Органы управления в сфере физической культуры и спорта","02",15,4,0,2,6,0,3,0,0]
[null,"Другая ведомственная принадлежность","03",0,0,0,0,0,0,0,0,0]
[null,"ИТОГО","04",23,12,0,2,6,0,3,0,0]
[]
[]
[]
[null,null,null,null,null,null,null,"Код по ОКЕИ: единица – 642"]
[null,"Виды правовых образований","05","Публичные правовые образования",null,null,null,null,"Иные правовые образования"]
[null,null,null,"Российская Федерация","Субъект Российской Федерации",null,"Муниципальное образование",null,0]
[null,null,null,0,11,null,12]
[null,"Переход на программу спортивной подготовки","06","Не перешли",null,"Частично перешли",null,"Полностью перешли"]
[null,null,null,9,null,3,null,11]
[null,"ОГРН","07"]
[null,"Признак того, является ли отчитывающаяся организация юридическим лицом","08","Да",null,null,"Нет"]
[null,null,null,23,null,null,0]

{"sheet":"Раздел2","index":2,"n_rows":287,"n_cols":32,"rows_kept":287,"cut":false,"hidden":false,"merged":[[2,3,4,4],[4,19,5,19],[4,11,4,15],[0,20,203,20],[0,0,203,0],[2,1,5,1],[2,2,5,2],[1,16,1,19],[2,5,2,19],[3,5,3,19],[4,5,5,5],[4,6,4,10],[0,1,0,19],[4,16,5,16],[4,17,5,17],[4,18,5,18]]}
[null,"Раздел II. Численность занимающихся"]
[null,null,null,null,null,null,null,null,null,null,null,null,null,null,null,null,"Коды по ОКЕИ: человек - 792, единица - 642 "]
[null,"Виды спорта","№ строки","Число отделений по видам спорта",null,"Число занимающихся на 31 декабря отчетного года"]
[null,null,null,null,null,"из них:"]
[null,null,null,null,null,"всего","по этапам подготовки",null,null,null,null,"по возрастам",null,null,null,null,"женщин","спортсменов, спортсменов – инструкторов","в платных группах","обучающихся по предпрофессио-нальным программам в области физической куль-туры и спорта"]
[null,null,null,"всего","в том числе отделения ФСО и ОУ, имеющие право использовать в наименовании слово \"Олимпийский\"",null,"спортивно-оздорови-тельный","начальной подготовки","трениро-вочный","совершен-ствования спортивного мастерства","высшего спортивного мастерства","до 5 лет","от 6 до 15 лет","от 16 до 21 года","от 22 до 30 лет","старше 30 лет"]
[null,1,2,3,4,5,6,7,8,9,10,11,12,13,14,15,16,17,18,19]
[null,"Авиамодельный спорт","01",0,0,0,0,0,0,0,0,0,0,0,0,0,0,0,0,0,null,{"$f":"Раздел3!D8","v":0},{"$f":"Раздел3!E8","v":0},{"$f":"Раздел3!F8","v":0},{"$f":"Раздел3!G8","v":0},{"$f":"Раздел3!H8","v":0},{"$f":"SUM(Раздел5!D9:AY9)","v":0}]
[null,"Автомобильный спорт","02",0,0,0,0,0,0,0,0,0,0,0,0,0,0,0,0,0,null,{"$f":"Раздел3!D9","v":0},{"$f":"Раздел3!E9","v":0},{"$f":"Раздел3!F9","v":0},{"$f":"Раздел3!G9","v":0},{"$f":"Раздел3!H9","v":0},{"$f":"SUM(Раздел5!D10:AY10)","v":0}]
[null,"Автомодельный спорт","03",0,0,0,0,0,0,0,0,0,0,0,0,0,0,0,0,0]
[null,"Айкидо","04",0,0,0,0,0,0,0,0,0,0,0,0,0,0,0,0,0,null,{"$f":"Раздел3!D10","v":0},{"$f":"Раздел3!E10","v":0},{"$f":"Раздел3!F10","v":0},{"$f":"Раздел3!G10","v":0},{"$f":"Раздел3!H10","v":0},{"$f":"SUM(Раздел5!D11:AY11)","v":0}]
[null,"Айсшток","05",0,0,0,0,0,0,0,0,0,0,0,0,0,0,0,0,0]
[null,"Акробатический рок-н-ролл","06",0,0,0,0,0,0,0,0,0,0,0,0,0,0,0,0,0,null,{"$f":"Раздел3!D11","v":0},{"$f":"Раздел3!E11","v":0},{"$f":"Раздел3!F11","v":0},{"$f":"Раздел3!G11","v":0},{"$f":"Раздел3!H11","v":0},{"$f":"SUM(Раздел5!D12:AY12)","v":0}]
[null,"Альпинизм","07",0,0,0,0,0,0,0,0,0,0,0,0,0,0,0,0,0,null,{"$f":"Раздел3!D12","v":0},{"$f":"Раздел3!E12","v":0},{"$f":"Раздел3!F12","v":0},{"$f":"Раздел3!G12","v":0},{"$f":"Раздел3!H12","v":0},{"$f":"SUM(Раздел5!D13:AY13)","v":0}]
[null,"Американский футбол","08",0,0,0,0,0,0,0,0,0,0,0,0,0,0,0,0,0,null,{"$f":"Раздел3!D13","v":0},{"$f":"Раздел3!E13","v":0},{"$f":"Раздел3!F13","v":0},{"$f":"Раздел3!G13","v":0},{"$f":"Раздел3!H13","v":0},{"$f":"SUM(Раздел5!D14:AY14)","v":0}]
[null,"Армейский рукопашный бой","09",0,0,0,0,0,0,0,0,0,0,0,0,0,0,0,0,0]
[null,"Армрестлинг","10",0,0,0,0,0,0,0,0,0,0,0,0,0,0,0,0,0,null,{"$f":"Раздел3!D14","v":0},{"$f":"Раздел3!E14","v":0},{"$f":"Раздел3!F14","v":0},{"$f":"Раздел3!G14","v":0},{"$f":"Раздел3!H14","v":0},{"$f":"SUM(Раздел5!D15:AY15)","v":0}]
[null,"Бадминтон","11",0,0,0,0,0,0,0,0,0,0,0,0,0,0,0,0,0,null,{"$f":"Раздел3!D15","v":0},{"$f":"Раздел3!E15","v":0},{"$f":"Раздел3!F15","v":0},{"$f":"Раздел3!G15","v":0},{"$f":"Раздел3!H15","v":0},{"$f":"SUM(Раздел5!D16:AY16)","v":0}]
[null,"Баскетбол - всего","12",12,0,666,60,316,283,7,0,0,523,143,0,0,258,0,0,0,null,{"$f":"Раздел3!D16","v":0},{"$f":"Раздел3!E16","v":0},{"$f":"Раздел3!F16","v":0},{"$f":"Раздел3!G16","v":0},{"$f":"Раздел3!H16","v":0},{"$f":"SUM(Раздел5!D17:AY17)","v":0}]
[null,"в том числе:\nБаскетбол (муж.)","13",11,0,408,30,179,192,7,0,0,328,80,0,0,0,0,0,0,null,{"$f":"Раздел3!D17","v":0},{"$f":"Раздел3!E17","v":0},{"$f":"Раздел3!F17","v":0},{"$f":"Раздел3!G17","v":0},{"$f":"Раздел3!H17","v":0},{"$f":"SUM(Раздел5!D18:AY18)","v":0}]
[null,"Баскетбол (жен.)","14",9,0,258,30,137,91,0,0,0,195,63,0,0,258,0,0,0,null,{"$f":"Раздел3!D18","v":0},{"$f":"Раздел3!E18","v":0},{"$f":"Раздел3!F18","v":0},{"$f":"Раздел3!G18","v":0},{"$f":"Раздел3!H18","v":0},{"$f":"SUM(Раздел5!D19:AY19)","v":0}]
[null,"Бейсбол","15",0,0,0,0,0,0,0,0,0,0,0,0,0,0,0,0,0,null,{"$f":"Раздел3!D19","v":333},{"$f":"Раздел3!E19","v":190},{"$f":"Раздел3!F19","v":136},{"$f":"Раздел3!G19","v":7},{"$f":"Раздел3!H19","v":0},{"$f":"SUM(Раздел5!D20:AY20)","v":0}]
[null,"Биатлон","16",0,0,0,0,0,0,0,0,0,0,0,0,0,0,0,0,0,null,{"$f":"Раздел3!D20","v":213},{"$f":"Раздел3!E20","v":110},{"$f":"Раздел3!F20","v":96},{"$f":"Раздел3!G20","v":7},{"$f":"Раздел3!H20","v":0},{"$f":"SUM(Раздел5!D21:AY21)","v":0}]
[null,"Бильярдный спорт","17",0,0,0,0,0,0,0,0,0,0,0,0,0,0,0,0,0,null,{"$f":"Раздел3!D21","v":120},{"$f":"Раздел3!E21","v":80},{"$f":"Раздел3!F21","v":40},{"$f":"Раздел3!G21","v":0},{"$f":"Раздел3!H21","v":0},{"$f":"SUM(Раздел5!D22:AY22)","v":0}]
[null,"Бобслей - всего","18",0,0,0,0,0,0,0,0,0,0,0,0,0,0,0,0,0,null,{"$f":"Раздел3!D22","v":0},{"$f":"Раздел3!E22","v":0},{"$f":"Раздел3!F22","v":0},{"$f":"Раздел3!G22","v":0},{"$f":"Раздел3!H22","v":0},{"$f":"SUM(Раздел5!D23:AY23)","v":0}]
[null,"в том числе:\nБобслей","19",0,0,0,0,0,0,0,0,0,0,0,0,0,0,0,0,0,null,{"$f":"Раздел3!D23","v":0},{"$f":"Раздел3!E23","v":0},{"$f":"Раздел3!F23","v":0},{"$f":"Раздел3!G23","v":0},{"$f":"Раздел3!H23","v":0},{"$f":"SUM(Раздел5!D24:AY24)","v":0}]
[null,"Скелетон","20",0,0,0,0,0,0,0,0,0,0,0,0,0,0,0,0,0,null,{"$f":"Раздел3!D24","v":0},{"$f":"Раздел3!E24","v":0},{"$f":"Раздел3!F24","v":0},{"$f":"Раздел3!G24","v":0},{"$f":"Раздел3!H24","v":0},{"$f":"SUM(Раздел5!D25:AY25)","v":0}]
[null,"Бодибилдинг","21",0,0,0,0,0,0,0,0,0,0,0,0,0,0,0,0,0,null,{"$f":"Раздел3!D25","v":0},{"$f":"Раздел3!E25","v":0},{"$f":"Раздел3!F25","v":0},{"$f":"Раздел3!G25","v":0},{"$f":"Раздел3!H25","v":0},{"$f":"SUM(Раздел5!D26:AY26)","v":0}]
[null,"Бокс","22",4,0,243,15,145,74,6,3,0,187,51,5,0,0,1,0,149,null,{"$f":"Раздел3!D26","v":0},{"$f":"Раздел3!E26","v":0},{"$f":"Раздел3!F26","v":0},{"$f":"Раздел3!G26","v":0},{"$f":"Раздел3!H26","v":0},{"$f":"SUM(Раздел5!D27:AY27)","v":0}]
[null,"Борьба на поясах","23",0,0,0,0,0,0,0,0,0,0,0,0,0,0,0,0,0,null,{"$f":"Раздел3!D27","v":0},{"$f":"Раздел3!E27","v":0},{"$f":"Раздел3!F27","v":0},{"$f":"Раздел3!G27","v":0},{"$f":"Раздел3!H27","v":0},{"$f":"SUM(Раздел5!D28:AY28)","v":0}]
[null,"Боулинг","24",0,0,0,0,0,0,0,0,0,0,0,0,0,0,0,0,0,null,{"$f":"Раздел3!D28","v":0},{"$f":"Раздел3!E28","v":0},{"$f":"Раздел3!F28","v":0},{"$f":"Раздел3!G28","v":0},{"$f":"Раздел3!H28","v":0},{"$f":"SUM(Раздел5!D29:AY29)","v":0}]
[null,"Велоспорт ВМХ","25",0,0,0,0,0,0,0,0,0,0,0,0,0,0,0,0,0,null,{"$f":"Раздел3!D29","v":149},{"$f":"Раздел3!E29","v":103},{"$f":"Раздел3!F29","v":46},{"$f":"Раздел3!G29","v":0},{"$f":"Раздел3!H29","v":0},{"$f":"SUM(Раздел5!D30:AY30)","v":0}]
[null,"Велоспорт – маунтинбайк","26",0,0,0,0,0,0,0,0,0,0,0,0,0,0,0,0,0,null,{"$f":"Раздел3!D30","v":0},{"$f":"Раздел3!E30","v":0},{"$f":"Раздел3!F30","v":0},{"$f":"Раздел3!G30","v":0},{"$f":"Раздел3!H30","v":0},{"$f":"SUM(Раздел5!D31:AY31)","v":0}]
[null,"Велоспорт – трек","27",0,0,0,0,0,0,0,0,0,0,0,0,0,0,0,0,0,null,{"$f":"Раздел3!D31","v":0},{"$f":"Раздел3!E31","v":0},{"$f":"Раздел3!F31","v":0},{"$f":"Раздел3!G31","v":0},{"$f":"Раздел3!H31","v":0},{"$f":"SUM(Раздел5!D32:AY32)","v":0}]
[null,"Велоспорт – шоссе","28",1,1,428,0,236,164,20,8,0,375,49,4,0,187,16,0,0,null,{"$f":"Раздел3!D32","v":0},{"$f":"Раздел3!E32","v":0},{"$f":"Раздел3!F32","v":0},{"$f":"Раздел3!G32","v":0},{"$f":"Раздел3!H32","v":0},{"$f":"SUM(Раздел5!D33:AY33)","v":0}]
[null,"Вертолетный спорт","29",0,0,0,0,0,0,0,0,0,0,0,0,0,0,0,0,0,null,{"$f":"Раздел3!D33","v":0},{"$f":"Раздел3!E33","v":0},{"$f":"Раздел3!F33","v":0},{"$f":"Раздел3!G33","v":0},{"$f":"Раздел3!H33","v":0},{"$f":"SUM(Раздел5!D34:AY34)","v":0}]
[null,"Водно-моторный спорт","30",0,0,0,0,0,0,0,0,0,0,0,0,0,0,0,0,0,null,{"$f":"Раздел3!D34","v":0},{"$f":"Раздел3!E34","v":0},{"$f":"Раздел3!F34","v":0},{"$f":"Раздел3!G34","v":0},{"$f":"Раздел3!H34","v":0},{"$f":"SUM(Раздел5!D35:AY35)","v":0}]
[null,"Водное поло - всего ","31",0,0,0,0,0,0,0,0,0,0,0,0,0,0,0,0,0,null,{"$f":"Раздел3!D35","v":428},{"$f":"Раздел3!E35","v":236},{"$f":"Раздел3!F35","v":164},{"$f":"Раздел3!G35","v":20},{"$f":"Раздел3!H35","v":8},{"$f":"SUM(Раздел5!D36:AY36)","v":5}]
[null,"в том числе:\nВодное поло (муж.)","32",0,0,0,0,0,0,0,0,0,0,0,0,0,0,0,0,0,null,{"$f":"Раздел3!D36","v":0},{"$f":"Раздел3!E36","v":0},{"$f":"Раздел3!F36","v":0},{"$f":"Раздел3!G36","v":0},{"$f":"Раздел3!H36","v":0},{"$f":"SUM(Раздел5!D37:AY37)","v":0}]
[null,"Водное поло (жен.)","33",0,0,0,0,0,0,0,0,0,0,0,0,0,0,0,0,0,null,{"$f":"Раздел3!D37","v":0},{"$f":"Раздел3!E37","v":0},{"$f":"Раздел3!F37","v":0},{"$f":"Раздел3!G37","v":0},{"$f":"Раздел3!H37","v":0},{"$f":"SUM(Раздел5!D38:AY38)","v":0}]
[null,"Воднолыжный спорт","34",0,0,0,0,0,0,0,0,0,0,0,0,0,0,0,0,0,null,{"$f":"Раздел3!D38","v":0},{"$f":"Раздел3!E38","v":0},{"$f":"Раздел3!F38","v":0},{"$f":"Раздел3!G38","v":0},{"$f":"Раздел3!H38","v":0},{"$f":"SUM(Раздел5!D39:AY39)","v":0}]
[null,"Военно-прикладной спорт","35",0,0,0,0,0,0,0,0,0,0,0,0,0,0,0,0,0]
[null,"Военно-спортивное многоборье","36",0,0,0,0,0,0,0,0,0,0,0,0,0,0,0,0,0]
[null,"Воздухоплавательный спорт","37",0,0,0,0,0,0,0,0,0,0,0,0,0,0,0,0,0,null,{"$f":"Раздел3!D39","v":0},{"$f":"Раздел3!E39","v":0},{"$f":"Раздел3!F39","v":0},{"$f":"Раздел3!G39","v":0},{"$f":"Раздел3!H39","v":0},{"$f":"SUM(Раздел5!D40:AY40)","v":0}]
[null,"Волейбол - всего","38",12,0,1747,264,932,539,12,0,0,1545,202,0,0,983,0,0,626,null,{"$f":"Раздел3!D40","v":0},{"$f":"Раздел3!E40","v":0},{"$f":"Раздел3!F40","v":0},{"$f":"Раздел3!G40","v":0},{"$f":"Раздел3!H40","v":0},{"$f":"SUM(Раздел5!D41:AY41)","v":0}]
[null,"в том числе:\nВолейбол (муж.)","39",8,0,724,128,381,203,12,0,0,644,80,0,0,0,0,0,312,null,{"$f":"Раздел3!D41","v":0},{"$f":"Раздел3!E41","v":0},{"$f":"Раздел3!F41","v":0},{"$f":"Раздел3!G41","v":0},{"$f":"Раздел3!H41","v":0},{"$f":"SUM(Раздел5!D42:AY42)","v":0}]
[null,"Волейбол (жен.)","40",12,0,948,136,506,306,0,0,0,836,112,0,0,948,0,0,239,null,{"$f":"Раздел3!D42","v":0},{"$f":"Раздел3!E42","v":0},{"$f":"Раздел3!F42","v":0},{"$f":"Раздел3!G42","v":0},{"$f":"Раздел3!H42","v":0},{"$f":"SUM(Раздел5!D43:AY43)","v":0}]
[null,"Пляжный волейбол (муж.)","41",1,0,40,0,30,10,0,0,0,40,0,0,0,0,0,0,40,null,{"$f":"Раздел3!D43","v":0},{"$f":"Раздел3!E43","v":0},{"$f":"Раздел3!F43","v":0},{"$f":"Раздел3!G43","v":0},{"$f":"Раздел3!H43","v":0},{"$f":"SUM(Раздел5!D44:AY44)","v":0}]
[null,"Пляжный волейбол (жен.)","42",1,0,35,0,15,20,0,0,0,25,10,0,0,35,0,0,35,null,{"$f":"Раздел3!D44","v":0},{"$f":"Раздел3!E44","v":0},{"$f":"Раздел3!F44","v":0},{"$f":"Раздел3!G44","v":0},{"$f":"Раздел3!H44","v":0},{"$f":"SUM(Раздел5!D45:AY45)","v":0}]
[null,"Восточное боевое единоборство","43",0,0,0,0,0,0,0,0,0,0,0,0,0,0,0,0,0,null,{"$f":"Раздел3!D45","v":786},{"$f":"Раздел3!E45","v":583},{"$f":"Раздел3!F45","v":191},{"$f":"Раздел3!G45","v":12},{"$f":"Раздел3!H45","v":0},{"$f":"SUM(Раздел5!D46:AY46)","v":0}]
[null,"Всестилевое карате","44",0,0,0,0,0,0,0,0,0,0,0,0,0,0,0,0,0,null,{"$f":"Раздел3!D46","v":358},{"$f":"Раздел3!E46","v":264},{"$f":"Раздел3!F46","v":82},{"$f":"Раздел3!G46","v":12},{"$f":"Раздел3!H46","v":0},{"$f":"SUM(Раздел5!D47:AY47)","v":0}]
[null,"Гандбол - всего","45",2,1,476,0,383,55,31,7,0,450,16,6,4,435,0,0,450,null,{"$f":"Раздел3!D47","v":353},{"$f":"Раздел3!E47","v":274},{"$f":"Раздел3!F47","v":79},{"$f":"Раздел3!G47","v":0},{"$f":"Раздел3!H47","v":0},{"$f":"SUM(Раздел5!D48:AY48)","v":0}]
[null,"в том числе:\nГандбол (муж.)","46",1,0,41,0,41,0,0,0,0,41,0,0,0,0,0,0,41,null,{"$f":"Раздел3!D48","v":40},{"$f":"Раздел3!E48","v":30},{"$f":"Раздел3!F48","v":10},{"$f":"Раздел3!G48","v":0},{"$f":"Раздел3!H48","v":0},{"$f":"SUM(Раздел5!D49:AY49)","v":0}]
[null,"Гандбол (жен.)","47",2,1,435,0,342,55,31,7,0,409,16,6,4,435,0,0,409,null,{"$f":"Раздел3!D49","v":35},{"$f":"Раздел3!E49","v":15},{"$f":"Раздел3!F49","v":20},{"$f":"Раздел3!G49","v":0},{"$f":"Раздел3!H49","v":0},{"$f":"SUM(Раздел5!D50:AY50)","v":0}]
[null,"Пляжный гандбол","48",0,0,0,0,0,0,0,0,0,0,0,0,0,0,0,0,0]
[null,"Гиревой спорт","49",0,0,0,0,0,0,0,0,0,0,0,0,0,0,0,0,0,null,{"$f":"Раздел3!D50","v":0},{"$f":"Раздел3!E50","v":0},{"$f":"Раздел3!F50","v":0},{"$f":"Раздел3!G50","v":0},{"$f":"Раздел3!H50","v":0},{"$f":"SUM(Раздел5!D51:AY51)","v":0}]
[null,"Го","50",0,0,0,0,0,0,0,0,0,0,0,0,0,0,0,0,0,null,{"$f":"Раздел3!D51","v":0},{"$f":"Раздел3!E51","v":0},{"$f":"Раздел3!F51","v":0},{"$f":"Раздел3!G51","v":0},{"$f":"Раздел3!H51","v":0},{"$f":"SUM(Раздел5!D52:AY52)","v":0}]
[null,"Гольф","51",0,0,0,0,0,0,0,0,0,0,0,0,0,0,0,0,0,null,{"$f":"Раздел3!D52","v":450},{"$f":"Раздел3!E52","v":383},{"$f":"Раздел3!F52","v":55},{"$f":"Раздел3!G52","v":12},{"$f":"Раздел3!H52","v":0},{"$f":"SUM(Раздел5!D53:AY53)","v":8}]
[null,"Горнолыжный спорт","52",0,0,0,0,0,0,0,0,0,0,0,0,0,0,0,0,0,null,{"$f":"Раздел3!D53","v":41},{"$f":"Раздел3!E53","v":41},{"$f":"Раздел3!F53","v":0},{"$f":"Раздел3!G53","v":0},{"$f":"Раздел3!H53","v":0},{"$f":"SUM(Раздел5!D54:AY54)","v":0}]
[null,"Городошный спорт","53",0,0,0,0,0,0,0,0,0,0,0,0,0,0,0,0,0,null,{"$f":"Раздел3!D54","v":409},{"$f":"Раздел3!E54","v":342},{"$f":"Раздел3!F54","v":55},{"$f":"Раздел3!G54","v":12},{"$f":"Раздел3!H54","v":0},{"$f":"SUM(Раздел5!D55:AY55)","v":8}]
[null,"Гребля на байдарках и каноэ","54",0,0,0,0,0,0,0,0,0,0,0,0,0,0,0,0,0,null,{"$f":"Раздел3!D55","v":0},{"$f":"Раздел3!E55","v":0},{"$f":"Раздел3!F55","v":0},{"$f":"Раздел3!G55","v":0},{"$f":"Раздел3!H55","v":0},{"$f":"SUM(Раздел5!D56:AY56)","v":0}]
[null,"Гребля на шлюпках","55",0,0,0,0,0,0,0,0,0,0,0,0,0,0,0,0,0]
[null,"Гребной слалом","56",0,0,0,0,0,0,0,0,0,0,0,0,0,0,0,0,0,null,{"$f":"Раздел3!D56","v":0},{"$f":"Раздел3!E56","v":0},{"$f":"Раздел3!F56","v":0},{"$f":"Раздел3!G56","v":0},{"$f":"Раздел3!H56","v":0},{"$f":"SUM(Раздел5!D57:AY57)","v":0}]
[null,"Гребной спорт - всего","57",0,0,0,0,0,0,0,0,0,0,0,0,0,0,0,0,0,null,{"$f":"Раздел3!D57","v":0},{"$f":"Раздел3!E57","v":0},{"$f":"Раздел3!F57","v":0},{"$f":"Раздел3!G57","v":0},{"$f":"Раздел3!H57","v":0},{"$f":"SUM(Раздел5!D58:AY58)","v":0}]
[null,"в том числе:\nАкадемическая гребля","58",0,0,0,0,0,0,0,0,0,0,0,0,0,0,0,0,0,null,{"$f":"Раздел3!D58","v":0},{"$f":"Раздел3!E58","v":0},{"$f":"Раздел3!F58","v":0},{"$f":"Раздел3!G58","v":0},{"$f":"Раздел3!H58","v":0},{"$f":"SUM(Раздел5!D59:AY59)","v":0}]
[null,"Гребля-индор","59",0,0,0,0,0,0,0,0,0,0,0,0,0,0,0,0,0,null,{"$f":"Раздел3!D59","v":0},{"$f":"Раздел3!E59","v":0},{"$f":"Раздел3!F59","v":0},{"$f":"Раздел3!G59","v":0},{"$f":"Раздел3!H59","v":0},{"$f":"SUM(Раздел5!D60:AY60)","v":0}]
[null,"Народная гребля","60",0,0,0,0,0,0,0,0,0,0,0,0,0,0,0,0,0,null,{"$f":"Раздел3!D60","v":0},{"$f":"Раздел3!E60","v":0},{"$f":"Раздел3!F60","v":0},{"$f":"Раздел3!G60","v":0},{"$f":"Раздел3!H60","v":0},{"$f":"SUM(Раздел5!D61:AY61)","v":0}]
[null,"Прибрежная гребля","61",0,0,0,0,0,0,0,0,0,0,0,0,0,0,0,0,0,null,{"$f":"Раздел3!D61","v":0},{"$f":"Раздел3!E61","v":0},{"$f":"Раздел3!F61","v":0},{"$f":"Раздел3!G61","v":0},{"$f":"Раздел3!H61","v":0},{"$f":"SUM(Раздел5!D62:AY62)","v":0}]
[null,"Гребно-парусное двоеборье","62",0,0,0,0,0,0,0,0,0,0,0,0,0,0,0,0,0,null,{"$f":"Раздел3!D62","v":0},{"$f":"Раздел3!E62","v":0},{"$f":"Раздел3!F62","v":0},{"$f":"Раздел3!G62","v":0},{"$f":"Раздел3!H62","v":0},{"$f":"SUM(Раздел5!D63:AY63)","v":0}]
[null,"Дартс","63",0,0,0,0,0,0,0,0,0,0,0,0,0,0,0,0,0,null,{"$f":"Раздел3!D63","v":0},{"$f":"Раздел3!E63","v":0},{"$f":"Раздел3!F63","v":0},{"$f":"Раздел3!G63","v":0},{"$f":"Раздел3!H63","v":0},{"$f":"SUM(Раздел5!D64:AY64)","v":0}]
[null,"Джиу-джитсу","64",0,0,0,0,0,0,0,0,0,0,0,0,0,0,0,0,0,null,{"$f":"Раздел3!D64","v":0},{"$f":"Раздел3!E64","v":0},{"$f":"Раздел3!F64","v":0},{"$f":"Раздел3!G64","v":0},{"$f":"Раздел3!H64","v":0},{"$f":"SUM(Раздел5!D65:AY65)","v":0}]
[null,"Дзюдо","65",11,1,1342,60,512,682,67,21,0,1037,262,43,0,122,10,0,0,null,{"$f":"Раздел3!D65","v":0},{"$f":"Раздел3!E65","v":0},{"$f":"Раздел3!F65","v":0},{"$f":"Раздел3!G65","v":0},{"$f":"Раздел3!H65","v":0},{"$f":"SUM(Раздел5!D66:AY66)","v":0}]
[null,"Ездовой спорт","66",0,0,0,0,0,0,0,0,0,0,0,0,0,0,0,0,0,null,{"$f":"Раздел3!D66","v":0},{"$f":"Раздел3!E66","v":0},{"$f":"Раздел3!F66","v":0},{"$f":"Раздел3!G66","v":0},{"$f":"Раздел3!H66","v":0},{"$f":"SUM(Раздел5!D67:AY67)","v":0}]
[null,"Капоэйра","67",0,0,0,0,0,0,0,0,0,0,0,0,0,0,0,0,0,null,{"$f":"Раздел3!D67","v":0},{"$f":"Раздел3!E67","v":0},{"$f":"Раздел3!F67","v":0},{"$f":"Раздел3!G67","v":0},{"$f":"Раздел3!H67","v":0},{"$f":"SUM(Раздел5!D68:AY68)","v":0}]
[null,"Каратэ","68",1,0,99,0,83,16,0,0,0,82,14,2,1,17,0,0,0,null,{"$f":"Раздел3!D68","v":0},{"$f":"Раздел3!E68","v":0},{"$f":"Раздел3!F68","v":0},{"$f":"Раздел3!G68","v":0},{"$f":"Раздел3!H68","v":0},{"$f":"SUM(Раздел5!D69:AY69)","v":0}]
[null,"Кендо","69",0,0,0,0,0,0,0,0,0,0,0,0,0,0,0,0,0,null,{"$f":"Раздел3!D69","v":0},{"$f":"Раздел3!E69","v":0},{"$f":"Раздел3!F69","v":0},{"$f":"Раздел3!G69","v":0},{"$f":"Раздел3!H69","v":0},{"$f":"SUM(Раздел5!D70:AY70)","v":0}]
[null,"Керешу","70",0,0,0,0,0,0,0,0,0,0,0,0,0,0,0,0,0,null,{"$f":"Раздел3!D70","v":0},{"$f":"Раздел3!E70","v":0},{"$f":"Раздел3!F70","v":0},{"$f":"Раздел3!G70","v":0},{"$f":"Раздел3!H70","v":0},{"$f":"SUM(Раздел5!D71:AY71)","v":0}]
[null,"Керлинг - всего","71",0,0,0,0,0,0,0,0,0,0,0,0,0,0,0,0,0,null,{"$f":"Раздел3!D71","v":0},{"$f":"Раздел3!E71","v":0},{"$f":"Раздел3!F71","v":0},{"$f":"Раздел3!G71","v":0},{"$f":"Раздел3!H71","v":0},{"$f":"SUM(Раздел5!D72:AY72)","v":0}]
[null,"в том числе:\nКерлинг (муж.)","72",0,0,0,0,0,0,0,0,0,0,0,0,0,0,0,0,0,null,{"$f":"Раздел3!D72","v":846},{"$f":"Раздел3!E72","v":294},{"$f":"Раздел3!F72","v":510},{"$f":"Раздел3!G72","v":33},{"$f":"Раздел3!H72","v":9},{"$f":"SUM(Раздел5!D73:AY73)","v":7}]
[null,"Керлинг (жен.)","73",0,0,0,0,0,0,0,0,0,0,0,0,0,0,0,0,0,null,{"$f":"Раздел3!D73","v":0},{"$f":"Раздел3!E73","v":0},{"$f":"Раздел3!F73","v":0},{"$f":"Раздел3!G73","v":0},{"$f":"Раздел3!H73","v":0},{"$f":"SUM(Раздел5!D74:AY74)","v":0}]
[null,"Кикбоксинг","74",2,0,118,0,61,40,17,0,0,83,21,14,0,0,2,0,0,null,{"$f":"Раздел3!D74","v":0},{"$f":"Раздел3!E74","v":0},{"$f":"Раздел3!F74","v":0},{"$f":"Раздел3!G74","v":0},{"$f":"Раздел3!H74","v":0},{"$f":"SUM(Раздел5!D75:AY75)","v":0}]
[null,"Кинологический спорт","75",0,0,0,0,0,0,0,0,0,0,0,0,0,0,0,0,0,null,{"$f":"Раздел3!D75","v":99},{"$f":"Раздел3!E75","v":83},{"$f":"Раздел3!F75","v":16},{"$f":"Раздел3!G75","v":0},{"$f":"Раздел3!H75","v":0},{"$f":"SUM(Раздел5!D76:AY76)","v":3}]
[null,"Киокусинкай","76",0,0,0,0,0,0,0,0,0,0,0,0,0,0,0,0,0,null,{"$f":"Раздел3!D76","v":0},{"$f":"Раздел3!E76","v":0},{"$f":"Раздел3!F76","v":0},{"$f":"Раздел3!G76","v":0},{"$f":"Раздел3!H76","v":0},{"$f":"SUM(Раздел5!D77:AY77)","v":0}]
[null,"Комплексное единоборство","77",0,0,0,0,0,0,0,0,0,0,0,0,0,0,0,0,0,null,{"$f":"Раздел3!D77","v":0},{"$f":"Раздел3!E77","v":0},{"$f":"Раздел3!F77","v":0},{"$f":"Раздел3!G77","v":0},{"$f":"Раздел3!H77","v":0},{"$f":"SUM(Раздел5!D78:AY78)","v":0}]
[null,"Компьютерный спорт","78",0,0,0,0,0,0,0,0,0,0,0,0,0,0,0,0,0,null,{"$f":"Раздел3!D78","v":0},{"$f":"Раздел3!E78","v":0},{"$f":"Раздел3!F78","v":0},{"$f":"Раздел3!G78","v":0},{"$f":"Раздел3!H78","v":0},{"$f":"SUM(Раздел5!D79:AY79)","v":0}]
[null,"Конный спорт","79",1,0,124,0,92,26,4,2,0,109,11,3,1,0,0,0,0,null,{"$f":"Раздел3!D79","v":0},{"$f":"Раздел3!E79","v":0},{"$f":"Раздел3!F79","v":0},{"$f":"Раздел3!G79","v":0},{"$f":"Раздел3!H79","v":0},{"$f":"SUM(Раздел5!D80:AY80)","v":0}]
[null,"Конькобежный спорт - всего","80",0,0,0,0,0,0,0,0,0,0,0,0,0,0,0,0,0,null,{"$f":"Раздел3!D80","v":0},{"$f":"Раздел3!E80","v":0},{"$f":"Раздел3!F80","v":0},{"$f":"Раздел3!G80","v":0},{"$f":"Раздел3!H80","v":0},{"$f":"SUM(Раздел5!D81:AY81)","v":0}]
[null,"в том числе:\nКонькобежный спорт","81",0,0,0,0,0,0,0,0,0,0,0,0,0,0,0,0,0,null,{"$f":"Раздел3!D81","v":32},{"$f":"Раздел3!E81","v":13},{"$f":"Раздел3!F81","v":12},{"$f":"Раздел3!G81","v":7},{"$f":"Раздел3!H81","v":0},{"$f":"SUM(Раздел5!D82:AY82)","v":3}]
[null,"Шорт-трек","82",0,0,0,0,0,0,0,0,0,0,0,0,0,0,0,0,0,null,{"$f":"Раздел3!D82","v":0},{"$f":"Раздел3!E82","v":0},{"$f":"Раздел3!F82","v":0},{"$f":"Раздел3!G82","v":0},{"$f":"Раздел3!H82","v":0},{"$f":"SUM(Раздел5!D83:AY83)","v":0}]
[null,"Корэш","83",0,0,0,0,0,0,0,0,0,0,0,0,0,0,0,0,0,null,{"$f":"Раздел3!D83","v":0},{"$f":"Раздел3!E83","v":0},{"$f":"Раздел3!F83","v":0},{"$f":"Раздел3!G83","v":0},{"$f":"Раздел3!H83","v":0},{"$f":"SUM(Раздел5!D84:AY84)","v":0}]
[null,"Корфбол","84",0,0,0,0,0,0,0,0,0,0,0,0,0,0,0,0,0,null,{"$f":"Раздел3!D84","v":0},{"$f":"Раздел3!E84","v":0},{"$f":"Раздел3!F84","v":0},{"$f":"Раздел3!G84","v":0},{"$f":"Раздел3!H84","v":0},{"$f":"SUM(Раздел5!D85:AY85)","v":0}]
[null,"Лапта","85",0,0,0,0,0,0,0,0,0,0,0,0,0,0,0,0,0,null,{"$f":"Раздел3!D85","v":0},{"$f":"Раздел3!E85","v":0},{"$f":"Раздел3!F85","v":0},{"$f":"Раздел3!G85","v":0},{"$f":"Раздел3!H85","v":0},{"$f":"SUM(Раздел5!D86:AY86)","v":0}]
[null,"Легкая атлетика - всего","86",6,1,549,70,299,148,31,1,0,434,108,7,0,289,2,0,305,null,{"$f":"Раздел3!D86","v":32},{"$f":"Раздел3!E86","v":0},{"$f":"Раздел3!F86","v":26},{"$f":"Раздел3!G86","v":4},{"$f":"Раздел3!H86","v":2},{"$f":"SUM(Раздел5!D87:AY87)","v":1}]
[null,"в том числе:\nСпринтерский и барьерный бег","87",4,1,234,30,112,81,11,0,0,188,44,2,0,133,0,0,143,null,{"$f":"Раздел3!D87","v":0},{"$f":"Раздел3!E87","v":0},{"$f":"Раздел3!F87","v":0},{"$f":"Раздел3!G87","v":0},{"$f":"Раздел3!H87","v":0},{"$f":"SUM(Раздел5!D88:AY88)","v":0}]
[null,"Бег на средние дистанции и бег с препятствиями","88",2,0,107,0,63,37,7,0,0,79,28,0,0,56,0,0,105,null,{"$f":"Раздел3!D88","v":0},{"$f":"Раздел3!E88","v":0},{"$f":"Раздел3!F88","v":0},{"$f":"Раздел3!G88","v":0},{"$f":"Раздел3!H88","v":0},{"$f":"SUM(Раздел5!D89:AY89)","v":0}]
[null,"Бег на длинные и сверхдлинные дистанции","89",1,0,8,0,0,8,0,0,0,0,8,0,0,8,0,0,0,null,{"$f":"Раздел3!D89","v":0},{"$f":"Раздел3!E89","v":0},{"$f":"Раздел3!F89","v":0},{"$f":"Раздел3!G89","v":0},{"$f":"Раздел3!H89","v":0},{"$f":"SUM(Раздел5!D90:AY90)","v":0}]
[null,"Многоборья","90",3,0,140,25,81,22,11,1,0,120,16,4,0,84,2,0,28,null,{"$f":"Раздел3!D90","v":0},{"$f":"Раздел3!E90","v":0},{"$f":"Раздел3!F90","v":0},{"$f":"Раздел3!G90","v":0},{"$f":"Раздел3!H90","v":0},{"$f":"SUM(Раздел5!D91:AY91)","v":0}]
[null,"Прыжки","91",1,0,14,0,14,0,0,0,0,14,0,0,0,0,0,0,0,null,{"$f":"Раздел3!D91","v":0},{"$f":"Раздел3!E91","v":0},{"$f":"Раздел3!F91","v":0},{"$f":"Раздел3!G91","v":0},{"$f":"Раздел3!H91","v":0},{"$f":"SUM(Раздел5!D92:AY92)","v":0}]
[null,"Метания","92",3,0,46,15,29,0,2,0,0,33,12,1,0,8,0,0,29,null,{"$f":"Раздел3!D92","v":0},{"$f":"Раздел3!E92","v":0},{"$f":"Раздел3!F92","v":0},{"$f":"Раздел3!G92","v":0},{"$f":"Раздел3!H92","v":0},{"$f":"SUM(Раздел5!D93:AY93)","v":0}]
[null,"Спортивная ходьба","93",0,0,0,0,0,0,0,0,0,0,0,0,0,0,0,0,0,null,{"$f":"Раздел3!D93","v":320},{"$f":"Раздел3!E93","v":186},{"$f":"Раздел3!F93","v":116},{"$f":"Раздел3!G93","v":18},{"$f":"Раздел3!H93","v":0},{"$f":"SUM(Раздел5!D94:AY94)","v":1}]
[null,"Лыжное двоеборье","94",0,0,0,0,0,0,0,0,0,0,0,0,0,0,0,0,0,null,{"$f":"Раздел3!D94","v":158},{"$f":"Раздел3!E94","v":80},{"$f":"Раздел3!F94","v":71},{"$f":"Раздел3!G94","v":7},{"$f":"Раздел3!H94","v":0},{"$f":"SUM(Раздел5!D95:AY95)","v":1}]
[null,"Лыжные гонки","95",0,0,0,0,0,0,0,0,0,0,0,0,0,0,0,0,0,null,{"$f":"Раздел3!D95","v":105},{"$f":"Раздел3!E95","v":63},{"$f":"Раздел3!F95","v":37},{"$f":"Раздел3!G95","v":5},{"$f":"Раздел3!H95","v":0},{"$f":"SUM(Раздел5!D96:AY96)","v":0}]
[null,"Мас-рестлинг","96",0,0,0,0,0,0,0,0,0,0,0,0,0,0,0,0,0,null,{"$f":"Раздел3!D96","v":0},{"$f":"Раздел3!E96","v":0},{"$f":"Раздел3!F96","v":0},{"$f":"Раздел3!G96","v":0},{"$f":"Раздел3!H96","v":0},{"$f":"SUM(Раздел5!D97:AY97)","v":0}]
[null,"Международное военно-спортивное многоборье","97",0,0,0,0,0,0,0,0,0,0,0,0,0,0,0,0,0,null,{"$f":"Раздел3!D97","v":28},{"$f":"Раздел3!E97","v":14},{"$f":"Раздел3!F97","v":8},{"$f":"Раздел3!G97","v":6},{"$f":"Раздел3!H97","v":0},{"$f":"SUM(Раздел5!D98:AY98)","v":0}]
[null,"Многоборье кинологов","98",0,0,0,0,0,0,0,0,0,0,0,0,0,0,0,0,0,null,{"$f":"Раздел3!D98","v":0},{"$f":"Раздел3!E98","v":0},{"$f":"Раздел3!F98","v":0},{"$f":"Раздел3!G98","v":0},{"$f":"Раздел3!H98","v":0},{"$f":"SUM(Раздел5!D99:AY99)","v":0}]
[null,"Многоборье спасателей МЧС России","99",0,0,0,0,0,0,0,0,0,0,0,0,0,0,0,0,0,null,{"$f":"Раздел3!D99","v":29},{"$f":"Раздел3!E99","v":29},{"$f":"Раздел3!F99","v":0},{"$f":"Раздел3!G99","v":0},{"$f":"Раздел3!H99","v":0},{"$f":"SUM(Раздел5!D100:AY100)","v":0}]
[null,"Морское многоборье","100",0,0,0,0,0,0,0,0,0,0,0,0,0,0,0,0,0,null,{"$f":"Раздел3!D100","v":0},{"$f":"Раздел3!E100","v":0},{"$f":"Раздел3!F100","v":0},{"$f":"Раздел3!G100","v":0},{"$f":"Раздел3!H100","v":0},{"$f":"SUM(Раздел5!D101:AY101)","v":0}]
[null,"Мотоциклетный спорт","101",0,0,0,0,0,0,0,0,0,0,0,0,0,0,0,0,0,null,{"$f":"Раздел3!D101","v":0},{"$f":"Раздел3!E101","v":0},{"$f":"Раздел3!F101","v":0},{"$f":"Раздел3!G101","v":0},{"$f":"Раздел3!H101","v":0},{"$f":"SUM(Раздел5!D102:AY102)","v":0}]
[null,"Настольный теннис","102",10,0,689,75,423,185,6,0,0,536,145,8,0,279,0,0,0,null,{"$f":"Раздел3!D102","v":0},{"$f":"Раздел3!E102","v":0},{"$f":"Раздел3!F102","v":0},{"$f":"Раздел3!G102","v":0},{"$f":"Раздел3!H102","v":0},{"$f":"SUM(Раздел5!D103:AY103)","v":0}]
[null,"Парашютный спорт","103",0,0,0,0,0,0,0,0,0,0,0,0,0,0,0,0,0,null,{"$f":"Раздел3!D103","v":0},{"$f":"Раздел3!E103","v":0},{"$f":"Раздел3!F103","v":0},{"$f":"Раздел3!G103","v":0},{"$f":"Раздел3!H103","v":0},{"$f":"SUM(Раздел5!D104:AY104)","v":0}]
[null,"Парусный спорт","104",0,0,0,0,0,0,0,0,0,0,0,0,0,0,0,0,0,null,{"$f":"Раздел3!D104","v":0},{"$f":"Раздел3!E104","v":0},{"$f":"Раздел3!F104","v":0},{"$f":"Раздел3!G104","v":0},{"$f":"Раздел3!H104","v":0},{"$f":"SUM(Раздел5!D105:AY105)","v":0}]
[null,"Пауэрлифтинг","105",0,0,0,0,0,0,0,0,0,0,0,0,0,0,0,0,0,null,{"$f":"Раздел3!D105","v":0},{"$f":"Раздел3!E105","v":0},{"$f":"Раздел3!F105","v":0},{"$f":"Раздел3!G105","v":0},{"$f":"Раздел3!H105","v":0},{"$f":"SUM(Раздел5!D106:AY106)","v":0}]
[null,"Перетягивание каната","106",0,0,0,0,0,0,0,0,0,0,0,0,0,0,0,0,0,null,{"$f":"Раздел3!D106","v":0},{"$f":"Раздел3!E106","v":0},{"$f":"Раздел3!F106","v":0},{"$f":"Раздел3!G106","v":0},{"$f":"Раздел3!H106","v":0},{"$f":"SUM(Раздел5!D107:AY107)","v":0}]
[null,"Петанк","107",0,0,0,0,0,0,0,0,0,0,0,0,0,0,0,0,0,null,{"$f":"Раздел3!D107","v":0},{"$f":"Раздел3!E107","v":0},{"$f":"Раздел3!F107","v":0},{"$f":"Раздел3!G107","v":0},{"$f":"Раздел3!H107","v":0},{"$f":"SUM(Раздел5!D108:AY108)","v":0}]
[null,"Плавание - всего","108",0,0,0,0,0,0,0,0,0,0,0,0,0,0,0,0,0,null,{"$f":"Раздел3!D108","v":0},{"$f":"Раздел3!E108","v":0},{"$f":"Раздел3!F108","v":0},{"$f":"Раздел3!G108","v":0},{"$f":"Раздел3!H108","v":0},{"$f":"SUM(Раздел5!D109:AY109)","v":0}]
[null,"в том числе:\nПлавание ","109",0,0,0,0,0,0,0,0,0,0,0,0,0,0,0,0,0,null,{"$f":"Раздел3!D109","v":349},{"$f":"Раздел3!E109","v":245},{"$f":"Раздел3!F109","v":98},{"$f":"Раздел3!G109","v":6},{"$f":"Раздел3!H109","v":0},{"$f":"SUM(Раздел5!D110:AY110)","v":0}]
[null,"Открытая вода","110",0,0,0,0,0,0,0,0,0,0,0,0,0,0,0,0,0,null,{"$f":"Раздел3!D110","v":0},{"$f":"Раздел3!E110","v":0},{"$f":"Раздел3!F110","v":0},{"$f":"Раздел3!G110","v":0},{"$f":"Раздел3!H110","v":0},{"$f":"SUM(Раздел5!D111:AY111)","v":0}]
[null,"Планерный спорт","111",0,0,0,0,0,0,0,0,0,0,0,0,0,0,0,0,0,null,{"$f":"Раздел3!D111","v":0},{"$f":"Раздел3!E111","v":0},{"$f":"Раздел3!F111","v":0},{"$f":"Раздел3!G111","v":0},{"$f":"Раздел3!H111","v":0},{"$f":"SUM(Раздел5!D112:AY112)","v":0}]
[null,"Подводный спорт","112",0,0,0,0,0,0,0,0,0,0,0,0,0,0,0,0,0,null,{"$f":"Раздел3!D112","v":0},{"$f":"Раздел3!E112","v":0},{"$f":"Раздел3!F112","v":0},{"$f":"Раздел3!G112","v":0},{"$f":"Раздел3!H112","v":0},{"$f":"SUM(Раздел5!D113:AY113)","v":0}]
[null,"Пожарно-прикладной спорт","113",0,0,0,0,0,0,0,0,0,0,0,0,0,0,0,0,0,null,{"$f":"Раздел3!D113","v":0},{"$f":"Раздел3!E113","v":0},{"$f":"Раздел3!F113","v":0},{"$f":"Раздел3!G113","v":0},{"$f":"Раздел3!H113","v":0},{"$f":"SUM(Раздел5!D114:AY114)","v":0}]
[null,"Полиатлон","114",0,0,0,0,0,0,0,0,0,0,0,0,0,0,0,0,0,null,{"$f":"Раздел3!D114","v":0},{"$f":"Раздел3!E114","v":0},{"$f":"Раздел3!F114","v":0},{"$f":"Раздел3!G114","v":0},{"$f":"Раздел3!H114","v":0},{"$f":"SUM(Раздел5!D115:AY115)","v":0}]
[null,"Практическая стрельба","115",0,0,0,0,0,0,0,0,0,0,0,0,0,0,0,0,0,null,{"$f":"Раздел3!D115","v":0},{"$f":"Раздел3!E115","v":0},{"$f":"Раздел3!F115","v":0},{"$f":"Раздел3!G115","v":0},{"$f":"Раздел3!H115","v":0},{"$f":"SUM(Раздел5!D116:AY116)","v":0}]
[null,"Прыжки в воду - всего","116",0,0,0,0,0,0,0,0,0,0,0,0,0,0,0,0,0,null,{"$f":"Раздел3!D116","v":0},{"$f":"Раздел3!E116","v":0},{"$f":"Раздел3!F116","v":0},{"$f":"Раздел3!G116","v":0},{"$f":"Раздел3!H116","v":0},{"$f":"SUM(Раздел5!D117:AY117)","v":0}]
[null,"в том числе:\nПрыжки в воду","117",0,0,0,0,0,0,0,0,0,0,0,0,0,0,0,0,0,null,{"$f":"Раздел3!D117","v":0},{"$f":"Раздел3!E117","v":0},{"$f":"Раздел3!F117","v":0},{"$f":"Раздел3!G117","v":0},{"$f":"Раздел3!H117","v":0},{"$f":"SUM(Раздел5!D118:AY118)","v":0}]
[null,"Прыжки в открытый водоем","118",0,0,0,0,0,0,0,0,0,0,0,0,0,0,0,0,0,null,{"$f":"Раздел3!D118","v":0},{"$f":"Раздел3!E118","v":0},{"$f":"Раздел3!F118","v":0},{"$f":"Раздел3!G118","v":0},{"$f":"Раздел3!H118","v":0},{"$f":"SUM(Раздел5!D119:AY119)","v":0}]
[null,"Прыжки на батуте - всего","119",2,0,94,0,43,32,17,2,0,89,4,1,0,53,2,0,89,null,{"$f":"Раздел3!D119","v":0},{"$f":"Раздел3!E119","v":0},{"$f":"Раздел3!F119","v":0},{"$f":"Раздел3!G119","v":0},{"$f":"Раздел3!H119","v":0},{"$f":"SUM(Раздел5!D120:AY120)","v":0}]
[null,"в том числе:\nАкробатическая дорожка","120",0,0,0,0,0,0,0,0,0,0,0,0,0,0,0,0,0,null,{"$f":"Раздел3!D120","v":0},{"$f":"Раздел3!E120","v":0},{"$f":"Раздел3!F120","v":0},{"$f":"Раздел3!G120","v":0},{"$f":"Раздел3!H120","v":0},{"$f":"SUM(Раздел5!D121:AY121)","v":0}]
[null,"Двойной минитрамп","121",0,0,0,0,0,0,0,0,0,0,0,0,0,0,0,0,0,null,{"$f":"Раздел3!D121","v":0},{"$f":"Раздел3!E121","v":0},{"$f":"Раздел3!F121","v":0},{"$f":"Раздел3!G121","v":0},{"$f":"Раздел3!H121","v":0},{"$f":"SUM(Раздел5!D122:AY122)","v":0}]
[null,"Индивидуальные прыжки","122",2,0,94,0,43,32,17,2,0,89,4,1,0,53,2,0,89,null,{"$f":"Раздел3!D122","v":0},{"$f":"Раздел3!E122","v":0},{"$f":"Раздел3!F122","v":0},{"$f":"Раздел3!G122","v":0},{"$f":"Раздел3!H122","v":0},{"$f":"SUM(Раздел5!D123:AY123)","v":0}]
[null,"Синхронные прыжки","123",0,0,0,0,0,0,0,0,0,0,0,0,0,0,0,0,0,null,{"$f":"Раздел3!D123","v":0},{"$f":"Раздел3!E123","v":0},{"$f":"Раздел3!F123","v":0},{"$f":"Раздел3!G123","v":0},{"$f":"Раздел3!H123","v":0},{"$f":"SUM(Раздел5!D124:AY124)","v":0}]
[null,"Прыжки на лыжах с трамплина","124",0,0,0,0,0,0,0,0,0,0,0,0,0,0,0,0,0,null,{"$f":"Раздел3!D124","v":0},{"$f":"Раздел3!E124","v":0},{"$f":"Раздел3!F124","v":0},{"$f":"Раздел3!G124","v":0},{"$f":"Раздел3!H124","v":0},{"$f":"SUM(Раздел5!D125:AY125)","v":0}]
[null,"Пулевая стрельба - всего","125",2,1,129,0,60,32,32,5,0,68,53,6,2,35,5,0,0,null,{"$f":"Раздел3!D125","v":0},{"$f":"Раздел3!E125","v":0},{"$f":"Раздел3!F125","v":0},{"$f":"Раздел3!G125","v":0},{"$f":"Раздел3!H125","v":0},{"$f":"SUM(Раздел5!D126:AY126)","v":0}]
[null,"в том числе:\nПневматическая винтовка","126",0,0,0,0,0,0,0,0,0,0,0,0,0,0,0,0,0,null,{"$f":"Раздел3!D126","v":89},{"$f":"Раздел3!E126","v":43},{"$f":"Раздел3!F126","v":32},{"$f":"Раздел3!G126","v":14},{"$f":"Раздел3!H126","v":0},{"$f":"SUM(Раздел5!D127:AY127)","v":0}]
[null,"Пневматический пистолет","127",1,1,106,0,60,32,14,0,0,65,41,0,0,21,0,0,0,null,{"$f":"Раздел3!D127","v":0},{"$f":"Раздел3!E127","v":0},{"$f":"Раздел3!F127","v":0},{"$f":"Раздел3!G127","v":0},{"$f":"Раздел3!H127","v":0},{"$f":"SUM(Раздел5!D128:AY128)","v":0}]
[null,"Малокалиберная винтовка","128",1,0,7,0,0,0,6,1,0,0,5,2,0,4,1,0,0,null,{"$f":"Раздел3!D128","v":0},{"$f":"Раздел3!E128","v":0},{"$f":"Раздел3!F128","v":0},{"$f":"Раздел3!G128","v":0},{"$f":"Раздел3!H128","v":0},{"$f":"SUM(Раздел5!D129:AY129)","v":0}]
[null,"Малокалиберный пистолет","129",1,0,16,0,0,0,12,4,0,3,7,4,2,10,4,0,0,null,{"$f":"Раздел3!D129","v":89},{"$f":"Раздел3!E129","v":43},{"$f":"Раздел3!F129","v":32},{"$f":"Раздел3!G129","v":14},{"$f":"Раздел3!H129","v":0},{"$f":"SUM(Раздел5!D130:AY130)","v":0}]
[null,"Движущаяся мишень","130",0,0,0,0,0,0,0,0,0,0,0,0,0,0,0,0,0,null,{"$f":"Раздел3!D130","v":0},{"$f":"Раздел3!E130","v":0},{"$f":"Раздел3!F130","v":0},{"$f":"Раздел3!G130","v":0},{"$f":"Раздел3!H130","v":0},{"$f":"SUM(Раздел5!D131:AY131)","v":0}]
[null,"Пэйнтбол","131",0,0,0,0,0,0,0,0,0,0,0,0,0,0,0,0,0,null,{"$f":"Раздел3!D131","v":0},{"$f":"Раздел3!E131","v":0},{"$f":"Раздел3!F131","v":0},{"$f":"Раздел3!G131","v":0},{"$f":"Раздел3!H131","v":0},{"$f":"SUM(Раздел5!D132:AY132)","v":0}]
[null,"Радиоспорт","132",0,0,0,0,0,0,0,0,0,0,0,0,0,0,0,0,0,null,{"$f":"Раздел3!D132","v":106},{"$f":"Раздел3!E132","v":60},{"$f":"Раздел3!F132","v":32},{"$f":"Раздел3!G132","v":14},{"$f":"Раздел3!H132","v":0},{"$f":"SUM(Раздел5!D133:AY133)","v":6}]
[null,"Рафтинг","133",0,0,0,0,0,0,0,0,0,0,0,0,0,0,0,0,0,null,{"$f":"Раздел3!D133","v":0},{"$f":"Раздел3!E133","v":0},{"$f":"Раздел3!F133","v":0},{"$f":"Раздел3!G133","v":0},{"$f":"Раздел3!H133","v":0},{"$f":"SUM(Раздел5!D134:AY134)","v":0}]
[null,"Регби - всего","134",0,0,0,0,0,0,0,0,0,0,0,0,0,0,0,0,0,null,{"$f":"Раздел3!D134","v":106},{"$f":"Раздел3!E134","v":60},{"$f":"Раздел3!F134","v":32},{"$f":"Раздел3!G134","v":14},{"$f":"Раздел3!H134","v":0},{"$f":"SUM(Раздел5!D135:AY135)","v":1}]
[null,"в том числе:\nРегби","135",0,0,0,0,0,0,0,0,0,0,0,0,0,0,0,0,0,null,{"$f":"Раздел3!D135","v":0},{"$f":"Раздел3!E135","v":0},{"$f":"Раздел3!F135","v":0},{"$f":"Раздел3!G135","v":0},{"$f":"Раздел3!H135","v":0},{"$f":"SUM(Раздел5!D136:AY136)","v":0}]
[null,"Регби 7 (муж.)","136",0,0,0,0,0,0,0,0,0,0,0,0,0,0,0,0,0,null,{"$f":"Раздел3!D136","v":0},{"$f":"Раздел3!E136","v":0},{"$f":"Раздел3!F136","v":0},{"$f":"Раздел3!G136","v":0},{"$f":"Раздел3!H136","v":0},{"$f":"SUM(Раздел5!D137:AY137)","v":5}]
[null,"Регби 7 (жен.)","137",0,0,0,0,0,0,0,0,0,0,0,0,0,0,0,0,0,null,{"$f":"Раздел3!D137","v":0},{"$f":"Раздел3!E137","v":0},{"$f":"Раздел3!F137","v":0},{"$f":"Раздел3!G137","v":0},{"$f":"Раздел3!H137","v":0},{"$f":"SUM(Раздел5!D138:AY138)","v":0}]
[null,"Регби - пляжное","138",0,0,0,0,0,0,0,0,0,0,0,0,0,0,0,0,0,null,{"$f":"Раздел3!D138","v":0},{"$f":"Раздел3!E138","v":0},{"$f":"Раздел3!F138","v":0},{"$f":"Раздел3!G138","v":0},{"$f":"Раздел3!H138","v":0},{"$f":"SUM(Раздел5!D139:AY139)","v":0}]
[null,"Регбол","139",0,0,0,0,0,0,0,0,0,0,0,0,0,0,0,0,0,null,{"$f":"Раздел3!D139","v":0},{"$f":"Раздел3!E139","v":0},{"$f":"Раздел3!F139","v":0},{"$f":"Раздел3!G139","v":0},{"$f":"Раздел3!H139","v":0},{"$f":"SUM(Раздел5!D140:AY140)","v":0}]
[null,"Роллер спорт","140",0,0,0,0,0,0,0,0,0,0,0,0,0,0,0,0,0,null,{"$f":"Раздел3!D140","v":0},{"$f":"Раздел3!E140","v":0},{"$f":"Раздел3!F140","v":0},{"$f":"Раздел3!G140","v":0},{"$f":"Раздел3!H140","v":0},{"$f":"SUM(Раздел5!D141:AY141)","v":0}]
[null,"Рукопашный бой","141",0,0,0,0,0,0,0,0,0,0,0,0,0,0,0,0,0,null,{"$f":"Раздел3!D141","v":0},{"$f":"Раздел3!E141","v":0},{"$f":"Раздел3!F141","v":0},{"$f":"Раздел3!G141","v":0},{"$f":"Раздел3!H141","v":0},{"$f":"SUM(Раздел5!D142:AY142)","v":0}]
[null,"Рыболовный спорт","142",0,0,0,0,0,0,0,0,0,0,0,0,0,0,0,0,0,null,{"$f":"Раздел3!D142","v":0},{"$f":"Раздел3!E142","v":0},{"$f":"Раздел3!F142","v":0},{"$f":"Раздел3!G142","v":0},{"$f":"Раздел3!H142","v":0},{"$f":"SUM(Раздел5!D143:AY143)","v":0}]
[null,"Сават","143",0,0,0,0,0,0,0,0,0,0,0,0,0,0,0,0,0,null,{"$f":"Раздел3!D143","v":0},{"$f":"Раздел3!E143","v":0},{"$f":"Раздел3!F143","v":0},{"$f":"Раздел3!G143","v":0},{"$f":"Раздел3!H143","v":0},{"$f":"SUM(Раздел5!D144:AY144)","v":0}]
[null,"Самбо","144",9,0,1473,30,609,776,50,8,0,1065,382,22,4,48,9,0,723,null,{"$f":"Раздел3!D144","v":0},{"$f":"Раздел3!E144","v":0},{"$f":"Раздел3!F144","v":0},{"$f":"Раздел3!G144","v":0},{"$f":"Раздел3!H144","v":0},{"$f":"SUM(Раздел5!D145:AY145)","v":0}]
[null,"Самолетный спорт","145",0,0,0,0,0,0,0,0,0,0,0,0,0,0,0,0,0,null,{"$f":"Раздел3!D145","v":0},{"$f":"Раздел3!E145","v":0},{"$f":"Раздел3!F145","v":0},{"$f":"Раздел3!G145","v":0},{"$f":"Раздел3!H145","v":0},{"$f":"SUM(Раздел5!D146:AY146)","v":0}]
[null,"Санный спорт","146",0,0,0,0,0,0,0,0,0,0,0,0,0,0,0,0,0,null,{"$f":"Раздел3!D146","v":0},{"$f":"Раздел3!E146","v":0},{"$f":"Раздел3!F146","v":0},{"$f":"Раздел3!G146","v":0},{"$f":"Раздел3!H146","v":0},{"$f":"SUM(Раздел5!D147:AY147)","v":0}]
[null,"Северное многоборье","147",0,0,0,0,0,0,0,0,0,0,0,0,0,0,0,0,0,null,{"$f":"Раздел3!D147","v":0},{"$f":"Раздел3!E147","v":0},{"$f":"Раздел3!F147","v":0},{"$f":"Раздел3!G147","v":0},{"$f":"Раздел3!H147","v":0},{"$f":"SUM(Раздел5!D148:AY148)","v":0}]
[null,"Серфинг","148",0,0,0,0,0,0,0,0,0,0,0,0,0,0,0,0,0,null,{"$f":"Раздел3!D148","v":0},{"$f":"Раздел3!E148","v":0},{"$f":"Раздел3!F148","v":0},{"$f":"Раздел3!G148","v":0},{"$f":"Раздел3!H148","v":0},{"$f":"SUM(Раздел5!D149:AY149)","v":0}]
[null,"Синхронное плавание","149",0,0,0,0,0,0,0,0,0,0,0,0,0,0,0,0,0,null,{"$f":"Раздел3!D149","v":0},{"$f":"Раздел3!E149","v":0},{"$f":"Раздел3!F149","v":0},{"$f":"Раздел3!G149","v":0},{"$f":"Раздел3!H149","v":0},{"$f":"SUM(Раздел5!D150:AY150)","v":0}]
[null,"Скалолазание","150",1,0,44,0,14,30,0,0,0,44,0,0,0,12,0,0,44,null,{"$f":"Раздел3!D150","v":0},{"$f":"Раздел3!E150","v":0},{"$f":"Раздел3!F150","v":0},{"$f":"Раздел3!G150","v":0},{"$f":"Раздел3!H150","v":0},{"$f":"SUM(Раздел5!D151:AY151)","v":0}]
[null,"Скейтбординг","151",0,0,0,0,0,0,0,0,0,0,0,0,0,0,0,0,0,null,{"$f":"Раздел3!D151","v":949},{"$f":"Раздел3!E151","v":348},{"$f":"Раздел3!F151","v":556},{"$f":"Раздел3!G151","v":37},{"$f":"Раздел3!H151","v":8},{"$f":"SUM(Раздел5!D152:AY152)","v":7}]
[null,"Сквош","152",0,0,0,0,0,0,0,0,0,0,0,0,0,0,0,0,0,null,{"$f":"Раздел3!D152","v":0},{"$f":"Раздел3!E152","v":0},{"$f":"Раздел3!F152","v":0},{"$f":"Раздел3!G152","v":0},{"$f":"Раздел3!H152","v":0},{"$f":"SUM(Раздел5!D153:AY153)","v":0}]
[null,"Служебно-прикладной спорт ФСО России","153",0,0,0,0,0,0,0,0,0,0,0,0,0,0,0,0,0,null,{"$f":"Раздел3!D153","v":0},{"$f":"Раздел3!E153","v":0},{"$f":"Раздел3!F153","v":0},{"$f":"Раздел3!G153","v":0},{"$f":"Раздел3!H153","v":0},{"$f":"SUM(Раздел5!D154:AY154)","v":0}]
[null,"Служебно-прикладной спорт ГФС России","154",0,0,0,0,0,0,0,0,0,0,0,0,0,0,0,0,0,null,{"$f":"Раздел3!D154","v":0},{"$f":"Раздел3!E154","v":0},{"$f":"Раздел3!F154","v":0},{"$f":"Раздел3!G154","v":0},{"$f":"Раздел3!H154","v":0},{"$f":"SUM(Раздел5!D155:AY155)","v":0}]
[null,"Служебно-прикладной спорт ФСКН России","155",0,0,0,0,0,0,0,0,0,0,0,0,0,0,0,0,0,null,{"$f":"Раздел3!D155","v":0},{"$f":"Раздел3!E155","v":0},{"$f":"Раздел3!F155","v":0},{"$f":"Раздел3!G155","v":0},{"$f":"Раздел3!H155","v":0},{"$f":"SUM(Раздел5!D156:AY156)","v":0}]
[null,"Служебно-прикладной спорт ФТС России","156",0,0,0,0,0,0,0,0,0,0,0,0,0,0,0,0,0,null,{"$f":"Раздел3!D156","v":0},{"$f":"Раздел3!E156","v":0},{"$f":"Раздел3!F156","v":0},{"$f":"Раздел3!G156","v":0},{"$f":"Раздел3!H156","v":0},{"$f":"SUM(Раздел5!D157:AY157)","v":0}]
[null,"Служебное двоеборье","157",0,0,0,0,0,0,0,0,0,0,0,0,0,0,0,0,0,null,{"$f":"Раздел3!D157","v":44},{"$f":"Раздел3!E157","v":14},{"$f":"Раздел3!F157","v":30},{"$f":"Раздел3!G157","v":0},{"$f":"Раздел3!H157","v":0},{"$f":"SUM(Раздел5!D158:AY158)","v":0}]
[null,"Служебное единоборство","158",0,0,0,0,0,0,0,0,0,0,0,0,0,0,0,0,0,null,{"$f":"Раздел3!D158","v":0},{"$f":"Раздел3!E158","v":0},{"$f":"Раздел3!F158","v":0},{"$f":"Раздел3!G158","v":0},{"$f":"Раздел3!H158","v":0},{"$f":"SUM(Раздел5!D159:AY159)","v":0}]
[null,"Служебное многоборье","159",0,0,0,0,0,0,0,0,0,0,0,0,0,0,0,0,0,null,{"$f":"Раздел3!D159","v":0},{"$f":"Раздел3!E159","v":0},{"$f":"Раздел3!F159","v":0},{"$f":"Раздел3!G159","v":0},{"$f":"Раздел3!H159","v":0},{"$f":"SUM(Раздел5!D160:AY160)","v":0}]
[null,"Служебное собаководство","160",0,0,0,0,0,0,0,0,0,0,0,0,0,0,0,0,0,null,{"$f":"Раздел3!D160","v":0},{"$f":"Раздел3!E160","v":0},{"$f":"Раздел3!F160","v":0},{"$f":"Раздел3!G160","v":0},{"$f":"Раздел3!H160","v":0},{"$f":"SUM(Раздел5!D161:AY161)","v":0}]
[null,"Служебный биатлон","161",0,0,0,0,0,0,0,0,0,0,0,0,0,0,0,0,0,null,{"$f":"Раздел3!D161","v":0},{"$f":"Раздел3!E161","v":0},{"$f":"Раздел3!F161","v":0},{"$f":"Раздел3!G161","v":0},{"$f":"Раздел3!H161","v":0},{"$f":"SUM(Раздел5!D162:AY162)","v":0}]
[null,"Спасательный спорт","162",0,0,0,0,0,0,0,0,0,0,0,0,0,0,0,0,0,null,{"$f":"Раздел3!D162","v":0},{"$f":"Раздел3!E162","v":0},{"$f":"Раздел3!F162","v":0},{"$f":"Раздел3!G162","v":0},{"$f":"Раздел3!H162","v":0},{"$f":"SUM(Раздел5!D163:AY163)","v":0}]
[null,"Стрельба из боевого ручного стрелкового оружия","163",0,0,0,0,0,0,0,0,0,0,0,0,0,0,0,0,0,null,{"$f":"Раздел3!D163","v":0},{"$f":"Раздел3!E163","v":0},{"$f":"Раздел3!F163","v":0},{"$f":"Раздел3!G163","v":0},{"$f":"Раздел3!H163","v":0},{"$f":"SUM(Раздел5!D164:AY164)","v":0}]
[null,"Стрельба из штатного или табельного оружия","164",0,0,0,0,0,0,0,0,0,0,0,0,0,0,0,0,0,null,{"$f":"Раздел3!D164","v":0},{"$f":"Раздел3!E164","v":0},{"$f":"Раздел3!F164","v":0},{"$f":"Раздел3!G164","v":0},{"$f":"Раздел3!H164","v":0},{"$f":"SUM(Раздел5!D165:AY165)","v":0}]
[null,"Смешанное боевое единоборство (ММА)","165",0,0,0,0,0,0,0,0,0,0,0,0,0,0,0,0,0,null,{"$f":"Раздел3!D165","v":0},{"$f":"Раздел3!E165","v":0},{"$f":"Раздел3!F165","v":0},{"$f":"Раздел3!G165","v":0},{"$f":"Раздел3!H165","v":0},{"$f":"SUM(Раздел5!D166:AY166)","v":0}]
[null,"Сноуборд","166",0,0,0,0,0,0,0,0,0,0,0,0,0,0,0,0,0,null,{"$f":"Раздел3!D166","v":0},{"$f":"Раздел3!E166","v":0},{"$f":"Раздел3!F166","v":0},{"$f":"Раздел3!G166","v":0},{"$f":"Раздел3!H166","v":0},{"$f":"SUM(Раздел5!D167:AY167)","v":0}]
[null,"Современное пятиборье","167",0,0,0,0,0,0,0,0,0,0,0,0,0,0,0,0,0,null,{"$f":"Раздел3!D167","v":0},{"$f":"Раздел3!E167","v":0},{"$f":"Раздел3!F167","v":0},{"$f":"Раздел3!G167","v":0},{"$f":"Раздел3!H167","v":0},{"$f":"SUM(Раздел5!D168:AY168)","v":0}]
[null,"Софтбол","168",0,0,0,0,0,0,0,0,0,0,0,0,0,0,0,0,0,null,{"$f":"Раздел3!D168","v":0},{"$f":"Раздел3!E168","v":0},{"$f":"Раздел3!F168","v":0},{"$f":"Раздел3!G168","v":0},{"$f":"Раздел3!H168","v":0},{"$f":"SUM(Раздел5!D169:AY169)","v":0}]
[null,"Спорт сверхлегкой авиации","169",0,0,0,0,0,0,0,0,0,0,0,0,0,0,0,0,0,null,{"$f":"Раздел3!D169","v":0},{"$f":"Раздел3!E169","v":0},{"$f":"Раздел3!F169","v":0},{"$f":"Раздел3!G169","v":0},{"$f":"Раздел3!H169","v":0},{"$f":"SUM(Раздел5!D170:AY170)","v":0}]
[null,"Спортивная акробатика","170",2,0,132,0,90,42,0,0,15,99,18,0,0,104,0,0,0,null,{"$f":"Раздел3!D170","v":0},{"$f":"Раздел3!E170","v":0},{"$f":"Раздел3!F170","v":0},{"$f":"Раздел3!G170","v":0},{"$f":"Раздел3!H170","v":0},{"$f":"SUM(Раздел5!D171:AY171)","v":0}]
[null,"Спортивная аэробика","171",0,0,0,0,0,0,0,0,0,0,0,0,0,0,0,0,0,null,{"$f":"Раздел3!D171","v":0},{"$f":"Раздел3!E171","v":0},{"$f":"Раздел3!F171","v":0},{"$f":"Раздел3!G171","v":0},{"$f":"Раздел3!H171","v":0},{"$f":"SUM(Раздел5!D172:AY172)","v":0}]
[null,"Спортивная борьба - всего","172",4,0,417,0,265,141,11,0,0,337,61,19,0,4,8,0,0,null,{"$f":"Раздел3!D172","v":0},{"$f":"Раздел3!E172","v":0},{"$f":"Раздел3!F172","v":0},{"$f":"Раздел3!G172","v":0},{"$f":"Раздел3!H172","v":0},{"$f":"SUM(Раздел5!D173:AY173)","v":0}]
[null,"в том числе:\nВольная борьба","173",2,0,81,0,55,26,0,0,0,65,16,0,0,4,1,0,0,null,{"$f":"Раздел3!D173","v":0},{"$f":"Раздел3!E173","v":0},{"$f":"Раздел3!F173","v":0},{"$f":"Раздел3!G173","v":0},{"$f":"Раздел3!H173","v":0},{"$f":"SUM(Раздел5!D174:AY174)","v":0}]
[null,"Греко-римская борьба","174",4,0,336,0,210,115,11,0,0,272,45,19,0,0,7,0,0,null,{"$f":"Раздел3!D174","v":0},{"$f":"Раздел3!E174","v":0},{"$f":"Раздел3!F174","v":0},{"$f":"Раздел3!G174","v":0},{"$f":"Раздел3!H174","v":0},{"$f":"SUM(Раздел5!D175:AY175)","v":0}]
[null,"Грэпплинг","175",0,0,0,0,0,0,0,0,0,0,0,0,0,0,0,0,0,null,{"$f":"Раздел3!D175","v":0},{"$f":"Раздел3!E175","v":0},{"$f":"Раздел3!F175","v":0},{"$f":"Раздел3!G175","v":0},{"$f":"Раздел3!H175","v":0},{"$f":"SUM(Раздел5!D176:AY176)","v":0}]
[null,"Грэпплинг-ги","176",0,0,0,0,0,0,0,0,0,0,0,0,0,0,0,0,0,null,{"$f":"Раздел3!D176","v":0},{"$f":"Раздел3!E176","v":0},{"$f":"Раздел3!F176","v":0},{"$f":"Раздел3!G176","v":0},{"$f":"Раздел3!H176","v":0},{"$f":"SUM(Раздел5!D177:AY177)","v":0}]
[null,"Панкратион","177",0,0,0,0,0,0,0,0,0,0,0,0,0,0,0,0,0,null,{"$f":"Раздел3!D177","v":0},{"$f":"Раздел3!E177","v":0},{"$f":"Раздел3!F177","v":0},{"$f":"Раздел3!G177","v":0},{"$f":"Раздел3!H177","v":0},{"$f":"SUM(Раздел5!D178:AY178)","v":0}]
[null,"Спортивно-прикладное собаководство","178",0,0,0,0,0,0,0,0,0,0,0,0,0,0,0,0,0,null,{"$f":"Раздел3!D178","v":0},{"$f":"Раздел3!E178","v":0},{"$f":"Раздел3!F178","v":0},{"$f":"Раздел3!G178","v":0},{"$f":"Раздел3!H178","v":0},{"$f":"SUM(Раздел5!D179:AY179)","v":0}]
[null,"Спортивная гимнастика","179",1,0,302,0,195,107,0,0,9,288,5,0,0,137,0,0,0,null,{"$f":"Раздел3!D179","v":43},{"$f":"Раздел3!E179","v":15},{"$f":"Раздел3!F179","v":28},{"$f":"Раздел3!G179","v":0},{"$f":"Раздел3!H179","v":0},{"$f":"SUM(Раздел5!D180:AY180)","v":2}]
[null,"Спортивное ориентирование","180",2,0,234,0,226,8,0,0,0,174,60,0,0,64,0,0,0,null,{"$f":"Раздел3!D180","v":10},{"$f":"Раздел3!E180","v":0},{"$f":"Раздел3!F180","v":10},{"$f":"Раздел3!G180","v":0},{"$f":"Раздел3!H180","v":0},{"$f":"SUM(Раздел5!D181:AY181)","v":0}]
[null,"Спортивный бридж","181",0,0,0,0,0,0,0,0,0,0,0,0,0,0,0,0,0,null,{"$f":"Раздел3!D181","v":33},{"$f":"Раздел3!E181","v":15},{"$f":"Раздел3!F181","v":18},{"$f":"Раздел3!G181","v":0},{"$f":"Раздел3!H181","v":0},{"$f":"SUM(Раздел5!D182:AY182)","v":2}]
[null,"Спортивный туризм","182",1,0,50,0,42,8,0,0,0,35,15,0,0,14,0,0,0,null,{"$f":"Раздел3!D182","v":0},{"$f":"Раздел3!E182","v":0},{"$f":"Раздел3!F182","v":0},{"$f":"Раздел3!G182","v":0},{"$f":"Раздел3!H182","v":0},{"$f":"SUM(Раздел5!D183:AY183)","v":0}]
[null,"Стендовая стрельба - всего","183",0,0,0,0,0,0,0,0,0,0,0,0,0,0,0,0,0,null,{"$f":"Раздел3!D183","v":0},{"$f":"Раздел3!E183","v":0},{"$f":"Раздел3!F183","v":0},{"$f":"Раздел3!G183","v":0},{"$f":"Раздел3!H183","v":0},{"$f":"SUM(Раздел5!D184:AY184)","v":0}]
[null,"в том числе:\nТрап","184",0,0,0,0,0,0,0,0,0,0,0,0,0,0,0,0,0,null,{"$f":"Раздел3!D184","v":0},{"$f":"Раздел3!E184","v":0},{"$f":"Раздел3!F184","v":0},{"$f":"Раздел3!G184","v":0},{"$f":"Раздел3!H184","v":0},{"$f":"SUM(Раздел5!D185:AY185)","v":0}]
[null,"Скит","185",0,0,0,0,0,0,0,0,0,0,0,0,0,0,0,0,0,null,{"$f":"Раздел3!D185","v":0},{"$f":"Раздел3!E185","v":0},{"$f":"Раздел3!F185","v":0},{"$f":"Раздел3!G185","v":0},{"$f":"Раздел3!H185","v":0},{"$f":"SUM(Раздел5!D186:AY186)","v":0}]
[null,"Дубль-трап","186",0,0,0,0,0,0,0,0,0,0,0,0,0,0,0,0,0,null,{"$f":"Раздел3!D186","v":302},{"$f":"Раздел3!E186","v":195},{"$f":"Раздел3!F186","v":107},{"$f":"Раздел3!G186","v":0},{"$f":"Раздел3!H186","v":0},{"$f":"SUM(Раздел5!D187:AY187)","v":0}]
[null,"Спортинг","187",0,0,0,0,0,0,0,0,0,0,0,0,0,0,0,0,0,null,{"$f":"Раздел3!D187","v":0},{"$f":"Раздел3!E187","v":0},{"$f":"Раздел3!F187","v":0},{"$f":"Раздел3!G187","v":0},{"$f":"Раздел3!H187","v":0},{"$f":"SUM(Раздел5!D188:AY188)","v":0}]
[null,"Стрельба из арбалета","188",0,0,0,0,0,0,0,0,0,0,0,0,0,0,0,0,0,null,{"$f":"Раздел3!D188","v":0},{"$f":"Раздел3!E188","v":0},{"$f":"Раздел3!F188","v":0},{"$f":"Раздел3!G188","v":0},{"$f":"Раздел3!H188","v":0},{"$f":"SUM(Раздел5!D189:AY189)","v":0}]
[null,"Стрельба из лука - всего","189",0,0,0,0,0,0,0,0,0,0,0,0,0,0,0,0,0,null,{"$f":"Раздел3!D189","v":0},{"$f":"Раздел3!E189","v":0},{"$f":"Раздел3!F189","v":0},{"$f":"Раздел3!G189","v":0},{"$f":"Раздел3!H189","v":0},{"$f":"SUM(Раздел5!D190:AY190)","v":0}]
[null,"в том числе:\nКлассический лук","190",0,0,0,0,0,0,0,0,0,0,0,0,0,0,0,0,0,null,{"$f":"Раздел3!D190","v":0},{"$f":"Раздел3!E190","v":0},{"$f":"Раздел3!F190","v":0},{"$f":"Раздел3!G190","v":0},{"$f":"Раздел3!H190","v":0},{"$f":"SUM(Раздел5!D191:AY191)","v":0}]
[null,"   Блочный лук","191",0,0,0,0,0,0,0,0,0,0,0,0,0,0,0,0,0,null,{"$f":"Раздел3!D191","v":0},{"$f":"Раздел3!E191","v":0},{"$f":"Раздел3!F191","v":0},{"$f":"Раздел3!G191","v":0},{"$f":"Раздел3!H191","v":0},{"$f":"SUM(Раздел5!D192:AY192)","v":0}]
[null,"   Ачери ","192",0,0,0,0,0,0,0,0,0,0,0,0,0,0,0,0,0,null,{"$f":"Раздел3!D192","v":0},{"$f":"Раздел3!E192","v":0},{"$f":"Раздел3!F192","v":0},{"$f":"Раздел3!G192","v":0},{"$f":"Раздел3!H192","v":0},{"$f":"SUM(Раздел5!D193:AY193)","v":0}]
[null,"Судомодельный спорт","193",0,0,0,0,0,0,0,0,0,0,0,0,0,0,0,0,0,null,{"$f":"Раздел3!D193","v":0},{"$f":"Раздел3!E193","v":0},{"$f":"Раздел3!F193","v":0},{"$f":"Раздел3!G193","v":0},{"$f":"Раздел3!H193","v":0},{"$f":"SUM(Раздел5!D194:AY194)","v":0}]
[null,"Сумо","194",0,0,0,0,0,0,0,0,0,0,0,0,0,0,0,0,0,null,{"$f":"Раздел3!D194","v":0},{"$f":"Раздел3!E194","v":0},{"$f":"Раздел3!F194","v":0},{"$f":"Раздел3!G194","v":0},{"$f":"Раздел3!H194","v":0},{"$f":"SUM(Раздел5!D195:AY195)","v":0}]
[null,"Тайский бокс","195",0,0,0,0,0,0,0,0,0,0,0,0,0,0,0,0,0,null,{"$f":"Раздел3!D195","v":0},{"$f":"Раздел3!E195","v":0},{"$f":"Раздел3!F195","v":0},{"$f":"Раздел3!G195","v":0},{"$f":"Раздел3!H195","v":0},{"$f":"SUM(Раздел5!D196:AY196)","v":0}]
[null,"Танцевальный спорт","196",0,0,0,0,0,0,0,0,0,0,0,0,0,0,0,0,0,null,{"$f":"Раздел3!D196","v":0},{"$f":"Раздел3!E196","v":0},{"$f":"Раздел3!F196","v":0},{"$f":"Раздел3!G196","v":0},{"$f":"Раздел3!H196","v":0},{"$f":"SUM(Раздел5!D197:AY197)","v":0}]
[null,"Теннис","197",1,0,22,0,22,0,0,0,0,22,0,0,0,12,0,0,22,null,{"$f":"Раздел3!D197","v":0},{"$f":"Раздел3!E197","v":0},{"$f":"Раздел3!F197","v":0},{"$f":"Раздел3!G197","v":0},{"$f":"Раздел3!H197","v":0},{"$f":"SUM(Раздел5!D198:AY198)","v":0}]
[null,"Триатлон","198",0,0,0,0,0,0,0,0,0,0,0,0,0,0,0,0,0,null,{"$f":"Раздел3!D198","v":0},{"$f":"Раздел3!E198","v":0},{"$f":"Раздел3!F198","v":0},{"$f":"Раздел3!G198","v":0},{"$f":"Раздел3!H198","v":0},{"$f":"SUM(Раздел5!D199:AY199)","v":0}]
[null,"Тхэквондо - всего","199",3,1,250,0,175,69,4,2,0,219,30,1,0,14,2,0,0,null,{"$f":"Раздел3!D199","v":0},{"$f":"Раздел3!E199","v":0},{"$f":"Раздел3!F199","v":0},{"$f":"Раздел3!G199","v":0},{"$f":"Раздел3!H199","v":0},{"$f":"SUM(Раздел5!D200:AY200)","v":0}]
[null,"в том числе:\nТхэквондо (ГТФ, ИТФ, МФТ)","200",0,0,0,0,0,0,0,0,0,0,0,0,0,0,0,0,0,null,{"$f":"Раздел3!D200","v":0},{"$f":"Раздел3!E200","v":0},{"$f":"Раздел3!F200","v":0},{"$f":"Раздел3!G200","v":0},{"$f":"Раздел3!H200","v":0},{"$f":"SUM(Раздел5!D201:AY201)","v":0}]
[null,"Тхэквондо (ВТФ)","201",3,1,250,0,175,69,4,2,0,219,30,1,0,14,2,0,0,null,{"$f":"Раздел3!D201","v":0},{"$f":"Раздел3!E201","v":0},{"$f":"Раздел3!F201","v":0},{"$f":"Раздел3!G201","v":0},{"$f":"Раздел3!H201","v":0},{"$f":"SUM(Раздел5!D202:AY202)","v":0}]
[null,"Тяжелая атлетика","202",7,1,580,78,252,231,16,3,0,399,167,13,1,12,7,0,187,null,{"$f":"Раздел3!D202","v":0},{"$f":"Раздел3!E202","v":0},{"$f":"Раздел3!F202","v":0},{"$f":"Раздел3!G202","v":0},{"$f":"Раздел3!H202","v":0},{"$f":"SUM(Раздел5!D203:AY203)","v":0}]
[null,"Универсальный бой","203",0,0,0,0,0,0,0,0,0,0,0,0,0,0,0,0,0,null,{"$f":"Раздел3!D203","v":0},{"$f":"Раздел3!E203","v":0},{"$f":"Раздел3!F203","v":0},{"$f":"Раздел3!G203","v":0},{"$f":"Раздел3!H203","v":0},{"$f":"SUM(Раздел5!D204:AY204)","v":0}]
[null,"Ушу","204",3,0,91,15,34,42,0,0,0,67,21,3,0,14,0,0,0,null,{"$f":"Раздел3!D204","v":22},{"$f":"Раздел3!E204","v":22},{"$f":"Раздел3!F204","v":0},{"$f":"Раздел3!G204","v":0},{"$f":"Раздел3!H204","v":0},{"$f":"SUM(Раздел5!D205:AY205)","v":0}]
[null,"Фехтование - всего","205",0,0,0,0,0,0,0,0,0,0,0,0,0,0,0,0,0,null,{"$f":"Раздел3!D205","v":0},{"$f":"Раздел3!E205","v":0},{"$f":"Раздел3!F205","v":0},{"$f":"Раздел3!G205","v":0},{"$f":"Раздел3!H205","v":0},{"$f":"SUM(Раздел5!D206:AY206)","v":0}]
[null,"в том числе:\nРапира","206",0,0,0,0,0,0,0,0,0,0,0,0,0,0,0,0,0,null,{"$f":"Раздел3!D206","v":218},{"$f":"Раздел3!E206","v":161},{"$f":"Раздел3!F206","v":57},{"$f":"Раздел3!G206","v":0},{"$f":"Раздел3!H206","v":0},{"$f":"SUM(Раздел5!D207:AY207)","v":3}]
[null,"Сабля","207",0,0,0,0,0,0,0,0,0,0,0,0,0,0,0,0,0,null,{"$f":"Раздел3!D207","v":0},{"$f":"Раздел3!E207","v":0},{"$f":"Раздел3!F207","v":0},{"$f":"Раздел3!G207","v":0},{"$f":"Раздел3!H207","v":0},{"$f":"SUM(Раздел5!D208:AY208)","v":0},null,null,null,"Частично перешли",{"$f":"SUM(Раздел3!E208:H208)","v":218}]
[null,"Шпага","208",0,0,0,0,0,0,0,0,0,0,0,0,0,0,0,0,0,null,{"$f":"Раздел3!D208","v":218},{"$f":"Раздел3!E208","v":161},{"$f":"Раздел3!F208","v":57},{"$f":"Раздел3!G208","v":0},{"$f":"Раздел3!H208","v":0},{"$f":"SUM(Раздел5!D209:AY209)","v":3},{"$f":"Раздел9!D16","v":71},null,null,{"$f":"Раздел1!G18","v":0}]
[null,"Арт-фехтование","209",0,0,0,0,0,0,0,0,0,0,0,0,0,0,0,0,0,null,{"$f":"Раздел3!D209","v":195},{"$f":"Раздел3!E209","v":109},{"$f":"Раздел3!F209","v":70},{"$f":"Раздел3!G209","v":13},{"$f":"Раздел3!H209","v":3},null,null,null,null,"Перешли"]
[null,"Фигурное катание на коньках","210",0,0,0,0,0,0,0,0,0,0,0,0,0,0,0,0,0,null,{"$f":"Раздел3!D210","v":0},{"$f":"Раздел3!E210","v":0},{"$f":"Раздел3!F210","v":0},{"$f":"Раздел3!G210","v":0},{"$f":"Раздел3!H210","v":0},null,null,null,null,{"$f":"Раздел1!J18","v":0}]
[null,"Фитнес-аэробика","211",1,0,59,0,43,16,0,0,0,50,9,0,0,56,0,0,0,null,{"$f":"Раздел3!D211","v":46},{"$f":"Раздел3!E211","v":19},{"$f":"Раздел3!F211","v":27},{"$f":"Раздел3!G211","v":0},{"$f":"Раздел3!H211","v":0}]
[null,"Флаинг диск","212",0,0,0,0,0,0,0,0,0,0,0,0,0,0,0,0,0,null,{"$f":"Раздел3!D212","v":0},{"$f":"Раздел3!E212","v":0},{"$f":"Раздел3!F212","v":0},{"$f":"Раздел3!G212","v":0},{"$f":"Раздел3!H212","v":0}]
[null,"Флорбол","213",0,0,0,0,0,0,0,0,0,0,0,0,0,0,0,0,0,null,{"$f":"Раздел3!D213","v":0},{"$f":"Раздел3!E213","v":0},{"$f":"Раздел3!F213","v":0},{"$f":"Раздел3!G213","v":0},{"$f":"Раздел3!H213","v":0}]
[null,"Фристайл - всего","214",0,0,0,0,0,0,0,0,0,0,0,0,0,0,0,0,0,null,{"$f":"Раздел3!D214","v":0},{"$f":"Раздел3!E214","v":0},{"$f":"Раздел3!F214","v":0},{"$f":"Раздел3!G214","v":0},{"$f":"Раздел3!H214","v":0}]
[null,"в том числе:\nАкробатика","215",0,0,0,0,0,0,0,0,0,0,0,0,0,0,0,0,0,null,{"$f":"Раздел3!D215","v":0},{"$f":"Раздел3!E215","v":0},{"$f":"Раздел3!F215","v":0},{"$f":"Раздел3!G215","v":0},{"$f":"Раздел3!H215","v":0}]
[null,"Могул","216",0,0,0,0,0,0,0,0,0,0,0,0,0,0,0,0,0,null,{"$f":"Раздел3!D216","v":0},{"$f":"Раздел3!E216","v":0},{"$f":"Раздел3!F216","v":0},{"$f":"Раздел3!G216","v":0},{"$f":"Раздел3!H216","v":0}]
[null,"Ски-кросс","217",0,0,0,0,0,0,0,0,0,0,0,0,0,0,0,0,0,null,{"$f":"Раздел3!D217","v":0},{"$f":"Раздел3!E217","v":0},{"$f":"Раздел3!F217","v":0},{"$f":"Раздел3!G217","v":0},{"$f":"Раздел3!H217","v":0}]
[null,"Хаф-пайп","218",0,0,0,0,0,0,0,0,0,0,0,0,0,0,0,0,0,null,{"$f":"Раздел3!D218","v":0},{"$f":"Раздел3!E218","v":0},{"$f":"Раздел3!F218","v":0},{"$f":"Раздел3!G218","v":0},{"$f":"Раздел3!H218","v":0}]
[null,"Слоуп-стайл","219",0,0,0,0,0,0,0,0,0,0,0,0,0,0,0,0,0,null,{"$f":"Раздел3!D219","v":0},{"$f":"Раздел3!E219","v":0},{"$f":"Раздел3!F219","v":0},{"$f":"Раздел3!G219","v":0},{"$f":"Раздел3!H219","v":0}]
[null,"Футбол - всего","220",10,1,2096,120,997,955,18,6,0,1879,207,10,0,0,0,0,0,null,{"$f":"Раздел3!D220","v":0},{"$f":"Раздел3!E220","v":0},{"$f":"Раздел3!F220","v":0},{"$f":"Раздел3!G220","v":0},{"$f":"Раздел3!H220","v":0}]
[null,"в том числе:\nФутбол (муж.)","221",10,1,2096,120,997,955,18,6,0,1879,207,10,0,0,0,0,0,null,{"$f":"Раздел3!D221","v":0},{"$f":"Раздел3!E221","v":0},{"$f":"Раздел3!F221","v":0},{"$f":"Раздел3!G221","v":0},{"$f":"Раздел3!H221","v":0}]
[null,"Футбол (жен.)","222",0,0,0,0,0,0,0,0,0,0,0,0,0,0,0,0,0,null,{"$f":"Раздел3!D222","v":0},{"$f":"Раздел3!E222","v":0},{"$f":"Раздел3!F222","v":0},{"$f":"Раздел3!G222","v":0},{"$f":"Раздел3!H222","v":0}]
[null,"Мини-футбол (футзал)","223",0,0,0,0,0,0,0,0,0,0,0,0,0,0,0,0,0,null,{"$f":"Раздел3!D223","v":0},{"$f":"Раздел3!E223","v":0},{"$f":"Раздел3!F223","v":0},{"$f":"Раздел3!G223","v":0},{"$f":"Раздел3!H223","v":0}]
[null,"Пляжный футбол","224",0,0,0,0,0,0,0,0,0,0,0,0,0,0,0,0,0,null,{"$f":"Раздел3!D224","v":0},{"$f":"Раздел3!E224","v":0},{"$f":"Раздел3!F224","v":0},{"$f":"Раздел3!G224","v":0},{"$f":"Раздел3!H224","v":0}]
[null,"Хапсагай","225",0,0,0,0,0,0,0,0,0,0,0,0,0,0,0,0,0,null,{"$f":"Раздел3!D225","v":0},{"$f":"Раздел3!E225","v":0},{"$f":"Раздел3!F225","v":0},{"$f":"Раздел3!G225","v":0},{"$f":"Раздел3!H225","v":0}]
[null,"Хоккей - всего","226",0,0,0,0,0,0,0,0,0,0,0,0,0,0,0,0,0,null,{"$f":"Раздел3!D226","v":0},{"$f":"Раздел3!E226","v":0},{"$f":"Раздел3!F226","v":0},{"$f":"Раздел3!G226","v":0},{"$f":"Раздел3!H226","v":0}]
[null,"в том числе:\nХоккей (муж.)","227",0,0,0,0,0,0,0,0,0,0,0,0,0,0,0,0,0,null,{"$f":"Раздел3!D227","v":929},{"$f":"Раздел3!E227","v":413},{"$f":"Раздел3!F227","v":492},{"$f":"Раздел3!G227","v":18},{"$f":"Раздел3!H227","v":6}]
[null,"Хоккей (жен.)","228",0,0,0,0,0,0,0,0,0,0,0,0,0,0,0,0,0,null,{"$f":"Раздел3!D228","v":929},{"$f":"Раздел3!E228","v":413},{"$f":"Раздел3!F228","v":492},{"$f":"Раздел3!G228","v":18},{"$f":"Раздел3!H228","v":6}]
[null,"Хоккей на траве - всего","229",0,0,0,0,0,0,0,0,0,0,0,0,0,0,0,0,0]
[null,"в том числе:\nХоккей на траве (муж.)","230",0,0,0,0,0,0,0,0,0,0,0,0,0,0,0,0,0]
[null,"Хоккей на траве (жен.)","231",0,0,0,0,0,0,0,0,0,0,0,0,0,0,0,0,0]
[null,"Индорхоккей","232",0,0,0,0,0,0,0,0,0,0,0,0,0,0,0,0,0]
[null,"Хоккей с мячом","233",0,0,0,0,0,0,0,0,0,0,0,0,0,0,0,0,0]
[null,"Художественная гимнастика","234",1,0,92,0,70,20,2,0,16,75,1,0,0,0,0,0,0]
[null,"Хуреш","235",0,0,0,0,0,0,0,0,0,0,0,0,0,0,0,0,0]
[null,"Черлидинг","236",0,0,0,0,0,0,0,0,0,0,0,0,0,0,0,0,0]
[null,"Чир спорт","237",0,0,0,0,0,0,0,0,0,0,0,0,0,0,0,0,0]
[null,"Шахматы","238",9,0,501,30,302,169,0,0,23,324,144,10,0,157,0,0,0]
[null,"Шашки","239",0,0,0,0,0,0,0,0,0,0,0,0,0,0,0,0,0]
[null,"Эстетическая гимнастика","240",0,0,0,0,0,0,0,0,0,0,0,0,0,0,0,0,0]
[null,"Якутские национальные прыжки","241",0,0,0,0,0,0,0,0,0,0,0,0,0,0,0,0,0]
[null,"ИТОГО","242",121,8,13047,817,6921,4890,351,68,63,10595,2199,177,13,3306,64,0,2595]
[null,"ИТОГО по олимпийским видам спорта","243",92,8,10389,742,5514,3789,284,60,25,8698,1529,128,9,2849,53,0,1872]
[null,"  в том числе: \n  по летним видам спорта","244",92,8,10389,742,5514,3789,284,60,25,8698,1529,128,9,2849,53,0,1872]
[null,"  по зимним видам спорта","245",0,0,0,0,0,0,0,0,0,0,0,0,0,0,0,0,0]
[null,"ИТОГО по неолимпийским видам спорта","246",29,0,2658,75,1407,1101,67,8,38,1897,670,49,4,457,11,0,723]
[null,"ИТОГО по национальным видам спорта","247",0,0,0,0,0,0,0,0,0,0,0,0,0,0,0,0,0]
[null,"ИТОГО по прикладным видам спорта","248",0,0,0,0,0,0,0,0,0,0,0,0,0,0,0,0,0]
[null,"        По виду организации: \nДЮСШ - отделения, не соответствующие Перечню \"Олимпийский\"","249",95,0,8778,817,4620,3271,70,0,63,7045,1586,81,3,2217,19,0,715]
[null,"     из них по \n     ведомственной\n     принадлежности: \nорганы управления в сфере образования","250",63,0,5931,817,2773,2321,20,0,38,4563,1315,15,0,1509,2,0,0]
[null,"органы управления в сфере физической культуры и \nспорта","251",32,0,2847,0,1847,950,50,0,25,2482,271,66,3,708,17,0,715]
[null,"другая ведомственная принадлежность","252",0,0,0,0,0,0,0,0,0,0,0,0,0,0,0,0,0]
[null,"СШ - отделения, не соответствующие Перечню \"Олимпийский\"","253",9,0,619,0,371,204,44,0,0,500,103,15,1,239,2,0,418]
[null,"     из них по \n     ведомственной\n     принадлежности: \nорганы управления в сфере образования","254",0,0,0,0,0,0,0,0,0,0,0,0,0,0,0,0,0]
[null,"органы управления в сфере физической культуры и \nспорта","255",9,0,619,0,371,204,44,0,0,500,103,15,1,239,2,0,418]
[null,"другая ведомственная принадлежность","256",0,0,0,0,0,0,0,0,0,0,0,0,0,0,0,0,0]
[null,"СДЮСШОР - отделения, соответствующие Перечню \"Олимпийский\"","257",2,2,515,0,402,87,26,0,0,474,41,0,0,430,0,0,409]
[null,"     из них по \n     ведомственной\n     принадлежности:\nорганы управления в сфере образования","258",0,0,0,0,0,0,0,0,0,0,0,0,0,0,0,0,0]
[null,"органы управления в сфере физической культуры и спорта","259",2,2,515,0,402,87,26,0,0,474,41,0,0,430,0,0,409]
[null,"другая ведомственная принадлежность","260",0,0,0,0,0,0,0,0,0,0,0,0,0,0,0,0,0]
[null,"СШОР - отделения, соответствующие Перечню \"Олимпийский\"","261",6,6,2159,0,1110,938,85,26,0,1871,262,25,1,341,27,0,330]
[null,"     из них по \n     ведомственной\n     принадлежности:\nорганы управления в сфере образования","262",0,0,0,0,0,0,0,0,0,0,0,0,0,0,0,0,0]
[null,"органы управления в сфере физической культуры и спорта","263",6,6,2159,0,1110,938,85,26,0,1871,262,25,1,341,27,0,330]
[null,"другая ведомственная принадлежность","264",0,0,0,0,0,0,0,0,0,0,0,0,0,0,0,0,0]
[null,"УОР","265",0,0,0,0,0,0,0,0,0,0,0,0,0,0,0,0,0]
[null,"     из них по\n     ведомственной\n     принадлежности:\nорганы управления в сфере образования","266",0,0,0,0,0,0,0,0,0,0,0,0,0,0,0,0,0]
[null,"органы управления в сфере физической культуры и спорта","267",0,0,0,0,0,0,0,0,0,0,0,0,0,0,0,0,0]
[null,"другая ведомственная принадлежность","268",0,0,0,0,0,0,0,0,0,0,0,0,0,0,0,0,0]
[null,"ЦСП","269",9,0,976,0,418,390,126,42,0,705,207,56,8,79,16,0,723]
[null,"     из них по\n     ведомственной\n     принадлежности:\nорганы управления в сфере образования","270",0,0,0,0,0,0,0,0,0,0,0,0,0,0,0,0,0]
[null,"органы управления в сфере физической культуры и спорта","271",9,0,976,0,418,390,126,42,0,705,207,56,8,79,16,0,723]
[null,"другая ведомственная принадлежность","272",0,0,0,0,0,0,0,0,0,0,0,0,0,0,0,0,0]
[null,"ЦОП","273",0,0,0,0,0,0,0,0,0,0,0,0,0,0,0,0,0]
[null,"     из них по\n     ведомственной\n     принадлежности:\nорганы управления в сфере образования","274",0,0,0,0,0,0,0,0,0,0,0,0,0,0,0,0,0]
[null,"органы управления в сфере физической культуры и спорта","275",0,0,0,0,0,0,0,0,0,0,0,0,0,0,0,0,0]
[null,"другая ведомственная принадлежность","276",0,0,0,0,0,0,0,0,0,0,0,0,0,0,0,0,0]
[null,"Другие организации","277",0,0,0,0,0,0,0,0,0,0,0,0,0,0,0,0,0]
[null,"     из них по\n     ведомственной\n     принадлежности:\nорганы управления в сфере образования","278",0,0,0,0,0,0,0,0,0,0,0,0,0,0,0,0,0]
[null,"органы управления в сфере физической культуры и спорта","279",0,0,0,0,0,0,0,0,0,0,0,0,0,0,0,0,0]
[null,"другая ведомственная принадлежность","280",0,0,0,0,0,0,0,0,0,0,0,0,0,0,0,0,0]

{"sheet":"Раздел3","index":3,"n_rows":287,"n_cols":31,"rows_kept":287,"cut":false,"hidden":false,"merged":[[2,21,5,21],[3,3,5,3],[2,8,2,12],[2,13,2,17],[3,8,5,8],[3,13,5,13],[2,19,5,19],[2,20,5,20],[0,18,118,18],[3,4,4,7],[3,9,4,12],[3,14,4,17],[0,0,118,0],[0,1,0,17],[2,1,5,1],[2,2,5,2],[1,13,1,17],[2,3,2,7]]}
[null,"Раздел III. Численность занимающихся по программам спортивной подготовки"]
[null,null,null,null,null,null,null,null,null,null,null,null,null,"Код по ОКЕИ: человек – 792"]
[null,"Виды спорта","№ строки","Число занимающихся по программам спортивной подготовки на 31 декабря отчетного года (из гр. 5 раздела II)",null,null,null,null,"Число занимающихся, зачисленных на программы \nспортивной подготовки в отчетном году",null,null,null,null,"Число занимающихся, отчисленных с программ \nспортивной подготовки в отчетном году",null,null,null,null,null,null,"Раздел2 графа3\nЧисло отделений","Раздел2 графа5\nЧисло отделений"]
[null,null,null,"всего","в том числе по этапам подготовки",null,null,null,"всего","в том числе по этапам подготовки",null,null,null,"всего","в том числе по этапам подготовки"]
[]
[null,null,null,null,"начальной подготовки","трениро-вочный","совершен-ствования спортивного мастерства","высшего спортивного мастерства",null,"начальной подготовки","трениро-вочный","совершен-ствования спортивного мастерства","высшего спортивного мастерства",null,"начальной подготовки","трениро-вочный","совершен-ствования спортивного мастерства","высшего спортивного мастерства",null,null,null,null,"2-7","2-8","2-9","2-10"]
[null,1,2,3,4,5,6,7,8,9,10,11,12,13,14,15,16,17]
[null,"Авиамодельный спорт","01",0,0,0,0,0,0,0,0,0,0,0,0,0,0,0,null,null,{"$f":"Раздел2!F8","v":0},{"$f":"Раздел2!F8","v":0},{"$f":"Раздел2!H8","v":0},{"$f":"Раздел2!I8","v":0},{"$f":"Раздел2!J8","v":0},{"$f":"Раздел2!K8","v":0},null,null,0]
[null,"Автомобильный спорт","02",0,0,0,0,0,0,0,0,0,0,0,0,0,0,0,null,null,{"$f":"Раздел2!F9","v":0},{"$f":"Раздел2!F9","v":0},{"$f":"Раздел2!H9","v":0},{"$f":"Раздел2!I9","v":0},{"$f":"Раздел2!J9","v":0},{"$f":"Раздел2!K9","v":0}]
[null,"Автомодельный спорт","03",0,0,0,0,0,0,0,0,0,0,0,0,0,0,0,null,null,{"$f":"Раздел2!F11","v":0},{"$f":"Раздел2!F11","v":0},{"$f":"Раздел2!H11","v":0},{"$f":"Раздел2!I11","v":0},{"$f":"Раздел2!J11","v":0},{"$f":"Раздел2!K11","v":0}]
[null,"Айкидо","04",0,0,0,0,0,0,0,0,0,0,0,0,0,0,0,null,null,{"$f":"Раздел2!F13","v":0},{"$f":"Раздел2!F13","v":0},{"$f":"Раздел2!H13","v":0},{"$f":"Раздел2!I13","v":0},{"$f":"Раздел2!J13","v":0},{"$f":"Раздел2!K13","v":0}]
[null,"Айсшток","05",0,0,0,0,0,0,0,0,0,0,0,0,0,0,0,null,null,{"$f":"Раздел2!F14","v":0},{"$f":"Раздел2!F14","v":0},{"$f":"Раздел2!H14","v":0},{"$f":"Раздел2!I14","v":0},{"$f":"Раздел2!J14","v":0},{"$f":"Раздел2!K14","v":0}]
[null,"Акробатический рок-н-ролл","06",0,0,0,0,0,0,0,0,0,0,0,0,0,0,0,null,null,{"$f":"Раздел2!F15","v":0},{"$f":"Раздел2!F15","v":0},{"$f":"Раздел2!H15","v":0},{"$f":"Раздел2!I15","v":0},{"$f":"Раздел2!J15","v":0},{"$f":"Раздел2!K15","v":0}]
[null,"Альпинизм","07",0,0,0,0,0,0,0,0,0,0,0,0,0,0,0,null,null,{"$f":"Раздел2!F17","v":0},{"$f":"Раздел2!F17","v":0},{"$f":"Раздел2!H17","v":0},{"$f":"Раздел2!I17","v":0},{"$f":"Раздел2!J17","v":0},{"$f":"Раздел2!K17","v":0}]
[null,"Американский футбол","08",0,0,0,0,0,0,0,0,0,0,0,0,0,0,0,null,null,{"$f":"Раздел2!F18","v":0},{"$f":"Раздел2!F18","v":0},{"$f":"Раздел2!H18","v":0},{"$f":"Раздел2!I18","v":0},{"$f":"Раздел2!J18","v":0},{"$f":"Раздел2!K18","v":0}]
[null,"Армейский рукопашный бой","09",0,0,0,0,0,0,0,0,0,0,0,0,0,0,0,null,null,{"$f":"Раздел2!F19","v":666},{"$f":"Раздел2!F19","v":666},{"$f":"Раздел2!H19","v":316},{"$f":"Раздел2!I19","v":283},{"$f":"Раздел2!J19","v":7},{"$f":"Раздел2!K19","v":0}]
[null,"Армрестлинг","10",0,0,0,0,0,0,0,0,0,0,0,0,0,0,0,null,null,{"$f":"Раздел2!F20","v":408},{"$f":"Раздел2!F20","v":408},{"$f":"Раздел2!H20","v":179},{"$f":"Раздел2!I20","v":192},{"$f":"Раздел2!J20","v":7},{"$f":"Раздел2!K20","v":0}]
[null,"Бадминтон","11",0,0,0,0,0,0,0,0,0,0,0,0,0,0,0,null,null,{"$f":"Раздел2!F21","v":258},{"$f":"Раздел2!F21","v":258},{"$f":"Раздел2!H21","v":137},{"$f":"Раздел2!I21","v":91},{"$f":"Раздел2!J21","v":0},{"$f":"Раздел2!K21","v":0}]
[null,"Баскетбол - всего","12",333,190,136,7,0,129,93,30,6,0,142,68,68,6,0,null,null,{"$f":"Раздел2!F22","v":0},{"$f":"Раздел2!F22","v":0},{"$f":"Раздел2!H22","v":0},{"$f":"Раздел2!I22","v":0},{"$f":"Раздел2!J22","v":0},{"$f":"Раздел2!K22","v":0}]
[null,"в том числе:\nБаскетбол (муж.)","13",213,110,96,7,0,70,48,16,6,0,101,51,44,6,0,null,null,{"$f":"Раздел2!F23","v":0},{"$f":"Раздел2!F23","v":0},{"$f":"Раздел2!H23","v":0},{"$f":"Раздел2!I23","v":0},{"$f":"Раздел2!J23","v":0},{"$f":"Раздел2!K23","v":0}]
[null,"Баскетбол (жен.)","14",120,80,40,0,0,59,45,14,0,0,41,17,24,0,0,null,null,{"$f":"Раздел2!F24","v":0},{"$f":"Раздел2!F24","v":0},{"$f":"Раздел2!H24","v":0},{"$f":"Раздел2!I24","v":0},{"$f":"Раздел2!J24","v":0},{"$f":"Раздел2!K24","v":0}]
[null,"Бейсбол","15",0,0,0,0,0,0,0,0,0,0,0,0,0,0,0,null,null,{"$f":"Раздел2!F25","v":0},{"$f":"Раздел2!F25","v":0},{"$f":"Раздел2!H25","v":0},{"$f":"Раздел2!I25","v":0},{"$f":"Раздел2!J25","v":0},{"$f":"Раздел2!K25","v":0}]
[null,"Биатлон","16",0,0,0,0,0,0,0,0,0,0,0,0,0,0,0,null,null,{"$f":"Раздел2!F26","v":0},{"$f":"Раздел2!F26","v":0},{"$f":"Раздел2!H26","v":0},{"$f":"Раздел2!I26","v":0},{"$f":"Раздел2!J26","v":0},{"$f":"Раздел2!K26","v":0}]
[null,"Бильярдный спорт","17",0,0,0,0,0,0,0,0,0,0,0,0,0,0,0,null,null,{"$f":"Раздел2!F27","v":0},{"$f":"Раздел2!F27","v":0},{"$f":"Раздел2!H27","v":0},{"$f":"Раздел2!I27","v":0},{"$f":"Раздел2!J27","v":0},{"$f":"Раздел2!K27","v":0}]
[null,"Бобслей - всего","18",0,0,0,0,0,0,0,0,0,0,0,0,0,0,0,null,null,{"$f":"Раздел2!F28","v":0},{"$f":"Раздел2!F28","v":0},{"$f":"Раздел2!H28","v":0},{"$f":"Раздел2!I28","v":0},{"$f":"Раздел2!J28","v":0},{"$f":"Раздел2!K28","v":0}]
[null,"в том числе:\nБобслей","19",0,0,0,0,0,0,0,0,0,0,0,0,0,0,0,null,null,{"$f":"Раздел2!F29","v":243},{"$f":"Раздел2!F29","v":243},{"$f":"Раздел2!H29","v":145},{"$f":"Раздел2!I29","v":74},{"$f":"Раздел2!J29","v":6},{"$f":"Раздел2!K29","v":3}]
[null,"Скелетон","20",0,0,0,0,0,0,0,0,0,0,0,0,0,0,0,null,null,{"$f":"Раздел2!F30","v":0},{"$f":"Раздел2!F30","v":0},{"$f":"Раздел2!H30","v":0},{"$f":"Раздел2!I30","v":0},{"$f":"Раздел2!J30","v":0},{"$f":"Раздел2!K30","v":0}]
[null,"Бодибилдинг","21",0,0,0,0,0,0,0,0,0,0,0,0,0,0,0,null,null,{"$f":"Раздел2!F31","v":0},{"$f":"Раздел2!F31","v":0},{"$f":"Раздел2!H31","v":0},{"$f":"Раздел2!I31","v":0},{"$f":"Раздел2!J31","v":0},{"$f":"Раздел2!K31","v":0}]
[null,"Бокс","22",149,103,46,0,0,63,63,0,0,0,0,0,0,0,0,null,null,{"$f":"Раздел2!F32","v":0},{"$f":"Раздел2!F32","v":0},{"$f":"Раздел2!H32","v":0},{"$f":"Раздел2!I32","v":0},{"$f":"Раздел2!J32","v":0},{"$f":"Раздел2!K32","v":0}]
[null,"Борьба на поясах","23",0,0,0,0,0,0,0,0,0,0,0,0,0,0,0,null,null,{"$f":"Раздел2!F33","v":0},{"$f":"Раздел2!F33","v":0},{"$f":"Раздел2!H33","v":0},{"$f":"Раздел2!I33","v":0},{"$f":"Раздел2!J33","v":0},{"$f":"Раздел2!K33","v":0}]
[null,"Боулинг","24",0,0,0,0,0,0,0,0,0,0,0,0,0,0,0,null,null,{"$f":"Раздел2!F34","v":0},{"$f":"Раздел2!F34","v":0},{"$f":"Раздел2!H34","v":0},{"$f":"Раздел2!I34","v":0},{"$f":"Раздел2!J34","v":0},{"$f":"Раздел2!K34","v":0}]
[null,"Велоспорт ВМХ","25",0,0,0,0,0,0,0,0,0,0,0,0,0,0,0,null,null,{"$f":"Раздел2!F35","v":428},{"$f":"Раздел2!F35","v":428},{"$f":"Раздел2!H35","v":236},{"$f":"Раздел2!I35","v":164},{"$f":"Раздел2!J35","v":20},{"$f":"Раздел2!K35","v":8}]
[null,"Велоспорт – маунтинбайк","26",0,0,0,0,0,0,0,0,0,0,0,0,0,0,0,null,null,{"$f":"Раздел2!F36","v":0},{"$f":"Раздел2!F36","v":0},{"$f":"Раздел2!H36","v":0},{"$f":"Раздел2!I36","v":0},{"$f":"Раздел2!J36","v":0},{"$f":"Раздел2!K36","v":0}]
[null,"Велоспорт – трек","27",0,0,0,0,0,0,0,0,0,0,0,0,0,0,0,null,null,{"$f":"Раздел2!F37","v":0},{"$f":"Раздел2!F37","v":0},{"$f":"Раздел2!H37","v":0},{"$f":"Раздел2!I37","v":0},{"$f":"Раздел2!J37","v":0},{"$f":"Раздел2!K37","v":0}]
[null,"Велоспорт – шоссе","28",428,236,164,20,8,428,189,217,14,8,128,67,61,0,0,null,null,{"$f":"Раздел2!F38","v":0},{"$f":"Раздел2!F38","v":0},{"$f":"Раздел2!H38","v":0},{"$f":"Раздел2!I38","v":0},{"$f":"Раздел2!J38","v":0},{"$f":"Раздел2!K38","v":0}]
[null,"Вертолетный спорт","29",0,0,0,0,0,0,0,0,0,0,0,0,0,0,0,null,null,{"$f":"Раздел2!F39","v":0},{"$f":"Раздел2!F39","v":0},{"$f":"Раздел2!H39","v":0},{"$f":"Раздел2!I39","v":0},{"$f":"Раздел2!J39","v":0},{"$f":"Раздел2!K39","v":0}]
[null,"Водно-моторный спорт","30",0,0,0,0,0,0,0,0,0,0,0,0,0,0,0,null,null,{"$f":"Раздел2!F40","v":0},{"$f":"Раздел2!F40","v":0},{"$f":"Раздел2!H40","v":0},{"$f":"Раздел2!I40","v":0},{"$f":"Раздел2!J40","v":0},{"$f":"Раздел2!K40","v":0}]
[null,"Водное поло - всего ","31",0,0,0,0,0,0,0,0,0,0,0,0,0,0,0,null,null,{"$f":"Раздел2!F41","v":0},{"$f":"Раздел2!F41","v":0},{"$f":"Раздел2!H41","v":0},{"$f":"Раздел2!I41","v":0},{"$f":"Раздел2!J41","v":0},{"$f":"Раздел2!K41","v":0}]
[null,"в том числе:\nВодное поло (муж.)","32",0,0,0,0,0,0,0,0,0,0,0,0,0,0,0,null,null,{"$f":"Раздел2!F44","v":0},{"$f":"Раздел2!F44","v":0},{"$f":"Раздел2!H44","v":0},{"$f":"Раздел2!I44","v":0},{"$f":"Раздел2!J44","v":0},{"$f":"Раздел2!K44","v":0}]
[null,"Водное поло (жен.)","33",0,0,0,0,0,0,0,0,0,0,0,0,0,0,0,null,null,{"$f":"Раздел2!F45","v":1747},{"$f":"Раздел2!F45","v":1747},{"$f":"Раздел2!H45","v":932},{"$f":"Раздел2!I45","v":539},{"$f":"Раздел2!J45","v":12},{"$f":"Раздел2!K45","v":0}]
[null,"Воднолыжный спорт","34",0,0,0,0,0,0,0,0,0,0,0,0,0,0,0,null,null,{"$f":"Раздел2!F46","v":724},{"$f":"Раздел2!F46","v":724},{"$f":"Раздел2!H46","v":381},{"$f":"Раздел2!I46","v":203},{"$f":"Раздел2!J46","v":12},{"$f":"Раздел2!K46","v":0}]
[null,"Военно-прикладной спорт","35",0,0,0,0,0,0,0,0,0,0,0,0,0,0,0,null,null,{"$f":"Раздел2!F47","v":948},{"$f":"Раздел2!F47","v":948},{"$f":"Раздел2!H47","v":506},{"$f":"Раздел2!I47","v":306},{"$f":"Раздел2!J47","v":0},{"$f":"Раздел2!K47","v":0}]
[null,"Военно-спортивное многоборье","36",0,0,0,0,0,0,0,0,0,0,0,0,0,0,0,null,null,{"$f":"Раздел2!F48","v":40},{"$f":"Раздел2!F48","v":40},{"$f":"Раздел2!H48","v":30},{"$f":"Раздел2!I48","v":10},{"$f":"Раздел2!J48","v":0},{"$f":"Раздел2!K48","v":0}]
[null,"Воздухоплавательный спорт","37",0,0,0,0,0,0,0,0,0,0,0,0,0,0,0,null,null,{"$f":"Раздел2!F49","v":35},{"$f":"Раздел2!F49","v":35},{"$f":"Раздел2!H49","v":15},{"$f":"Раздел2!I49","v":20},{"$f":"Раздел2!J49","v":0},{"$f":"Раздел2!K49","v":0}]
[null,"Волейбол - всего","38",786,583,191,12,0,487,433,54,0,0,67,10,57,0,0,null,null,{"$f":"Раздел2!F50","v":0},{"$f":"Раздел2!F50","v":0},{"$f":"Раздел2!H50","v":0},{"$f":"Раздел2!I50","v":0},{"$f":"Раздел2!J50","v":0},{"$f":"Раздел2!K50","v":0}]
[null,"в том числе:\nВолейбол (муж.)","39",358,264,82,12,0,170,170,0,0,0,13,0,13,0,0,null,null,{"$f":"Раздел2!F51","v":0},{"$f":"Раздел2!F51","v":0},{"$f":"Раздел2!H51","v":0},{"$f":"Раздел2!I51","v":0},{"$f":"Раздел2!J51","v":0},{"$f":"Раздел2!K51","v":0}]
[null,"Волейбол (жен.)","40",353,274,79,0,0,242,218,24,0,0,34,10,24,0,0,null,null,{"$f":"Раздел2!F52","v":476},{"$f":"Раздел2!F52","v":476},{"$f":"Раздел2!H52","v":383},{"$f":"Раздел2!I52","v":55},{"$f":"Раздел2!J52","v":31},{"$f":"Раздел2!K52","v":7}]
[null,"Пляжный волейбол (муж.)","41",40,30,10,0,0,40,30,10,0,0,10,0,10,0,0,null,null,{"$f":"Раздел2!F53","v":41},{"$f":"Раздел2!F53","v":41},{"$f":"Раздел2!H53","v":41},{"$f":"Раздел2!I53","v":0},{"$f":"Раздел2!J53","v":0},{"$f":"Раздел2!K53","v":0}]
[null,"Пляжный волейбол (жен.)","42",35,15,20,0,0,35,15,20,0,0,10,0,10,0,0,null,null,{"$f":"Раздел2!F54","v":435},{"$f":"Раздел2!F54","v":435},{"$f":"Раздел2!H54","v":342},{"$f":"Раздел2!I54","v":55},{"$f":"Раздел2!J54","v":31},{"$f":"Раздел2!K54","v":7}]
[null,"Восточное боевое единоборство","43",0,0,0,0,0,0,0,0,0,0,0,0,0,0,0,null,null,{"$f":"Раздел2!F56","v":0},{"$f":"Раздел2!F56","v":0},{"$f":"Раздел2!H56","v":0},{"$f":"Раздел2!I56","v":0},{"$f":"Раздел2!J56","v":0},{"$f":"Раздел2!K56","v":0}]
[null,"Всестилевое карате","44",0,0,0,0,0,0,0,0,0,0,0,0,0,0,0,null,null,{"$f":"Раздел2!F57","v":0},{"$f":"Раздел2!F57","v":0},{"$f":"Раздел2!H57","v":0},{"$f":"Раздел2!I57","v":0},{"$f":"Раздел2!J57","v":0},{"$f":"Раздел2!K57","v":0}]
[null,"Гандбол - всего","45",450,383,55,12,0,121,121,0,0,0,0,0,0,0,0,null,null,{"$f":"Раздел2!F58","v":0},{"$f":"Раздел2!F58","v":0},{"$f":"Раздел2!H58","v":0},{"$f":"Раздел2!I58","v":0},{"$f":"Раздел2!J58","v":0},{"$f":"Раздел2!K58","v":0}]
[null,"в том числе:\nГандбол (муж.)","46",41,41,0,0,0,25,25,0,0,0,0,0,0,0,0,null,null,{"$f":"Раздел2!F59","v":0},{"$f":"Раздел2!F59","v":0},{"$f":"Раздел2!H59","v":0},{"$f":"Раздел2!I59","v":0},{"$f":"Раздел2!J59","v":0},{"$f":"Раздел2!K59","v":0}]
[null,"Гандбол (жен.)","47",409,342,55,12,0,96,96,0,0,0,0,0,0,0,0,null,null,{"$f":"Раздел2!F60","v":0},{"$f":"Раздел2!F60","v":0},{"$f":"Раздел2!H60","v":0},{"$f":"Раздел2!I60","v":0},{"$f":"Раздел2!J60","v":0},{"$f":"Раздел2!K60","v":0}]
[null,"Пляжный гандбол","48",0,0,0,0,0,0,0,0,0,0,0,0,0,0,0,null,null,{"$f":"Раздел2!F61","v":0},{"$f":"Раздел2!F61","v":0},{"$f":"Раздел2!H61","v":0},{"$f":"Раздел2!I61","v":0},{"$f":"Раздел2!J61","v":0},{"$f":"Раздел2!K61","v":0}]
[null,"Гиревой спорт","49",0,0,0,0,0,0,0,0,0,0,0,0,0,0,0,null,null,{"$f":"Раздел2!F63","v":0},{"$f":"Раздел2!F63","v":0},{"$f":"Раздел2!H63","v":0},{"$f":"Раздел2!I63","v":0},{"$f":"Раздел2!J63","v":0},{"$f":"Раздел2!K63","v":0}]
[null,"Го","50",0,0,0,0,0,0,0,0,0,0,0,0,0,0,0,null,null,{"$f":"Раздел2!F64","v":0},{"$f":"Раздел2!F64","v":0},{"$f":"Раздел2!H64","v":0},{"$f":"Раздел2!I64","v":0},{"$f":"Раздел2!J64","v":0},{"$f":"Раздел2!K64","v":0}]
[null,"Гольф","51",0,0,0,0,0,0,0,0,0,0,0,0,0,0,0,null,null,{"$f":"Раздел2!F65","v":0},{"$f":"Раздел2!F65","v":0},{"$f":"Раздел2!H65","v":0},{"$f":"Раздел2!I65","v":0},{"$f":"Раздел2!J65","v":0},{"$f":"Раздел2!K65","v":0}]
[null,"Горнолыжный спорт","52",0,0,0,0,0,0,0,0,0,0,0,0,0,0,0,null,null,{"$f":"Раздел2!F66","v":0},{"$f":"Раздел2!F66","v":0},{"$f":"Раздел2!H66","v":0},{"$f":"Раздел2!I66","v":0},{"$f":"Раздел2!J66","v":0},{"$f":"Раздел2!K66","v":0}]
[null,"Городошный спорт","53",0,0,0,0,0,0,0,0,0,0,0,0,0,0,0,null,null,{"$f":"Раздел2!F67","v":0},{"$f":"Раздел2!F67","v":0},{"$f":"Раздел2!H67","v":0},{"$f":"Раздел2!I67","v":0},{"$f":"Раздел2!J67","v":0},{"$f":"Раздел2!K67","v":0}]
[null,"Гребля на байдарках и каноэ","54",0,0,0,0,0,0,0,0,0,0,0,0,0,0,0,null,null,{"$f":"Раздел2!F68","v":0},{"$f":"Раздел2!F68","v":0},{"$f":"Раздел2!H68","v":0},{"$f":"Раздел2!I68","v":0},{"$f":"Раздел2!J68","v":0},{"$f":"Раздел2!K68","v":0}]
[null,"Гребля на шлюпках","55",0,0,0,0,0,0,0,0,0,0,0,0,0,0,0,null,null,{"$f":"Раздел2!F69","v":0},{"$f":"Раздел2!F69","v":0},{"$f":"Раздел2!H69","v":0},{"$f":"Раздел2!I69","v":0},{"$f":"Раздел2!J69","v":0},{"$f":"Раздел2!K69","v":0}]
[null,"Гребной слалом","56",0,0,0,0,0,0,0,0,0,0,0,0,0,0,0,null,null,{"$f":"Раздел2!F70","v":0},{"$f":"Раздел2!F70","v":0},{"$f":"Раздел2!H70","v":0},{"$f":"Раздел2!I70","v":0},{"$f":"Раздел2!J70","v":0},{"$f":"Раздел2!K70","v":0}]
[null,"Гребной спорт - всего","57",0,0,0,0,0,0,0,0,0,0,0,0,0,0,0,null,null,{"$f":"Раздел2!F71","v":0},{"$f":"Раздел2!F71","v":0},{"$f":"Раздел2!H71","v":0},{"$f":"Раздел2!I71","v":0},{"$f":"Раздел2!J71","v":0},{"$f":"Раздел2!K71","v":0}]
[null,"в том числе:\nАкадемическая гребля","58",0,0,0,0,0,0,0,0,0,0,0,0,0,0,0,null,null,{"$f":"Раздел2!F72","v":1342},{"$f":"Раздел2!F72","v":1342},{"$f":"Раздел2!H72","v":512},{"$f":"Раздел2!I72","v":682},{"$f":"Раздел2!J72","v":67},{"$f":"Раздел2!K72","v":21}]
[null,"Гребля-индор","59",0,0,0,0,0,0,0,0,0,0,0,0,0,0,0,null,null,{"$f":"Раздел2!F73","v":0},{"$f":"Раздел2!F73","v":0},{"$f":"Раздел2!H73","v":0},{"$f":"Раздел2!I73","v":0},{"$f":"Раздел2!J73","v":0},{"$f":"Раздел2!K73","v":0}]
[null,"Народная гребля","60",0,0,0,0,0,0,0,0,0,0,0,0,0,0,0,null,null,{"$f":"Раздел2!F74","v":0},{"$f":"Раздел2!F74","v":0},{"$f":"Раздел2!H74","v":0},{"$f":"Раздел2!I74","v":0},{"$f":"Раздел2!J74","v":0},{"$f":"Раздел2!K74","v":0}]
[null,"Прибрежная гребля","61",0,0,0,0,0,0,0,0,0,0,0,0,0,0,0,null,null,{"$f":"Раздел2!F75","v":99},{"$f":"Раздел2!F75","v":99},{"$f":"Раздел2!H75","v":83},{"$f":"Раздел2!I75","v":16},{"$f":"Раздел2!J75","v":0},{"$f":"Раздел2!K75","v":0}]
[null,"Гребно-парусное двоеборье","62",0,0,0,0,0,0,0,0,0,0,0,0,0,0,0,null,null,{"$f":"Раздел2!F76","v":0},{"$f":"Раздел2!F76","v":0},{"$f":"Раздел2!H76","v":0},{"$f":"Раздел2!I76","v":0},{"$f":"Раздел2!J76","v":0},{"$f":"Раздел2!K76","v":0}]
[null,"Дартс","63",0,0,0,0,0,0,0,0,0,0,0,0,0,0,0,null,null,{"$f":"Раздел2!F77","v":0},{"$f":"Раздел2!F77","v":0},{"$f":"Раздел2!H77","v":0},{"$f":"Раздел2!I77","v":0},{"$f":"Раздел2!J77","v":0},{"$f":"Раздел2!K77","v":0}]
[null,"Джиу-джитсу","64",0,0,0,0,0,0,0,0,0,0,0,0,0,0,0,null,null,{"$f":"Раздел2!F78","v":0},{"$f":"Раздел2!F78","v":0},{"$f":"Раздел2!H78","v":0},{"$f":"Раздел2!I78","v":0},{"$f":"Раздел2!J78","v":0},{"$f":"Раздел2!K78","v":0}]
[null,"Дзюдо","65",846,294,510,33,9,259,162,76,18,3,95,60,31,3,1,null,null,{"$f":"Раздел2!F79","v":0},{"$f":"Раздел2!F79","v":0},{"$f":"Раздел2!H79","v":0},{"$f":"Раздел2!I79","v":0},{"$f":"Раздел2!J79","v":0},{"$f":"Раздел2!K79","v":0}]
[null,"Ездовой спорт","66",0,0,0,0,0,0,0,0,0,0,0,0,0,0,0,null,null,{"$f":"Раздел2!F80","v":0},{"$f":"Раздел2!F80","v":0},{"$f":"Раздел2!H80","v":0},{"$f":"Раздел2!I80","v":0},{"$f":"Раздел2!J80","v":0},{"$f":"Раздел2!K80","v":0}]
[null,"Капоэйра","67",0,0,0,0,0,0,0,0,0,0,0,0,0,0,0,null,null,{"$f":"Раздел2!F81","v":118},{"$f":"Раздел2!F81","v":118},{"$f":"Раздел2!H81","v":61},{"$f":"Раздел2!I81","v":40},{"$f":"Раздел2!J81","v":17},{"$f":"Раздел2!K81","v":0}]
[null,"Каратэ","68",99,83,16,0,0,0,0,0,0,0,0,0,0,0,0,null,null,{"$f":"Раздел2!F82","v":0},{"$f":"Раздел2!F82","v":0},{"$f":"Раздел2!H82","v":0},{"$f":"Раздел2!I82","v":0},{"$f":"Раздел2!J82","v":0},{"$f":"Раздел2!K82","v":0}]
[null,"Кендо","69",0,0,0,0,0,0,0,0,0,0,0,0,0,0,0,null,null,{"$f":"Раздел2!F83","v":0},{"$f":"Раздел2!F83","v":0},{"$f":"Раздел2!H83","v":0},{"$f":"Раздел2!I83","v":0},{"$f":"Раздел2!J83","v":0},{"$f":"Раздел2!K83","v":0}]
[null,"Керешу","70",0,0,0,0,0,0,0,0,0,0,0,0,0,0,0,null,null,{"$f":"Раздел2!F84","v":0},{"$f":"Раздел2!F84","v":0},{"$f":"Раздел2!H84","v":0},{"$f":"Раздел2!I84","v":0},{"$f":"Раздел2!J84","v":0},{"$f":"Раздел2!K84","v":0}]
[null,"Керлинг - всего","71",0,0,0,0,0,0,0,0,0,0,0,0,0,0,0,null,null,{"$f":"Раздел2!F85","v":0},{"$f":"Раздел2!F85","v":0},{"$f":"Раздел2!H85","v":0},{"$f":"Раздел2!I85","v":0},{"$f":"Раздел2!J85","v":0},{"$f":"Раздел2!K85","v":0}]
[null,"в том числе:\nКерлинг (муж.)","72",0,0,0,0,0,0,0,0,0,0,0,0,0,0,0,null,null,{"$f":"Раздел2!F86","v":124},{"$f":"Раздел2!F86","v":124},{"$f":"Раздел2!H86","v":92},{"$f":"Раздел2!I86","v":26},{"$f":"Раздел2!J86","v":4},{"$f":"Раздел2!K86","v":2}]
[null,"Керлинг (жен.)","73",0,0,0,0,0,0,0,0,0,0,0,0,0,0,0,null,null,{"$f":"Раздел2!F87","v":0},{"$f":"Раздел2!F87","v":0},{"$f":"Раздел2!H87","v":0},{"$f":"Раздел2!I87","v":0},{"$f":"Раздел2!J87","v":0},{"$f":"Раздел2!K87","v":0}]
[null,"Кикбоксинг","74",32,13,12,7,0,13,13,0,0,0,0,0,0,0,0,null,null,{"$f":"Раздел2!F88","v":0},{"$f":"Раздел2!F88","v":0},{"$f":"Раздел2!H88","v":0},{"$f":"Раздел2!I88","v":0},{"$f":"Раздел2!J88","v":0},{"$f":"Раздел2!K88","v":0}]
[null,"Кинологический спорт","75",0,0,0,0,0,0,0,0,0,0,0,0,0,0,0,null,null,{"$f":"Раздел2!F89","v":0},{"$f":"Раздел2!F89","v":0},{"$f":"Раздел2!H89","v":0},{"$f":"Раздел2!I89","v":0},{"$f":"Раздел2!J89","v":0},{"$f":"Раздел2!K89","v":0}]
[null,"Киокусинкай","76",0,0,0,0,0,0,0,0,0,0,0,0,0,0,0,null,null,{"$f":"Раздел2!F90","v":0},{"$f":"Раздел2!F90","v":0},{"$f":"Раздел2!H90","v":0},{"$f":"Раздел2!I90","v":0},{"$f":"Раздел2!J90","v":0},{"$f":"Раздел2!K90","v":0}]
[null,"Комплексное единоборство","77",0,0,0,0,0,0,0,0,0,0,0,0,0,0,0,null,null,{"$f":"Раздел2!F91","v":0},{"$f":"Раздел2!F91","v":0},{"$f":"Раздел2!H91","v":0},{"$f":"Раздел2!I91","v":0},{"$f":"Раздел2!J91","v":0},{"$f":"Раздел2!K91","v":0}]
[null,"Компьютерный спорт","78",0,0,0,0,0,0,0,0,0,0,0,0,0,0,0,null,null,{"$f":"Раздел2!F92","v":0},{"$f":"Раздел2!F92","v":0},{"$f":"Раздел2!H92","v":0},{"$f":"Раздел2!I92","v":0},{"$f":"Раздел2!J92","v":0},{"$f":"Раздел2!K92","v":0}]
[null,"Конный спорт","79",32,0,26,4,2,0,0,0,0,0,0,0,0,0,0,null,null,{"$f":"Раздел2!F93","v":549},{"$f":"Раздел2!F93","v":549},{"$f":"Раздел2!H93","v":299},{"$f":"Раздел2!I93","v":148},{"$f":"Раздел2!J93","v":31},{"$f":"Раздел2!K93","v":1}]
[null,"Конькобежный спорт - всего","80",0,0,0,0,0,0,0,0,0,0,0,0,0,0,0,null,null,{"$f":"Раздел2!F94","v":234},{"$f":"Раздел2!F94","v":234},{"$f":"Раздел2!H94","v":112},{"$f":"Раздел2!I94","v":81},{"$f":"Раздел2!J94","v":11},{"$f":"Раздел2!K94","v":0}]
[null,"в том числе:\nКонькобежный спорт","81",0,0,0,0,0,0,0,0,0,0,0,0,0,0,0,null,null,{"$f":"Раздел2!F95","v":107},{"$f":"Раздел2!F95","v":107},{"$f":"Раздел2!H95","v":63},{"$f":"Раздел2!I95","v":37},{"$f":"Раздел2!J95","v":7},{"$f":"Раздел2!K95","v":0}]
[null,"Шорт-трек","82",0,0,0,0,0,0,0,0,0,0,0,0,0,0,0,null,null,{"$f":"Раздел2!F96","v":8},{"$f":"Раздел2!F96","v":8},{"$f":"Раздел2!H96","v":0},{"$f":"Раздел2!I96","v":8},{"$f":"Раздел2!J96","v":0},{"$f":"Раздел2!K96","v":0}]
[null,"Корэш","83",0,0,0,0,0,0,0,0,0,0,0,0,0,0,0,null,null,{"$f":"Раздел2!F97","v":140},{"$f":"Раздел2!F97","v":140},{"$f":"Раздел2!H97","v":81},{"$f":"Раздел2!I97","v":22},{"$f":"Раздел2!J97","v":11},{"$f":"Раздел2!K97","v":1}]
[null,"Корфбол","84",0,0,0,0,0,0,0,0,0,0,0,0,0,0,0,null,null,{"$f":"Раздел2!F98","v":14},{"$f":"Раздел2!F98","v":14},{"$f":"Раздел2!H98","v":14},{"$f":"Раздел2!I98","v":0},{"$f":"Раздел2!J98","v":0},{"$f":"Раздел2!K98","v":0}]
[null,"Лапта","85",0,0,0,0,0,0,0,0,0,0,0,0,0,0,0,null,null,{"$f":"Раздел2!F99","v":46},{"$f":"Раздел2!F99","v":46},{"$f":"Раздел2!H99","v":29},{"$f":"Раздел2!I99","v":0},{"$f":"Раздел2!J99","v":2},{"$f":"Раздел2!K99","v":0}]
[null,"Легкая атлетика - всего","86",320,186,116,18,0,118,83,29,6,0,80,48,26,6,0,null,null,{"$f":"Раздел2!F100","v":0},{"$f":"Раздел2!F100","v":0},{"$f":"Раздел2!H100","v":0},{"$f":"Раздел2!I100","v":0},{"$f":"Раздел2!J100","v":0},{"$f":"Раздел2!K100","v":0}]
[null,"в том числе:\nСпринтерский и барьерный бег","87",158,80,71,7,0,64,45,19,0,0,55,33,16,6,0,null,null,{"$f":"Раздел2!F101","v":0},{"$f":"Раздел2!F101","v":0},{"$f":"Раздел2!H101","v":0},{"$f":"Раздел2!I101","v":0},{"$f":"Раздел2!J101","v":0},{"$f":"Раздел2!K101","v":0}]
[null,"Бег на средние дистанции и бег с препятствиями","88",105,63,37,5,0,25,15,10,0,0,25,15,10,0,0,null,null,{"$f":"Раздел2!F102","v":0},{"$f":"Раздел2!F102","v":0},{"$f":"Раздел2!H102","v":0},{"$f":"Раздел2!I102","v":0},{"$f":"Раздел2!J102","v":0},{"$f":"Раздел2!K102","v":0}]
[null,"Бег на длинные и сверхдлинные дистанции","89",0,0,0,0,0,0,0,0,0,0,0,0,0,0,0,null,null,{"$f":"Раздел2!F103","v":0},{"$f":"Раздел2!F103","v":0},{"$f":"Раздел2!H103","v":0},{"$f":"Раздел2!I103","v":0},{"$f":"Раздел2!J103","v":0},{"$f":"Раздел2!K103","v":0}]
[null,"Многоборья","90",28,14,8,6,0,14,8,0,6,0,0,0,0,0,0,null,null,{"$f":"Раздел2!F104","v":0},{"$f":"Раздел2!F104","v":0},{"$f":"Раздел2!H104","v":0},{"$f":"Раздел2!I104","v":0},{"$f":"Раздел2!J104","v":0},{"$f":"Раздел2!K104","v":0}]
[null,"Прыжки","91",0,0,0,0,0,0,0,0,0,0,0,0,0,0,0,null,null,{"$f":"Раздел2!F105","v":0},{"$f":"Раздел2!F105","v":0},{"$f":"Раздел2!H105","v":0},{"$f":"Раздел2!I105","v":0},{"$f":"Раздел2!J105","v":0},{"$f":"Раздел2!K105","v":0}]
[null,"Метания","92",29,29,0,0,0,15,15,0,0,0,0,0,0,0,0,null,null,{"$f":"Раздел2!F106","v":0},{"$f":"Раздел2!F106","v":0},{"$f":"Раздел2!H106","v":0},{"$f":"Раздел2!I106","v":0},{"$f":"Раздел2!J106","v":0},{"$f":"Раздел2!K106","v":0}]
[null,"Спортивная ходьба","93",0,0,0,0,0,0,0,0,0,0,0,0,0,0,0,null,null,{"$f":"Раздел2!F107","v":0},{"$f":"Раздел2!F107","v":0},{"$f":"Раздел2!H107","v":0},{"$f":"Раздел2!I107","v":0},{"$f":"Раздел2!J107","v":0},{"$f":"Раздел2!K107","v":0}]
[null,"Лыжное двоеборье","94",0,0,0,0,0,0,0,0,0,0,0,0,0,0,0,null,null,{"$f":"Раздел2!F108","v":0},{"$f":"Раздел2!F108","v":0},{"$f":"Раздел2!H108","v":0},{"$f":"Раздел2!I108","v":0},{"$f":"Раздел2!J108","v":0},{"$f":"Раздел2!K108","v":0}]
[null,"Лыжные гонки","95",0,0,0,0,0,0,0,0,0,0,0,0,0,0,0,null,null,{"$f":"Раздел2!F109","v":689},{"$f":"Раздел2!F109","v":689},{"$f":"Раздел2!H109","v":423},{"$f":"Раздел2!I109","v":185},{"$f":"Раздел2!J109","v":6},{"$f":"Раздел2!K109","v":0}]
[null,"Мас-рестлинг","96",0,0,0,0,0,0,0,0,0,0,0,0,0,0,0,null,null,{"$f":"Раздел2!F110","v":0},{"$f":"Раздел2!F110","v":0},{"$f":"Раздел2!H110","v":0},{"$f":"Раздел2!I110","v":0},{"$f":"Раздел2!J110","v":0},{"$f":"Раздел2!K110","v":0}]
[null,"Международное военно-спортивное многоборье","97",0,0,0,0,0,0,0,0,0,0,0,0,0,0,0,null,null,{"$f":"Раздел2!F111","v":0},{"$f":"Раздел2!F111","v":0},{"$f":"Раздел2!H111","v":0},{"$f":"Раздел2!I111","v":0},{"$f":"Раздел2!J111","v":0},{"$f":"Раздел2!K111","v":0}]
[null,"Многоборье кинологов","98",0,0,0,0,0,0,0,0,0,0,0,0,0,0,0,null,null,{"$f":"Раздел2!F112","v":0},{"$f":"Раздел2!F112","v":0},{"$f":"Раздел2!H112","v":0},{"$f":"Раздел2!I112","v":0},{"$f":"Раздел2!J112","v":0},{"$f":"Раздел2!K112","v":0}]
[null,"Многоборье спасателей МЧС России","99",0,0,0,0,0,0,0,0,0,0,0,0,0,0,0,null,null,{"$f":"Раздел2!F113","v":0},{"$f":"Раздел2!F113","v":0},{"$f":"Раздел2!H113","v":0},{"$f":"Раздел2!I113","v":0},{"$f":"Раздел2!J113","v":0},{"$f":"Раздел2!K113","v":0}]
[null,"Морское многоборье","100",0,0,0,0,0,0,0,0,0,0,0,0,0,0,0,null,null,{"$f":"Раздел2!F114","v":0},{"$f":"Раздел2!F114","v":0},{"$f":"Раздел2!H114","v":0},{"$f":"Раздел2!I114","v":0},{"$f":"Раздел2!J114","v":0},{"$f":"Раздел2!K114","v":0}]
[null,"Мотоциклетный спорт","101",0,0,0,0,0,0,0,0,0,0,0,0,0,0,0,null,null,{"$f":"Раздел2!F115","v":0},{"$f":"Раздел2!F115","v":0},{"$f":"Раздел2!H115","v":0},{"$f":"Раздел2!I115","v":0},{"$f":"Раздел2!J115","v":0},{"$f":"Раздел2!K115","v":0}]
[null,"Настольный теннис","102",349,245,98,6,0,57,39,12,6,0,34,12,22,0,0,null,null,{"$f":"Раздел2!F116","v":0},{"$f":"Раздел2!F116","v":0},{"$f":"Раздел2!H116","v":0},{"$f":"Раздел2!I116","v":0},{"$f":"Раздел2!J116","v":0},{"$f":"Раздел2!K116","v":0}]
[null,"Парашютный спорт","103",0,0,0,0,0,0,0,0,0,0,0,0,0,0,0,null,null,{"$f":"Раздел2!F117","v":0},{"$f":"Раздел2!F117","v":0},{"$f":"Раздел2!H117","v":0},{"$f":"Раздел2!I117","v":0},{"$f":"Раздел2!J117","v":0},{"$f":"Раздел2!K117","v":0}]
[null,"Парусный спорт","104",0,0,0,0,0,0,0,0,0,0,0,0,0,0,0,null,null,{"$f":"Раздел2!F118","v":0},{"$f":"Раздел2!F118","v":0},{"$f":"Раздел2!H118","v":0},{"$f":"Раздел2!I118","v":0},{"$f":"Раздел2!J118","v":0},{"$f":"Раздел2!K118","v":0}]
[null,"Пауэрлифтинг","105",0,0,0,0,0,0,0,0,0,0,0,0,0,0,0,null,null,{"$f":"Раздел2!F119","v":0},{"$f":"Раздел2!F119","v":0},{"$f":"Раздел2!H119","v":0},{"$f":"Раздел2!I119","v":0},{"$f":"Раздел2!J119","v":0},{"$f":"Раздел2!K119","v":0}]
[null,"Перетягивание каната","106",0,0,0,0,0,0,0,0,0,0,0,0,0,0,0,null,null,{"$f":"Раздел2!F120","v":0},{"$f":"Раздел2!F120","v":0},{"$f":"Раздел2!H120","v":0},{"$f":"Раздел2!I120","v":0},{"$f":"Раздел2!J120","v":0},{"$f":"Раздел2!K120","v":0}]
[null,"Петанк","107",0,0,0,0,0,0,0,0,0,0,0,0,0,0,0,null,null,{"$f":"Раздел2!F121","v":0},{"$f":"Раздел2!F121","v":0},{"$f":"Раздел2!H121","v":0},{"$f":"Раздел2!I121","v":0},{"$f":"Раздел2!J121","v":0},{"$f":"Раздел2!K121","v":0}]
[null,"Плавание - всего","108",0,0,0,0,0,0,0,0,0,0,0,0,0,0,0,null,null,{"$f":"Раздел2!F122","v":0},{"$f":"Раздел2!F122","v":0},{"$f":"Раздел2!H122","v":0},{"$f":"Раздел2!I122","v":0},{"$f":"Раздел2!J122","v":0},{"$f":"Раздел2!K122","v":0}]
[null,"в том числе:\nПлавание ","109",0,0,0,0,0,0,0,0,0,0,0,0,0,0,0,null,null,{"$f":"Раздел2!F123","v":0},{"$f":"Раздел2!F123","v":0},{"$f":"Раздел2!H123","v":0},{"$f":"Раздел2!I123","v":0},{"$f":"Раздел2!J123","v":0},{"$f":"Раздел2!K123","v":0}]
[null,"Открытая вода","110",0,0,0,0,0,0,0,0,0,0,0,0,0,0,0,null,null,{"$f":"Раздел2!F124","v":0},{"$f":"Раздел2!F124","v":0},{"$f":"Раздел2!H124","v":0},{"$f":"Раздел2!I124","v":0},{"$f":"Раздел2!J124","v":0},{"$f":"Раздел2!K124","v":0}]
[null,"Планерный спорт","111",0,0,0,0,0,0,0,0,0,0,0,0,0,0,0,null,null,{"$f":"Раздел2!F125","v":0},{"$f":"Раздел2!F125","v":0},{"$f":"Раздел2!H125","v":0},{"$f":"Раздел2!I125","v":0},{"$f":"Раздел2!J125","v":0},{"$f":"Раздел2!K125","v":0}]
[null,"Подводный спорт","112",0,0,0,0,0,0,0,0,0,0,0,0,0,0,0,null,null,{"$f":"Раздел2!F126","v":94},{"$f":"Раздел2!F126","v":94},{"$f":"Раздел2!H126","v":43},{"$f":"Раздел2!I126","v":32},{"$f":"Раздел2!J126","v":17},{"$f":"Раздел2!K126","v":2}]
[null,"Пожарно-прикладной спорт","113",0,0,0,0,0,0,0,0,0,0,0,0,0,0,0,null,null,{"$f":"Раздел2!F127","v":0},{"$f":"Раздел2!F127","v":0},{"$f":"Раздел2!H127","v":0},{"$f":"Раздел2!I127","v":0},{"$f":"Раздел2!J127","v":0},{"$f":"Раздел2!K127","v":0}]
[null,"Полиатлон","114",0,0,0,0,0,0,0,0,0,0,0,0,0,0,0,null,null,{"$f":"Раздел2!F128","v":0},{"$f":"Раздел2!F128","v":0},{"$f":"Раздел2!H128","v":0},{"$f":"Раздел2!I128","v":0},{"$f":"Раздел2!J128","v":0},{"$f":"Раздел2!K128","v":0}]
[null,"Практическая стрельба","115",0,0,0,0,0,0,0,0,0,0,0,0,0,0,0,null,null,{"$f":"Раздел2!F129","v":94},{"$f":"Раздел2!F129","v":94},{"$f":"Раздел2!H129","v":43},{"$f":"Раздел2!I129","v":32},{"$f":"Раздел2!J129","v":17},{"$f":"Раздел2!K129","v":2}]
[null,"Прыжки в воду - всего","116",0,0,0,0,0,0,0,0,0,0,0,0,0,0,0,null,null,{"$f":"Раздел2!F130","v":0},{"$f":"Раздел2!F130","v":0},{"$f":"Раздел2!H130","v":0},{"$f":"Раздел2!I130","v":0},{"$f":"Раздел2!J130","v":0},{"$f":"Раздел2!K130","v":0}]
[null,"в том числе:\nПрыжки в воду","117",0,0,0,0,0,0,0,0,0,0,0,0,0,0,0,null,null,{"$f":"Раздел2!F131","v":0},{"$f":"Раздел2!F131","v":0},{"$f":"Раздел2!H131","v":0},{"$f":"Раздел2!I131","v":0},{"$f":"Раздел2!J131","v":0},{"$f":"Раздел2!K131","v":0}]
[null,"Прыжки в открытый водоем","118",0,0,0,0,0,0,0,0,0,0,0,0,0,0,0,null,null,{"$f":"Раздел2!F132","v":129},{"$f":"Раздел2!F132","v":129},{"$f":"Раздел2!H132","v":60},{"$f":"Раздел2!I132","v":32},{"$f":"Раздел2!J132","v":32},{"$f":"Раздел2!K132","v":5}]
[null,"Прыжки на батуте - всего","119",89,43,32,14,0,33,15,14,4,0,8,7,0,1,0,null,null,{"$f":"Раздел2!F133","v":0},{"$f":"Раздел2!F133","v":0},{"$f":"Раздел2!H133","v":0},{"$f":"Раздел2!I133","v":0},{"$f":"Раздел2!J133","v":0},{"$f":"Раздел2!K133","v":0}]
[null,"в том числе:\nАкробатическая дорожка","120",0,0,0,0,0,0,0,0,0,0,0,0,0,0,0,null,null,{"$f":"Раздел2!F134","v":106},{"$f":"Раздел2!F134","v":106},{"$f":"Раздел2!H134","v":60},{"$f":"Раздел2!I134","v":32},{"$f":"Раздел2!J134","v":14},{"$f":"Раздел2!K134","v":0}]
[null,"Двойной минитрамп","121",0,0,0,0,0,0,0,0,0,0,0,0,0,0,0,null,null,{"$f":"Раздел2!F135","v":7},{"$f":"Раздел2!F135","v":7},{"$f":"Раздел2!H135","v":0},{"$f":"Раздел2!I135","v":0},{"$f":"Раздел2!J135","v":6},{"$f":"Раздел2!K135","v":1}]
[null,"Индивидуальные прыжки","122",89,43,32,14,0,33,15,14,4,0,8,7,0,1,0,null,null,{"$f":"Раздел2!F136","v":16},{"$f":"Раздел2!F136","v":16},{"$f":"Раздел2!H136","v":0},{"$f":"Раздел2!I136","v":0},{"$f":"Раздел2!J136","v":12},{"$f":"Раздел2!K136","v":4}]
[null,"Синхронные прыжки","123",0,0,0,0,0,0,0,0,0,0,0,0,0,0,0,null,null,{"$f":"Раздел2!F137","v":0},{"$f":"Раздел2!F137","v":0},{"$f":"Раздел2!H137","v":0},{"$f":"Раздел2!I137","v":0},{"$f":"Раздел2!J137","v":0},{"$f":"Раздел2!K137","v":0}]
[null,"Прыжки на лыжах с трамплина","124",0,0,0,0,0,0,0,0,0,0,0,0,0,0,0,null,null,{"$f":"Раздел2!F138","v":0},{"$f":"Раздел2!F138","v":0},{"$f":"Раздел2!H138","v":0},{"$f":"Раздел2!I138","v":0},{"$f":"Раздел2!J138","v":0},{"$f":"Раздел2!K138","v":0}]
[null,"Пулевая стрельба - всего","125",106,60,32,14,0,31,12,14,5,0,63,44,14,5,0,null,null,{"$f":"Раздел2!F139","v":0},{"$f":"Раздел2!F139","v":0},{"$f":"Раздел2!H139","v":0},{"$f":"Раздел2!I139","v":0},{"$f":"Раздел2!J139","v":0},{"$f":"Раздел2!K139","v":0}]
[null,"в том числе:\nПневматическая винтовка","126",0,0,0,0,0,0,0,0,0,0,0,0,0,0,0,null,null,{"$f":"Раздел2!F140","v":0},{"$f":"Раздел2!F140","v":0},{"$f":"Раздел2!H140","v":0},{"$f":"Раздел2!I140","v":0},{"$f":"Раздел2!J140","v":0},{"$f":"Раздел2!K140","v":0}]
[null,"Пневматический пистолет","127",106,60,32,14,0,31,12,14,5,0,63,44,14,5,0,null,null,{"$f":"Раздел2!F141","v":0},{"$f":"Раздел2!F141","v":0},{"$f":"Раздел2!H141","v":0},{"$f":"Раздел2!I141","v":0},{"$f":"Раздел2!J141","v":0},{"$f":"Раздел2!K141","v":0}]
[null,"Малокалиберная винтовка","128",0,0,0,0,0,0,0,0,0,0,0,0,0,0,0,null,null,{"$f":"Раздел2!F142","v":0},{"$f":"Раздел2!F142","v":0},{"$f":"Раздел2!H142","v":0},{"$f":"Раздел2!I142","v":0},{"$f":"Раздел2!J142","v":0},{"$f":"Раздел2!K142","v":0}]
[null,"Малокалиберный пистолет","129",0,0,0,0,0,0,0,0,0,0,0,0,0,0,0,null,null,{"$f":"Раздел2!F143","v":0},{"$f":"Раздел2!F143","v":0},{"$f":"Раздел2!H143","v":0},{"$f":"Раздел2!I143","v":0},{"$f":"Раздел2!J143","v":0},{"$f":"Раздел2!K143","v":0}]
[null,"Движущаяся мишень","130",0,0,0,0,0,0,0,0,0,0,0,0,0,0,0,null,null,{"$f":"Раздел2!F144","v":0},{"$f":"Раздел2!F144","v":0},{"$f":"Раздел2!H144","v":0},{"$f":"Раздел2!I144","v":0},{"$f":"Раздел2!J144","v":0},{"$f":"Раздел2!K144","v":0}]
[null,"Пэйнтбол","131",0,0,0,0,0,0,0,0,0,0,0,0,0,0,0,null,null,{"$f":"Раздел2!F145","v":0},{"$f":"Раздел2!F145","v":0},{"$f":"Раздел2!H145","v":0},{"$f":"Раздел2!I145","v":0},{"$f":"Раздел2!J145","v":0},{"$f":"Раздел2!K145","v":0}]
[null,"Радиоспорт","132",0,0,0,0,0,0,0,0,0,0,0,0,0,0,0,null,null,{"$f":"Раздел2!F146","v":0},{"$f":"Раздел2!F146","v":0},{"$f":"Раздел2!H146","v":0},{"$f":"Раздел2!I146","v":0},{"$f":"Раздел2!J146","v":0},{"$f":"Раздел2!K146","v":0}]
[null,"Рафтинг","133",0,0,0,0,0,0,0,0,0,0,0,0,0,0,0,null,null,{"$f":"Раздел2!F147","v":0},{"$f":"Раздел2!F147","v":0},{"$f":"Раздел2!H147","v":0},{"$f":"Раздел2!I147","v":0},{"$f":"Раздел2!J147","v":0},{"$f":"Раздел2!K147","v":0}]
[null,"Регби - всего","134",0,0,0,0,0,0,0,0,0,0,0,0,0,0,0,null,null,{"$f":"Раздел2!F148","v":0},{"$f":"Раздел2!F148","v":0},{"$f":"Раздел2!H148","v":0},{"$f":"Раздел2!I148","v":0},{"$f":"Раздел2!J148","v":0},{"$f":"Раздел2!K148","v":0}]
[null,"в том числе:\nРегби","135",0,0,0,0,0,0,0,0,0,0,0,0,0,0,0,null,null,{"$f":"Раздел2!F149","v":0},{"$f":"Раздел2!F149","v":0},{"$f":"Раздел2!H149","v":0},{"$f":"Раздел2!I149","v":0},{"$f":"Раздел2!J149","v":0},{"$f":"Раздел2!K149","v":0}]
[null,"Регби 7 (муж.)","136",0,0,0,0,0,0,0,0,0,0,0,0,0,0,0,null,null,{"$f":"Раздел2!F150","v":0},{"$f":"Раздел2!F150","v":0},{"$f":"Раздел2!H150","v":0},{"$f":"Раздел2!I150","v":0},{"$f":"Раздел2!J150","v":0},{"$f":"Раздел2!K150","v":0}]
[null,"Регби 7 (жен.)","137",0,0,0,0,0,0,0,0,0,0,0,0,0,0,0,null,null,{"$f":"Раздел2!F151","v":1473},{"$f":"Раздел2!F151","v":1473},{"$f":"Раздел2!H151","v":609},{"$f":"Раздел2!I151","v":776},{"$f":"Раздел2!J151","v":50},{"$f":"Раздел2!K151","v":8}]
[null,"Регби - пляжное","138",0,0,0,0,0,0,0,0,0,0,0,0,0,0,0,null,null,{"$f":"Раздел2!F152","v":0},{"$f":"Раздел2!F152","v":0},{"$f":"Раздел2!H152","v":0},{"$f":"Раздел2!I152","v":0},{"$f":"Раздел2!J152","v":0},{"$f":"Раздел2!K152","v":0}]
[null,"Регбол","139",0,0,0,0,0,0,0,0,0,0,0,0,0,0,0,null,null,{"$f":"Раздел2!F153","v":0},{"$f":"Раздел2!F153","v":0},{"$f":"Раздел2!H153","v":0},{"$f":"Раздел2!I153","v":0},{"$f":"Раздел2!J153","v":0},{"$f":"Раздел2!K153","v":0}]
[null,"Роллер спорт","140",0,0,0,0,0,0,0,0,0,0,0,0,0,0,0,null,null,{"$f":"Раздел2!F154","v":0},{"$f":"Раздел2!F154","v":0},{"$f":"Раздел2!H154","v":0},{"$f":"Раздел2!I154","v":0},{"$f":"Раздел2!J154","v":0},{"$f":"Раздел2!K154","v":0}]
[null,"Рукопашный бой","141",0,0,0,0,0,0,0,0,0,0,0,0,0,0,0,null,null,{"$f":"Раздел2!F155","v":0},{"$f":"Раздел2!F155","v":0},{"$f":"Раздел2!H155","v":0},{"$f":"Раздел2!I155","v":0},{"$f":"Раздел2!J155","v":0},{"$f":"Раздел2!K155","v":0}]
[null,"Рыболовный спорт","142",0,0,0,0,0,0,0,0,0,0,0,0,0,0,0,null,null,{"$f":"Раздел2!F156","v":0},{"$f":"Раздел2!F156","v":0},{"$f":"Раздел2!H156","v":0},{"$f":"Раздел2!I156","v":0},{"$f":"Раздел2!J156","v":0},{"$f":"Раздел2!K156","v":0}]
[null,"Сават","143",0,0,0,0,0,0,0,0,0,0,0,0,0,0,0,null,null,{"$f":"Раздел2!F157","v":44},{"$f":"Раздел2!F157","v":44},{"$f":"Раздел2!H157","v":14},{"$f":"Раздел2!I157","v":30},{"$f":"Раздел2!J157","v":0},{"$f":"Раздел2!K157","v":0}]
[null,"Самбо","144",949,348,556,37,8,226,142,74,9,1,231,111,111,6,3,null,null,{"$f":"Раздел2!F158","v":0},{"$f":"Раздел2!F158","v":0},{"$f":"Раздел2!H158","v":0},{"$f":"Раздел2!I158","v":0},{"$f":"Раздел2!J158","v":0},{"$f":"Раздел2!K158","v":0}]
[null,"Самолетный спорт","145",0,0,0,0,0,0,0,0,0,0,0,0,0,0,0,null,null,{"$f":"Раздел2!F159","v":0},{"$f":"Раздел2!F159","v":0},{"$f":"Раздел2!H159","v":0},{"$f":"Раздел2!I159","v":0},{"$f":"Раздел2!J159","v":0},{"$f":"Раздел2!K159","v":0}]
[null,"Санный спорт","146",0,0,0,0,0,0,0,0,0,0,0,0,0,0,0,null,null,{"$f":"Раздел2!F160","v":0},{"$f":"Раздел2!F160","v":0},{"$f":"Раздел2!H160","v":0},{"$f":"Раздел2!I160","v":0},{"$f":"Раздел2!J160","v":0},{"$f":"Раздел2!K160","v":0}]
[null,"Северное многоборье","147",0,0,0,0,0,0,0,0,0,0,0,0,0,0,0,null,null,{"$f":"Раздел2!F161","v":0},{"$f":"Раздел2!F161","v":0},{"$f":"Раздел2!H161","v":0},{"$f":"Раздел2!I161","v":0},{"$f":"Раздел2!J161","v":0},{"$f":"Раздел2!K161","v":0}]
[null,"Серфинг","148",0,0,0,0,0,0,0,0,0,0,0,0,0,0,0,null,null,{"$f":"Раздел2!F162","v":0},{"$f":"Раздел2!F162","v":0},{"$f":"Раздел2!H162","v":0},{"$f":"Раздел2!I162","v":0},{"$f":"Раздел2!J162","v":0},{"$f":"Раздел2!K162","v":0}]
[null,"Синхронное плавание","149",0,0,0,0,0,0,0,0,0,0,0,0,0,0,0,null,null,{"$f":"Раздел2!F163","v":0},{"$f":"Раздел2!F163","v":0},{"$f":"Раздел2!H163","v":0},{"$f":"Раздел2!I163","v":0},{"$f":"Раздел2!J163","v":0},{"$f":"Раздел2!K163","v":0}]
[null,"Скалолазание","150",44,14,30,0,0,30,14,16,0,0,3,0,3,0,0,null,null,{"$f":"Раздел2!F164","v":0},{"$f":"Раздел2!F164","v":0},{"$f":"Раздел2!H164","v":0},{"$f":"Раздел2!I164","v":0},{"$f":"Раздел2!J164","v":0},{"$f":"Раздел2!K164","v":0}]
[null,"Скейтбординг","151",0,0,0,0,0,0,0,0,0,0,0,0,0,0,0,null,null,{"$f":"Раздел2!F165","v":0},{"$f":"Раздел2!F165","v":0},{"$f":"Раздел2!H165","v":0},{"$f":"Раздел2!I165","v":0},{"$f":"Раздел2!J165","v":0},{"$f":"Раздел2!K165","v":0}]
[null,"Сквош","152",0,0,0,0,0,0,0,0,0,0,0,0,0,0,0,null,null,{"$f":"Раздел2!F166","v":0},{"$f":"Раздел2!F166","v":0},{"$f":"Раздел2!H166","v":0},{"$f":"Раздел2!I166","v":0},{"$f":"Раздел2!J166","v":0},{"$f":"Раздел2!K166","v":0}]
[null,"Служебно-прикладной спорт ФСО России","153",0,0,0,0,0,0,0,0,0,0,0,0,0,0,0,null,null,{"$f":"Раздел2!F167","v":0},{"$f":"Раздел2!F167","v":0},{"$f":"Раздел2!H167","v":0},{"$f":"Раздел2!I167","v":0},{"$f":"Раздел2!J167","v":0},{"$f":"Раздел2!K167","v":0}]
[null,"Служебно-прикладной спорт ГФС России","154",0,0,0,0,0,0,0,0,0,0,0,0,0,0,0,null,null,{"$f":"Раздел2!F168","v":0},{"$f":"Раздел2!F168","v":0},{"$f":"Раздел2!H168","v":0},{"$f":"Раздел2!I168","v":0},{"$f":"Раздел2!J168","v":0},{"$f":"Раздел2!K168","v":0}]
[null,"Служебно-прикладной спорт ФСКН России","155",0,0,0,0,0,0,0,0,0,0,0,0,0,0,0,null,null,{"$f":"Раздел2!F169","v":0},{"$f":"Раздел2!F169","v":0},{"$f":"Раздел2!H169","v":0},{"$f":"Раздел2!I169","v":0},{"$f":"Раздел2!J169","v":0},{"$f":"Раздел2!K169","v":0}]
[null,"Служебно-прикладной спорт ФТС России","156",0,0,0,0,0,0,0,0,0,0,0,0,0,0,0,null,null,{"$f":"Раздел2!F170","v":0},{"$f":"Раздел2!F170","v":0},{"$f":"Раздел2!H170","v":0},{"$f":"Раздел2!I170","v":0},{"$f":"Раздел2!J170","v":0},{"$f":"Раздел2!K170","v":0}]
[null,"Служебное двоеборье","157",0,0,0,0,0,0,0,0,0,0,0,0,0,0,0,null,null,{"$f":"Раздел2!F171","v":0},{"$f":"Раздел2!F171","v":0},{"$f":"Раздел2!H171","v":0},{"$f":"Раздел2!I171","v":0},{"$f":"Раздел2!J171","v":0},{"$f":"Раздел2!K171","v":0}]
[null,"Служебное единоборство","158",0,0,0,0,0,0,0,0,0,0,0,0,0,0,0,null,null,{"$f":"Раздел2!F172","v":0},{"$f":"Раздел2!F172","v":0},{"$f":"Раздел2!H172","v":0},{"$f":"Раздел2!I172","v":0},{"$f":"Раздел2!J172","v":0},{"$f":"Раздел2!K172","v":0}]
[null,"Служебное многоборье","159",0,0,0,0,0,0,0,0,0,0,0,0,0,0,0,null,null,{"$f":"Раздел2!F173","v":0},{"$f":"Раздел2!F173","v":0},{"$f":"Раздел2!H173","v":0},{"$f":"Раздел2!I173","v":0},{"$f":"Раздел2!J173","v":0},{"$f":"Раздел2!K173","v":0}]
[null,"Служебное собаководство","160",0,0,0,0,0,0,0,0,0,0,0,0,0,0,0,null,null,{"$f":"Раздел2!F174","v":0},{"$f":"Раздел2!F174","v":0},{"$f":"Раздел2!H174","v":0},{"$f":"Раздел2!I174","v":0},{"$f":"Раздел2!J174","v":0},{"$f":"Раздел2!K174","v":0}]
[null,"Служебный биатлон","161",0,0,0,0,0,0,0,0,0,0,0,0,0,0,0,null,null,{"$f":"Раздел2!F175","v":0},{"$f":"Раздел2!F175","v":0},{"$f":"Раздел2!H175","v":0},{"$f":"Раздел2!I175","v":0},{"$f":"Раздел2!J175","v":0},{"$f":"Раздел2!K175","v":0}]
[null,"Спасательный спорт","162",0,0,0,0,0,0,0,0,0,0,0,0,0,0,0,null,null,{"$f":"Раздел2!F176","v":0},{"$f":"Раздел2!F176","v":0},{"$f":"Раздел2!H176","v":0},{"$f":"Раздел2!I176","v":0},{"$f":"Раздел2!J176","v":0},{"$f":"Раздел2!K176","v":0}]
[null,"Стрельба из боевого ручного стрелкового оружия","163",0,0,0,0,0,0,0,0,0,0,0,0,0,0,0,null,null,{"$f":"Раздел2!F177","v":132},{"$f":"Раздел2!F177","v":132},{"$f":"Раздел2!H177","v":90},{"$f":"Раздел2!I177","v":42},{"$f":"Раздел2!J177","v":0},{"$f":"Раздел2!K177","v":0}]
[null,"Стрельба из штатного или табельного оружия","164",0,0,0,0,0,0,0,0,0,0,0,0,0,0,0,null,null,{"$f":"Раздел2!F178","v":0},{"$f":"Раздел2!F178","v":0},{"$f":"Раздел2!H178","v":0},{"$f":"Раздел2!I178","v":0},{"$f":"Раздел2!J178","v":0},{"$f":"Раздел2!K178","v":0}]
[null,"Смешанное боевое единоборство (ММА)","165",0,0,0,0,0,0,0,0,0,0,0,0,0,0,0,null,null,{"$f":"Раздел2!F179","v":417},{"$f":"Раздел2!F179","v":417},{"$f":"Раздел2!H179","v":265},{"$f":"Раздел2!I179","v":141},{"$f":"Раздел2!J179","v":11},{"$f":"Раздел2!K179","v":0}]
[null,"Сноуборд","166",0,0,0,0,0,0,0,0,0,0,0,0,0,0,0,null,null,{"$f":"Раздел2!F180","v":81},{"$f":"Раздел2!F180","v":81},{"$f":"Раздел2!H180","v":55},{"$f":"Раздел2!I180","v":26},{"$f":"Раздел2!J180","v":0},{"$f":"Раздел2!K180","v":0}]
[null,"Современное пятиборье","167",0,0,0,0,0,0,0,0,0,0,0,0,0,0,0,null,null,{"$f":"Раздел2!F181","v":336},{"$f":"Раздел2!F181","v":336},{"$f":"Раздел2!H181","v":210},{"$f":"Раздел2!I181","v":115},{"$f":"Раздел2!J181","v":11},{"$f":"Раздел2!K181","v":0}]
[null,"Софтбол","168",0,0,0,0,0,0,0,0,0,0,0,0,0,0,0,null,null,{"$f":"Раздел2!F182","v":0},{"$f":"Раздел2!F182","v":0},{"$f":"Раздел2!H182","v":0},{"$f":"Раздел2!I182","v":0},{"$f":"Раздел2!J182","v":0},{"$f":"Раздел2!K182","v":0}]
[null,"Спорт сверхлегкой авиации","169",0,0,0,0,0,0,0,0,0,0,0,0,0,0,0,null,null,{"$f":"Раздел2!F183","v":0},{"$f":"Раздел2!F183","v":0},{"$f":"Раздел2!H183","v":0},{"$f":"Раздел2!I183","v":0},{"$f":"Раздел2!J183","v":0},{"$f":"Раздел2!K183","v":0}]
[null,"Спортивная акробатика","170",0,0,0,0,0,0,0,0,0,0,0,0,0,0,0,null,null,{"$f":"Раздел2!F184","v":0},{"$f":"Раздел2!F184","v":0},{"$f":"Раздел2!H184","v":0},{"$f":"Раздел2!I184","v":0},{"$f":"Раздел2!J184","v":0},{"$f":"Раздел2!K184","v":0}]
[null,"Спортивная аэробика","171",0,0,0,0,0,0,0,0,0,0,0,0,0,0,0,null,null,{"$f":"Раздел2!F185","v":0},{"$f":"Раздел2!F185","v":0},{"$f":"Раздел2!H185","v":0},{"$f":"Раздел2!I185","v":0},{"$f":"Раздел2!J185","v":0},{"$f":"Раздел2!K185","v":0}]
[null,"Спортивная борьба - всего","172",43,15,28,0,0,5,0,5,0,0,0,0,0,0,0,null,null,{"$f":"Раздел2!F186","v":302},{"$f":"Раздел2!F186","v":302},{"$f":"Раздел2!H186","v":195},{"$f":"Раздел2!I186","v":107},{"$f":"Раздел2!J186","v":0},{"$f":"Раздел2!K186","v":0}]
[null,"в том числе:\nВольная борьба","173",10,0,10,0,0,0,0,0,0,0,0,0,0,0,0,null,null,{"$f":"Раздел2!F187","v":234},{"$f":"Раздел2!F187","v":234},{"$f":"Раздел2!H187","v":226},{"$f":"Раздел2!I187","v":8},{"$f":"Раздел2!J187","v":0},{"$f":"Раздел2!K187","v":0}]
[null,"Греко-римская борьба","174",33,15,18,0,0,5,0,5,0,0,0,0,0,0,0,null,null,{"$f":"Раздел2!F188","v":0},{"$f":"Раздел2!F188","v":0},{"$f":"Раздел2!H188","v":0},{"$f":"Раздел2!I188","v":0},{"$f":"Раздел2!J188","v":0},{"$f":"Раздел2!K188","v":0}]
[null,"Грэпплинг","175",0,0,0,0,0,0,0,0,0,0,0,0,0,0,0,null,null,{"$f":"Раздел2!F189","v":50},{"$f":"Раздел2!F189","v":50},{"$f":"Раздел2!H189","v":42},{"$f":"Раздел2!I189","v":8},{"$f":"Раздел2!J189","v":0},{"$f":"Раздел2!K189","v":0}]
[null,"Грэпплинг-ги","176",0,0,0,0,0,0,0,0,0,0,0,0,0,0,0,null,null,{"$f":"Раздел2!F190","v":0},{"$f":"Раздел2!F190","v":0},{"$f":"Раздел2!H190","v":0},{"$f":"Раздел2!I190","v":0},{"$f":"Раздел2!J190","v":0},{"$f":"Раздел2!K190","v":0}]
[null,"Панкратион","177",0,0,0,0,0,0,0,0,0,0,0,0,0,0,0,null,null,{"$f":"Раздел2!F191","v":0},{"$f":"Раздел2!F191","v":0},{"$f":"Раздел2!H191","v":0},{"$f":"Раздел2!I191","v":0},{"$f":"Раздел2!J191","v":0},{"$f":"Раздел2!K191","v":0}]
[null,"Спортивно-прикладное собаководство","178",0,0,0,0,0,0,0,0,0,0,0,0,0,0,0,null,null,{"$f":"Раздел2!F192","v":0},{"$f":"Раздел2!F192","v":0},{"$f":"Раздел2!H192","v":0},{"$f":"Раздел2!I192","v":0},{"$f":"Раздел2!J192","v":0},{"$f":"Раздел2!K192","v":0}]
[null,"Спортивная гимнастика","179",302,195,107,0,0,136,112,24,0,0,103,70,33,0,0,null,null,{"$f":"Раздел2!F193","v":0},{"$f":"Раздел2!F193","v":0},{"$f":"Раздел2!H193","v":0},{"$f":"Раздел2!I193","v":0},{"$f":"Раздел2!J193","v":0},{"$f":"Раздел2!K193","v":0}]
[null,"Спортивное ориентирование","180",0,0,0,0,0,0,0,0,0,0,0,0,0,0,0,null,null,{"$f":"Раздел2!F194","v":0},{"$f":"Раздел2!F194","v":0},{"$f":"Раздел2!H194","v":0},{"$f":"Раздел2!I194","v":0},{"$f":"Раздел2!J194","v":0},{"$f":"Раздел2!K194","v":0}]
[null,"Спортивный бридж","181",0,0,0,0,0,0,0,0,0,0,0,0,0,0,0,null,null,{"$f":"Раздел2!F195","v":0},{"$f":"Раздел2!F195","v":0},{"$f":"Раздел2!H195","v":0},{"$f":"Раздел2!I195","v":0},{"$f":"Раздел2!J195","v":0},{"$f":"Раздел2!K195","v":0}]
[null,"Спортивный туризм","182",0,0,0,0,0,0,0,0,0,0,0,0,0,0,0,null,null,{"$f":"Раздел2!F196","v":0},{"$f":"Раздел2!F196","v":0},{"$f":"Раздел2!H196","v":0},{"$f":"Раздел2!I196","v":0},{"$f":"Раздел2!J196","v":0},{"$f":"Раздел2!K196","v":0}]
[null,"Стендовая стрельба - всего","183",0,0,0,0,0,0,0,0,0,0,0,0,0,0,0,null,null,{"$f":"Раздел2!F197","v":0},{"$f":"Раздел2!F197","v":0},{"$f":"Раздел2!H197","v":0},{"$f":"Раздел2!I197","v":0},{"$f":"Раздел2!J197","v":0},{"$f":"Раздел2!K197","v":0}]
[null,"в том числе:\nТрап","184",0,0,0,0,0,0,0,0,0,0,0,0,0,0,0,null,null,{"$f":"Раздел2!F198","v":0},{"$f":"Раздел2!F198","v":0},{"$f":"Раздел2!H198","v":0},{"$f":"Раздел2!I198","v":0},{"$f":"Раздел2!J198","v":0},{"$f":"Раздел2!K198","v":0}]
[null,"Скит","185",0,0,0,0,0,0,0,0,0,0,0,0,0,0,0,null,null,{"$f":"Раздел2!F199","v":0},{"$f":"Раздел2!F199","v":0},{"$f":"Раздел2!H199","v":0},{"$f":"Раздел2!I199","v":0},{"$f":"Раздел2!J199","v":0},{"$f":"Раздел2!K199","v":0}]
[null,"Дубль-трап","186",0,0,0,0,0,0,0,0,0,0,0,0,0,0,0,null,null,{"$f":"Раздел2!F200","v":0},{"$f":"Раздел2!F200","v":0},{"$f":"Раздел2!H200","v":0},{"$f":"Раздел2!I200","v":0},{"$f":"Раздел2!J200","v":0},{"$f":"Раздел2!K200","v":0}]
[null,"Спортинг","187",0,0,0,0,0,0,0,0,0,0,0,0,0,0,0,null,null,{"$f":"Раздел2!F201","v":0},{"$f":"Раздел2!F201","v":0},{"$f":"Раздел2!H201","v":0},{"$f":"Раздел2!I201","v":0},{"$f":"Раздел2!J201","v":0},{"$f":"Раздел2!K201","v":0}]
[null,"Стрельба из арбалета","188",0,0,0,0,0,0,0,0,0,0,0,0,0,0,0,null,null,{"$f":"Раздел2!F202","v":0},{"$f":"Раздел2!F202","v":0},{"$f":"Раздел2!H202","v":0},{"$f":"Раздел2!I202","v":0},{"$f":"Раздел2!J202","v":0},{"$f":"Раздел2!K202","v":0}]
[null,"Стрельба из лука - всего","189",0,0,0,0,0,0,0,0,0,0,0,0,0,0,0,null,null,{"$f":"Раздел2!F203","v":0},{"$f":"Раздел2!F203","v":0},{"$f":"Раздел2!H203","v":0},{"$f":"Раздел2!I203","v":0},{"$f":"Раздел2!J203","v":0},{"$f":"Раздел2!K203","v":0}]
[null,"в том числе:\nКлассический лук","190",0,0,0,0,0,0,0,0,0,0,0,0,0,0,0,null,null,{"$f":"Раздел2!F204","v":22},{"$f":"Раздел2!F204","v":22},{"$f":"Раздел2!H204","v":22},{"$f":"Раздел2!I204","v":0},{"$f":"Раздел2!J204","v":0},{"$f":"Раздел2!K204","v":0}]
[null,"   Блочный лук","191",0,0,0,0,0,0,0,0,0,0,0,0,0,0,0,null,null,{"$f":"Раздел2!F205","v":0},{"$f":"Раздел2!F205","v":0},{"$f":"Раздел2!H205","v":0},{"$f":"Раздел2!I205","v":0},{"$f":"Раздел2!J205","v":0},{"$f":"Раздел2!K205","v":0}]
[null,"   Ачери ","192",0,0,0,0,0,0,0,0,0,0,0,0,0,0,0,null,null,{"$f":"Раздел2!F206","v":250},{"$f":"Раздел2!F206","v":250},{"$f":"Раздел2!H206","v":175},{"$f":"Раздел2!I206","v":69},{"$f":"Раздел2!J206","v":4},{"$f":"Раздел2!K206","v":2}]
[null,"Судомодельный спорт","193",0,0,0,0,0,0,0,0,0,0,0,0,0,0,0,null,null,{"$f":"Раздел2!F207","v":0},{"$f":"Раздел2!F207","v":0},{"$f":"Раздел2!H207","v":0},{"$f":"Раздел2!I207","v":0},{"$f":"Раздел2!J207","v":0},{"$f":"Раздел2!K207","v":0}]
[null,"Сумо","194",0,0,0,0,0,0,0,0,0,0,0,0,0,0,0,null,null,{"$f":"Раздел2!F208","v":250},{"$f":"Раздел2!F208","v":250},{"$f":"Раздел2!H208","v":175},{"$f":"Раздел2!I208","v":69},{"$f":"Раздел2!J208","v":4},{"$f":"Раздел2!K208","v":2}]
[null,"Тайский бокс","195",0,0,0,0,0,0,0,0,0,0,0,0,0,0,0,null,null,{"$f":"Раздел2!F209","v":580},{"$f":"Раздел2!F209","v":580},{"$f":"Раздел2!H209","v":252},{"$f":"Раздел2!I209","v":231},{"$f":"Раздел2!J209","v":16},{"$f":"Раздел2!K209","v":3}]
[null,"Танцевальный спорт","196",0,0,0,0,0,0,0,0,0,0,0,0,0,0,0,null,null,{"$f":"Раздел2!F210","v":0},{"$f":"Раздел2!F210","v":0},{"$f":"Раздел2!H210","v":0},{"$f":"Раздел2!I210","v":0},{"$f":"Раздел2!J210","v":0},{"$f":"Раздел2!K210","v":0}]
[null,"Теннис","197",22,22,0,0,0,12,12,0,0,0,8,0,8,0,0,null,null,{"$f":"Раздел2!F211","v":91},{"$f":"Раздел2!F211","v":91},{"$f":"Раздел2!H211","v":34},{"$f":"Раздел2!I211","v":42},{"$f":"Раздел2!J211","v":0},{"$f":"Раздел2!K211","v":0}]
[null,"Триатлон","198",0,0,0,0,0,0,0,0,0,0,0,0,0,0,0,null,null,{"$f":"Раздел2!F212","v":0},{"$f":"Раздел2!F212","v":0},{"$f":"Раздел2!H212","v":0},{"$f":"Раздел2!I212","v":0},{"$f":"Раздел2!J212","v":0},{"$f":"Раздел2!K212","v":0}]
[null,"Тхэквондо - всего","199",218,161,57,0,0,81,78,3,0,0,123,106,17,0,0,null,null,{"$f":"Раздел2!F213","v":0},{"$f":"Раздел2!F213","v":0},{"$f":"Раздел2!H213","v":0},{"$f":"Раздел2!I213","v":0},{"$f":"Раздел2!J213","v":0},{"$f":"Раздел2!K213","v":0}]
[null,"в том числе:\nТхэквондо (ГТФ, ИТФ, МФТ)","200",0,0,0,0,0,0,0,0,0,0,0,0,0,0,0,null,null,{"$f":"Раздел2!F214","v":0},{"$f":"Раздел2!F214","v":0},{"$f":"Раздел2!H214","v":0},{"$f":"Раздел2!I214","v":0},{"$f":"Раздел2!J214","v":0},{"$f":"Раздел2!K214","v":0},null,null,null,"Частично перешли",{"$f":"SUM(Раздел2!H215:K215)","v":0}]
[null,"Тхэквондо (ВТФ)","201",218,161,57,0,0,81,78,3,0,0,123,106,17,0,0,null,null,{"$f":"Раздел2!F215","v":0},{"$f":"Раздел2!F215","v":0},{"$f":"Раздел2!H215","v":0},{"$f":"Раздел2!I215","v":0},{"$f":"Раздел2!J215","v":0},{"$f":"Раздел2!K215","v":0},null,null,null,{"$f":"Раздел1!G18","v":0}]
[null,"Тяжелая атлетика","202",195,109,70,13,3,66,48,13,2,3,94,15,77,2,0,null,null,{"$f":"Раздел2!F216","v":0},{"$f":"Раздел2!F216","v":0},{"$f":"Раздел2!H216","v":0},{"$f":"Раздел2!I216","v":0},{"$f":"Раздел2!J216","v":0},{"$f":"Раздел2!K216","v":0},null,null,null,"Полностью перешли"]
[null,"Универсальный бой","203",0,0,0,0,0,0,0,0,0,0,0,0,0,0,0,null,null,{"$f":"Раздел2!F217","v":0},{"$f":"Раздел2!F217","v":0},{"$f":"Раздел2!H217","v":0},{"$f":"Раздел2!I217","v":0},{"$f":"Раздел2!J217","v":0},{"$f":"Раздел2!K217","v":0},null,null,null,{"$f":"Раздел1!J18","v":0}]
[null,"Ушу","204",46,19,27,0,0,7,0,7,0,0,0,0,0,0,0,null,null,{"$f":"Раздел2!F218","v":59},{"$f":"Раздел2!F218","v":59},{"$f":"Раздел2!H218","v":43},{"$f":"Раздел2!I218","v":16},{"$f":"Раздел2!J218","v":0},{"$f":"Раздел2!K218","v":0}]
[null,"Фехтование - всего","205",0,0,0,0,0,0,0,0,0,0,0,0,0,0,0,null,null,{"$f":"Раздел2!F219","v":0},{"$f":"Раздел2!F219","v":0},{"$f":"Раздел2!H219","v":0},{"$f":"Раздел2!I219","v":0},{"$f":"Раздел2!J219","v":0},{"$f":"Раздел2!K219","v":0}]
[null,"в том числе:\nРапира","206",0,0,0,0,0,0,0,0,0,0,0,0,0,0,0,null,null,{"$f":"Раздел2!F220","v":0},{"$f":"Раздел2!F220","v":0},{"$f":"Раздел2!H220","v":0},{"$f":"Раздел2!I220","v":0},{"$f":"Раздел2!J220","v":0},{"$f":"Раздел2!K220","v":0}]
[null,"Сабля","207",0,0,0,0,0,0,0,0,0,0,0,0,0,0,0,null,null,{"$f":"Раздел2!F221","v":0},{"$f":"Раздел2!F221","v":0},{"$f":"Раздел2!H221","v":0},{"$f":"Раздел2!I221","v":0},{"$f":"Раздел2!J221","v":0},{"$f":"Раздел2!K221","v":0}]
[null,"Шпага","208",0,0,0,0,0,0,0,0,0,0,0,0,0,0,0,null,null,{"$f":"Раздел2!F222","v":0},{"$f":"Раздел2!F222","v":0},{"$f":"Раздел2!H222","v":0},{"$f":"Раздел2!I222","v":0},{"$f":"Раздел2!J222","v":0},{"$f":"Раздел2!K222","v":0}]
[null,"Арт-фехтование","209",0,0,0,0,0,0,0,0,0,0,0,0,0,0,0,null,null,{"$f":"Раздел2!F223","v":0},{"$f":"Раздел2!F223","v":0},{"$f":"Раздел2!H223","v":0},{"$f":"Раздел2!I223","v":0},{"$f":"Раздел2!J223","v":0},{"$f":"Раздел2!K223","v":0}]
[null,"Фигурное катание на коньках","210",0,0,0,0,0,0,0,0,0,0,0,0,0,0,0,null,null,{"$f":"Раздел2!F224","v":0},{"$f":"Раздел2!F224","v":0},{"$f":"Раздел2!H224","v":0},{"$f":"Раздел2!I224","v":0},{"$f":"Раздел2!J224","v":0},{"$f":"Раздел2!K224","v":0}]
[null,"Фитнес-аэробика","211",0,0,0,0,0,0,0,0,0,0,0,0,0,0,0,null,null,{"$f":"Раздел2!F225","v":0},{"$f":"Раздел2!F225","v":0},{"$f":"Раздел2!H225","v":0},{"$f":"Раздел2!I225","v":0},{"$f":"Раздел2!J225","v":0},{"$f":"Раздел2!K225","v":0}]
[null,"Флаинг диск","212",0,0,0,0,0,0,0,0,0,0,0,0,0,0,0,null,null,{"$f":"Раздел2!F226","v":0},{"$f":"Раздел2!F226","v":0},{"$f":"Раздел2!H226","v":0},{"$f":"Раздел2!I226","v":0},{"$f":"Раздел2!J226","v":0},{"$f":"Раздел2!K226","v":0}]
[null,"Флорбол","213",0,0,0,0,0,0,0,0,0,0,0,0,0,0,0,null,null,{"$f":"Раздел2!F227","v":2096},{"$f":"Раздел2!F227","v":2096},{"$f":"Раздел2!H227","v":997},{"$f":"Раздел2!I227","v":955},{"$f":"Раздел2!J227","v":18},{"$f":"Раздел2!K227","v":6}]
[null,"Фристайл - всего","214",0,0,0,0,0,0,0,0,0,0,0,0,0,0,0,null,null,{"$f":"Раздел2!F228","v":2096},{"$f":"Раздел2!F228","v":2096},{"$f":"Раздел2!H228","v":997},{"$f":"Раздел2!I228","v":955},{"$f":"Раздел2!J228","v":18},{"$f":"Раздел2!K228","v":6}]
[null,"в том числе:\nАкробатика","215",0,0,0,0,0,0,0,0,0,0,0,0,0,0,0,null,null,{"$f":"Раздел2!F229","v":0},{"$f":"Раздел2!F229","v":0},{"$f":"Раздел2!H229","v":0},{"$f":"Раздел2!I229","v":0},{"$f":"Раздел2!J229","v":0},{"$f":"Раздел2!K229","v":0}]
[null,"Могул","216",0,0,0,0,0,0,0,0,0,0,0,0,0,0,0,null,null,{"$f":"Раздел2!F230","v":0},{"$f":"Раздел2!F230","v":0},{"$f":"Раздел2!H230","v":0},{"$f":"Раздел2!I230","v":0},{"$f":"Раздел2!J230","v":0},{"$f":"Раздел2!K230","v":0}]
[null,"Ски-кросс","217",0,0,0,0,0,0,0,0,0,0,0,0,0,0,0,null,null,{"$f":"Раздел2!F231","v":0},{"$f":"Раздел2!F231","v":0},{"$f":"Раздел2!H231","v":0},{"$f":"Раздел2!I231","v":0},{"$f":"Раздел2!J231","v":0},{"$f":"Раздел2!K231","v":0}]
[null,"Хаф-пайп","218",0,0,0,0,0,0,0,0,0,0,0,0,0,0,0,null,null,{"$f":"Раздел2!F232","v":0},{"$f":"Раздел2!F232","v":0},{"$f":"Раздел2!H232","v":0},{"$f":"Раздел2!I232","v":0},{"$f":"Раздел2!J232","v":0},{"$f":"Раздел2!K232","v":0}]
[null,"Слоуп-стайл","219",0,0,0,0,0,0,0,0,0,0,0,0,0,0,0,null,null,{"$f":"Раздел2!F233","v":0},{"$f":"Раздел2!F233","v":0},{"$f":"Раздел2!H233","v":0},{"$f":"Раздел2!I233","v":0},{"$f":"Раздел2!J233","v":0},{"$f":"Раздел2!K233","v":0}]
[null,"Футбол - всего","220",929,413,492,18,6,173,123,50,0,0,174,63,96,15,0,null,null,{"$f":"Раздел2!F234","v":0},{"$f":"Раздел2!F234","v":0},{"$f":"Раздел2!H234","v":0},{"$f":"Раздел2!I234","v":0},{"$f":"Раздел2!J234","v":0},{"$f":"Раздел2!K234","v":0}]
[null,"в том числе:\nФутбол (муж.)","221",929,413,492,18,6,173,123,50,0,0,174,63,96,15,0,null,null,{"$f":"Раздел2!F235","v":0},{"$f":"Раздел2!F235","v":0},{"$f":"Раздел2!H235","v":0},{"$f":"Раздел2!I235","v":0},{"$f":"Раздел2!J235","v":0},{"$f":"Раздел2!K235","v":0}]
[null,"Футбол (жен.)","222",0,0,0,0,0,0,0,0,0,0,0,0,0,0,0]
[null,"Мини-футбол (футзал)","223",0,0,0,0,0,0,0,0,0,0,0,0,0,0,0]
[null,"Пляжный футбол","224",0,0,0,0,0,0,0,0,0,0,0,0,0,0,0]
[null,"Хапсагай","225",0,0,0,0,0,0,0,0,0,0,0,0,0,0,0]
[null,"Хоккей - всего","226",0,0,0,0,0,0,0,0,0,0,0,0,0,0,0]
[null,"в том числе:\nХоккей (муж.)","227",0,0,0,0,0,0,0,0,0,0,0,0,0,0,0]
[null,"Хоккей (жен.)","228",0,0,0,0,0,0,0,0,0,0,0,0,0,0,0]
[null,"Хоккей на траве - всего","229",0,0,0,0,0,0,0,0,0,0,0,0,0,0,0]
[null,"в том числе:\nХоккей на траве (муж.)","230",0,0,0,0,0,0,0,0,0,0,0,0,0,0,0]
[null,"Хоккей на траве (жен.)","231",0,0,0,0,0,0,0,0,0,0,0,0,0,0,0]
[null,"Индорхоккей","232",0,0,0,0,0,0,0,0,0,0,0,0,0,0,0]
[null,"Хоккей с мячом","233",0,0,0,0,0,0,0,0,0,0,0,0,0,0,0]
[null,"Художественная гимнастика","234",92,70,20,2,0,47,25,20,2,0,108,108,0,0,0]
[null,"Хуреш","235",0,0,0,0,0,0,0,0,0,0,0,0,0,0,0]
[null,"Черлидинг","236",0,0,0,0,0,0,0,0,0,0,0,0,0,0,0]
[null,"Чир спорт","237",0,0,0,0,0,0,0,0,0,0,0,0,0,0,0]
[null,"Шахматы","238",88,38,50,0,0,32,22,10,0,0,24,2,22,0,0]
[null,"Шашки","239",0,0,0,0,0,0,0,0,0,0,0,0,0,0,0]
[null,"Эстетическая гимнастика","240",0,0,0,0,0,0,0,0,0,0,0,0,0,0,0]
[null,"Якутские национальные прыжки","241",0,0,0,0,0,0,0,0,0,0,0,0,0,0,0]
[null,"ИТОГО","242",6947,3823,2871,217,36,2554,1799,668,72,15,1485,791,646,44,4]
[null,"ИТОГО по олимпийским видам спорта","243",5832,3405,2226,173,28,2276,1622,577,63,14,1230,678,513,38,1]
[null,"  в том числе: \n  по летним видам спорта","244",5832,3405,2226,173,28,2276,1622,577,63,14,1230,678,513,38,1]
[null,"  по зимним видам спорта","245",0,0,0,0,0,0,0,0,0,0,0,0,0,0,0]
[null,"ИТОГО по неолимпийским видам спорта","246",1115,418,645,44,8,278,177,91,9,1,255,113,133,6,3]
[null,"ИТОГО по национальным видам спорта","247",0,0,0,0,0,0,0,0,0,0,0,0,0,0,0]
[null,"ИТОГО по прикладным видам спорта","248",0,0,0,0,0,0,0,0,0,0,0,0,0,0,0]
[null,"        По виду организации: \nДЮСШ - отделения, не соответствующие Перечню \"Олимпийский\"","249",2899,1614,1252,33,0,1086,880,186,20,0,617,350,261,6,0]
[null,"     из них по \n     ведомственной\n     принадлежности: \nорганы управления в сфере образования","250",1602,674,916,12,0,449,304,133,12,0,316,125,191,0,0]
[null,"органы управления в сфере физической культуры и \nспорта","251",1297,940,336,21,0,637,576,53,8,0,301,225,70,6,0]
[null,"другая ведомственная принадлежность","252",0,0,0,0,0,0,0,0,0,0,0,0,0,0,0]
[null,"СШ - отделения, не соответствующие Перечню \"Олимпийский\"","253",619,371,204,44,0,262,163,89,10,0,76,22,53,1,0]
[null,"     из них по \n     ведомственной\n     принадлежности: \nорганы управления в сфере образования","254",0,0,0,0,0,0,0,0,0,0,0,0,0,0,0]
[null,"органы управления в сфере физической культуры и \nспорта","255",619,371,204,44,0,262,163,89,10,0,76,22,53,1,0]
[null,"другая ведомственная принадлежность","256",0,0,0,0,0,0,0,0,0,0,0,0,0,0,0]
[null,"СДЮСШОР - отделения, соответствующие Перечню \"Олимпийский\"","257",515,402,87,26,0,127,108,14,5,0,63,44,14,5,0]
[null,"     из них по \n     ведомственной\n     принадлежности:\nорганы управления в сфере образования","258",0,0,0,0,0,0,0,0,0,0,0,0,0,0,0]
[null,"органы управления в сфере физической культуры и спорта","259",515,402,87,26,0,127,108,14,5,0,63,44,14,5,0]
[null,"другая ведомственная принадлежность","260",0,0,0,0,0,0,0,0,0,0,0,0,0,0,0]
[null,"СШОР - отделения, соответствующие Перечню \"Олимпийский\"","261",2159,1110,938,85,26,915,528,345,28,14,543,264,252,26,1]
[null,"     из них по \n     ведомственной\n     принадлежности:\nорганы управления в сфере образования","262",0,0,0,0,0,0,0,0,0,0,0,0,0,0,0]
[null,"органы управления в сфере физической культуры и спорта","263",2159,1110,938,85,26,915,528,345,28,14,543,264,252,26,1]
[null,"другая ведомственная принадлежность","264",0,0,0,0,0,0,0,0,0,0,0,0,0,0,0]
[null,"УОР","265",0,0,0,0,0,0,0,0,0,0,0,0,0,0,0]
[null,"     из них по\n     ведомственной\n     принадлежности:\nорганы управления в сфере образования","266",0,0,0,0,0,0,0,0,0,0,0,0,0,0,0]
[null,"органы управления в сфере физической культуры и спорта","267",0,0,0,0,0,0,0,0,0,0,0,0,0,0,0]
[null,"другая ведомственная принадлежность","268",0,0,0,0,0,0,0,0,0,0,0,0,0,0,0]
[null,"ЦСП","269",755,326,390,29,10,164,120,34,9,1,186,111,66,6,3]
[null,"     из них по\n     ведомственной\n     принадлежности:\nорганы управления в сфере образования","270",0,0,0,0,0,0,0,0,0,0,0,0,0,0,0]
[null,"органы управления в сфере физической культуры и спорта","271",755,326,390,29,10,164,120,34,9,1,186,111,66,6,3]
[null,"другая ведомственная принадлежность","272",0,0,0,0,0,0,0,0,0,0,0,0,0,0,0]
[null,"ЦОП","273",0,0,0,0,0,0,0,0,0,0,0,0,0,0,0]
[null,"     из них по\n     ведомственной\n     принадлежности:\nорганы управления в сфере образования","274",0,0,0,0,0,0,0,0,0,0,0,0,0,0,0]
[null,"органы управления в сфере физической культуры и спорта","275",0,0,0,0,0,0,0,0,0,0,0,0,0,0,0]
[null,"другая ведомственная принадлежность","276",0,0,0,0,0,0,0,0,0,0,0,0,0,0,0]
[null,"Другие организации","277",0,0,0,0,0,0,0,0,0,0,0,0,0,0,0]
[null,"     из них по\n     ведомственной\n     принадлежности:\nорганы управления в сфере образования","278",0,0,0,0,0,0,0,0,0,0,0,0,0,0,0]
[null,"органы управления в сфере физической культуры и спорта","279",0,0,0,0,0,0,0,0,0,0,0,0,0,0,0]
[null,"другая ведомственная принадлежность","280",0,0,0,0,0,0,0,0,0,0,0,0,0,0,0]

{"sheet":"Раздел4","index":4,"n_rows":287,"n_cols":29,"rows_kept":287,"cut":false,"hidden":false,"merged":[[3,21,3,24],[4,14,4,16],[1,16,1,24],[4,21,5,21],[3,4,3,7],[4,18,4,20],[2,28,5,28],[2,3,2,11],[3,12,5,12],[4,22,4,24],[4,8,5,8],[3,13,3,16],[3,8,3,11],[4,5,4,7],[3,3,5,3],[2,27,5,27],[0,25,118,25],[0,1,0,24],[4,13,5,13],[2,12,2,24],[3,17,3,20],[4,17,5,17],[0,0,118,0],[2,1,5,1],[2,2,5,2],[4,4,5,4],[4,9,4,11]]}
[null,"Раздел IV. Спортивные разряды, спортивные звания"]
[null,null,null,null,null,null,null,null,null,null,null,null,null,null,null,null,"Код по ОКЕИ: человек – 792"]
[null,"Виды спорта","№ строки","Из числа занимающихся (гр. 5 раздела II)\nспортсменов, имеющих разряды, звания",null,null,null,null,null,null,null,null,"Разряды, звания, присвоенные и подтвержденные в отчетном году",null,null,null,null,null,null,null,null,null,null,null,null,null,null,"Раздел2 графа3\nЧисло отделений","Раздел2 графа5\nЧисло отделений"]
[null,null,null,"Всего","спортивные разряды",null,null,null,"спортивные звания",null,null,null,"Всего","спортивные разряды присвоенные",null,null,null,"спортивные разряды подтвержденные",null,null,null,"спортивные звания присвоенные"]
[null,null,null,null,"Всего","в том числе:",null,null,"Всего","в том числе:",null,null,null,"Всего","в том числе:",null,null,"Всего","в том числе:",null,null,"Всего","в том числе:"]
[null,null,null,null,null,"КМС","1 разряд","другие разряды",null,"ЗМС","МСМК","МС",null,null,"КМС","1 разряд","другие разряды",null,"КМС","1 разряд","другие разряды",null,"ЗМС","МСМК","МС"]
[null,1,2,3,4,5,6,7,8,9,10,11,12,13,14,15,16,17,18,19,20,21,22,23,24]
[null,"Авиамодельный спорт","01",0,0,0,0,0,0,0,0,0,0,0,0,0,0,0,0,0,0,0,0,0,0,null,null,{"$f":"Раздел2!#REF!","v":{"$error":"#REF!"}},{"$f":"Раздел2!F8","v":0}]
[null,"Автомобильный спорт","02",0,0,0,0,0,0,0,0,0,0,0,0,0,0,0,0,0,0,0,0,0,0,null,null,{"$f":"Раздел2!#REF!","v":{"$error":"#REF!"}},{"$f":"Раздел2!F9","v":0}]
[null,"Автомодельный спорт","03",0,0,0,0,0,0,0,0,0,0,0,0,0,0,0,0,0,0,0,0,0,0,null,null,{"$f":"Раздел2!#REF!","v":{"$error":"#REF!"}},{"$f":"Раздел2!F11","v":0}]
[null,"Айкидо","04",0,0,0,0,0,0,0,0,0,0,0,0,0,0,0,0,0,0,0,0,0,0,null,null,{"$f":"Раздел2!#REF!","v":{"$error":"#REF!"}},{"$f":"Раздел2!F13","v":0}]
[null,"Айсшток","05",0,0,0,0,0,0,0,0,0,0,0,0,0,0,0,0,0,0,0,0,0,0,null,null,{"$f":"Раздел2!#REF!","v":{"$error":"#REF!"}},{"$f":"Раздел2!F14","v":0}]
[null,"Акробатический рок-н-ролл","06",0,0,0,0,0,0,0,0,0,0,0,0,0,0,0,0,0,0,0,0,0,0,null,null,{"$f":"Раздел2!#REF!","v":{"$error":"#REF!"}},{"$f":"Раздел2!F15","v":0}]
[null,"Альпинизм","07",0,0,0,0,0,0,0,0,0,0,0,0,0,0,0,0,0,0,0,0,0,0,null,null,{"$f":"Раздел2!#REF!","v":{"$error":"#REF!"}},{"$f":"Раздел2!F17","v":0}]
[null,"Американский футбол","08",0,0,0,0,0,0,0,0,0,0,0,0,0,0,0,0,0,0,0,0,0,0,null,null,{"$f":"Раздел2!#REF!","v":{"$error":"#REF!"}},{"$f":"Раздел2!F18","v":0}]
[null,"Армейский рукопашный бой","09",0,0,0,0,0,0,0,0,0,0,0,0,0,0,0,0,0,0,0,0,0,0,null,null,{"$f":"Раздел2!#REF!","v":{"$error":"#REF!"}},{"$f":"Раздел2!F19","v":666}]
[null,"Армрестлинг","10",0,0,0,0,0,0,0,0,0,0,0,0,0,0,0,0,0,0,0,0,0,0,null,null,{"$f":"Раздел2!#REF!","v":{"$error":"#REF!"}},{"$f":"Раздел2!F20","v":408}]
[null,"Бадминтон","11",0,0,0,0,0,0,0,0,0,0,0,0,0,0,0,0,0,0,0,0,0,0,null,null,{"$f":"Раздел2!#REF!","v":{"$error":"#REF!"}},{"$f":"Раздел2!F21","v":258}]
[null,"Баскетбол - всего","12",219,219,1,0,218,0,0,0,0,97,97,0,0,97,35,0,0,35,0,0,0,0,null,null,{"$f":"Раздел2!#REF!","v":{"$error":"#REF!"}},{"$f":"Раздел2!F22","v":0}]
[null,"в том числе:\nБаскетбол (муж.)","13",143,143,1,0,142,0,0,0,0,63,63,0,0,63,19,0,0,19,0,0,0,0,null,null,{"$f":"Раздел2!#REF!","v":{"$error":"#REF!"}},{"$f":"Раздел2!F23","v":0}]
[null,"Баскетбол (жен.)","14",76,76,0,0,76,0,0,0,0,34,34,0,0,34,16,0,0,16,0,0,0,0,null,null,{"$f":"Раздел2!#REF!","v":{"$error":"#REF!"}},{"$f":"Раздел2!F24","v":0}]
[null,"Бейсбол","15",0,0,0,0,0,0,0,0,0,0,0,0,0,0,0,0,0,0,0,0,0,0,null,null,{"$f":"Раздел2!#REF!","v":{"$error":"#REF!"}},{"$f":"Раздел2!F25","v":0}]
[null,"Биатлон","16",0,0,0,0,0,0,0,0,0,0,0,0,0,0,0,0,0,0,0,0,0,0,null,null,{"$f":"Раздел2!#REF!","v":{"$error":"#REF!"}},{"$f":"Раздел2!F26","v":0}]
[null,"Бильярдный спорт","17",0,0,0,0,0,0,0,0,0,0,0,0,0,0,0,0,0,0,0,0,0,0,null,null,{"$f":"Раздел2!#REF!","v":{"$error":"#REF!"}},{"$f":"Раздел2!F27","v":0}]
[null,"Бобслей - всего","18",0,0,0,0,0,0,0,0,0,0,0,0,0,0,0,0,0,0,0,0,0,0,null,null,{"$f":"Раздел2!#REF!","v":{"$error":"#REF!"}},{"$f":"Раздел2!F28","v":0}]
[null,"в том числе:\nБобслей","19",0,0,0,0,0,0,0,0,0,0,0,0,0,0,0,0,0,0,0,0,0,0,null,null,{"$f":"Раздел2!#REF!","v":{"$error":"#REF!"}},{"$f":"Раздел2!F29","v":243}]
[null,"Скелетон","20",0,0,0,0,0,0,0,0,0,0,0,0,0,0,0,0,0,0,0,0,0,0,null,null,{"$f":"Раздел2!#REF!","v":{"$error":"#REF!"}},{"$f":"Раздел2!F30","v":0}]
[null,"Бодибилдинг","21",0,0,0,0,0,0,0,0,0,0,0,0,0,0,0,0,0,0,0,0,0,0,null,null,{"$f":"Раздел2!#REF!","v":{"$error":"#REF!"}},{"$f":"Раздел2!F31","v":0}]
[null,"Бокс","22",90,87,6,0,81,3,0,0,3,43,43,0,3,40,26,0,0,26,0,0,0,0,null,null,{"$f":"Раздел2!#REF!","v":{"$error":"#REF!"}},{"$f":"Раздел2!F32","v":0}]
[null,"Борьба на поясах","23",0,0,0,0,0,0,0,0,0,0,0,0,0,0,0,0,0,0,0,0,0,0,null,null,{"$f":"Раздел2!#REF!","v":{"$error":"#REF!"}},{"$f":"Раздел2!F33","v":0}]
[null,"Боулинг","24",0,0,0,0,0,0,0,0,0,0,0,0,0,0,0,0,0,0,0,0,0,0,null,null,{"$f":"Раздел2!#REF!","v":{"$error":"#REF!"}},{"$f":"Раздел2!F34","v":0}]
[null,"Велоспорт ВМХ","25",0,0,0,0,0,0,0,0,0,0,0,0,0,0,0,0,0,0,0,0,0,0,null,null,{"$f":"Раздел2!#REF!","v":{"$error":"#REF!"}},{"$f":"Раздел2!F35","v":428}]
[null,"Велоспорт – маунтинбайк","26",0,0,0,0,0,0,0,0,0,0,0,0,0,0,0,0,0,0,0,0,0,0,null,null,{"$f":"Раздел2!#REF!","v":{"$error":"#REF!"}},{"$f":"Раздел2!F36","v":0}]
[null,"Велоспорт – трек","27",0,0,0,0,0,0,0,0,0,0,0,0,0,0,0,0,0,0,0,0,0,0,null,null,{"$f":"Раздел2!#REF!","v":{"$error":"#REF!"}},{"$f":"Раздел2!F37","v":0}]
[null,"Велоспорт – шоссе","28",182,174,20,5,149,8,0,1,7,84,83,12,1,70,0,0,0,0,1,0,0,1,null,null,{"$f":"Раздел2!#REF!","v":{"$error":"#REF!"}},{"$f":"Раздел2!F38","v":0}]
[null,"Вертолетный спорт","29",0,0,0,0,0,0,0,0,0,0,0,0,0,0,0,0,0,0,0,0,0,0,null,null,{"$f":"Раздел2!#REF!","v":{"$error":"#REF!"}},{"$f":"Раздел2!F39","v":0}]
[null,"Водно-моторный спорт","30",0,0,0,0,0,0,0,0,0,0,0,0,0,0,0,0,0,0,0,0,0,0,null,null,{"$f":"Раздел2!#REF!","v":{"$error":"#REF!"}},{"$f":"Раздел2!F40","v":0}]
[null,"Водное поло - всего ","31",0,0,0,0,0,0,0,0,0,0,0,0,0,0,0,0,0,0,0,0,0,0,null,null,{"$f":"Раздел2!#REF!","v":{"$error":"#REF!"}},{"$f":"Раздел2!F41","v":0}]
[null,"в том числе:\nВодное поло (муж.)","32",0,0,0,0,0,0,0,0,0,0,0,0,0,0,0,0,0,0,0,0,0,0,null,null,{"$f":"Раздел2!#REF!","v":{"$error":"#REF!"}},{"$f":"Раздел2!F44","v":0}]
[null,"Водное поло (жен.)","33",0,0,0,0,0,0,0,0,0,0,0,0,0,0,0,0,0,0,0,0,0,0,null,null,{"$f":"Раздел2!#REF!","v":{"$error":"#REF!"}},{"$f":"Раздел2!F45","v":1747}]
[null,"Воднолыжный спорт","34",0,0,0,0,0,0,0,0,0,0,0,0,0,0,0,0,0,0,0,0,0,0,null,null,{"$f":"Раздел2!#REF!","v":{"$error":"#REF!"}},{"$f":"Раздел2!F46","v":724}]
[null,"Военно-прикладной спорт","35",0,0,0,0,0,0,0,0,0,0,0,0,0,0,0,0,0,0,0,0,0,0,null,null,{"$f":"Раздел2!#REF!","v":{"$error":"#REF!"}},{"$f":"Раздел2!F47","v":948}]
[null,"Военно-спортивное многоборье","36",0,0,0,0,0,0,0,0,0,0,0,0,0,0,0,0,0,0,0,0,0,0,null,null,{"$f":"Раздел2!#REF!","v":{"$error":"#REF!"}},{"$f":"Раздел2!F48","v":40}]
[null,"Воздухоплавательный спорт","37",0,0,0,0,0,0,0,0,0,0,0,0,0,0,0,0,0,0,0,0,0,0,null,null,{"$f":"Раздел2!#REF!","v":{"$error":"#REF!"}},{"$f":"Раздел2!F49","v":35}]
[null,"Волейбол - всего","38",438,438,0,0,438,0,0,0,0,228,228,0,0,228,115,0,0,115,0,0,0,0,null,null,{"$f":"Раздел2!#REF!","v":{"$error":"#REF!"}},{"$f":"Раздел2!F50","v":0}]
[null,"в том числе:\nВолейбол (муж.)","39",146,146,0,0,146,0,0,0,0,62,62,0,0,62,59,0,0,59,0,0,0,0,null,null,{"$f":"Раздел2!#REF!","v":{"$error":"#REF!"}},{"$f":"Раздел2!F51","v":0}]
[null,"Волейбол (жен.)","40",259,259,0,0,259,0,0,0,0,146,146,0,0,146,56,0,0,56,0,0,0,0,null,null,{"$f":"Раздел2!#REF!","v":{"$error":"#REF!"}},{"$f":"Раздел2!F52","v":476}]
[null,"Пляжный волейбол (муж.)","41",11,11,0,0,11,0,0,0,0,8,8,0,0,8,0,0,0,0,0,0,0,0,null,null,{"$f":"Раздел2!#REF!","v":{"$error":"#REF!"}},{"$f":"Раздел2!F53","v":41}]
[null,"Пляжный волейбол (жен.)","42",22,22,0,0,22,0,0,0,0,12,12,0,0,12,0,0,0,0,0,0,0,0,null,null,{"$f":"Раздел2!#REF!","v":{"$error":"#REF!"}},{"$f":"Раздел2!F54","v":435}]
[null,"Восточное боевое единоборство","43",0,0,0,0,0,0,0,0,0,0,0,0,0,0,0,0,0,0,0,0,0,0,null,null,{"$f":"Раздел2!#REF!","v":{"$error":"#REF!"}},{"$f":"Раздел2!F56","v":0}]
[null,"Всестилевое карате","44",0,0,0,0,0,0,0,0,0,0,0,0,0,0,0,0,0,0,0,0,0,0,null,null,{"$f":"Раздел2!#REF!","v":{"$error":"#REF!"}},{"$f":"Раздел2!F57","v":0}]
[null,"Гандбол - всего","45",96,86,14,5,67,10,0,1,9,62,59,4,0,55,12,0,0,12,3,0,0,3,null,null,{"$f":"Раздел2!#REF!","v":{"$error":"#REF!"}},{"$f":"Раздел2!F58","v":0}]
[null,"в том числе:\nГандбол (муж.)","46",0,0,0,0,0,0,0,0,0,0,0,0,0,0,0,0,0,0,0,0,0,0,null,null,{"$f":"Раздел2!#REF!","v":{"$error":"#REF!"}},{"$f":"Раздел2!F59","v":0}]
[null,"Гандбол (жен.)","47",96,86,14,5,67,10,0,1,9,62,59,4,0,55,12,0,0,12,3,0,0,3,null,null,{"$f":"Раздел2!#REF!","v":{"$error":"#REF!"}},{"$f":"Раздел2!F60","v":0}]
[null,"Пляжный гандбол","48",0,0,0,0,0,0,0,0,0,0,0,0,0,0,0,0,0,0,0,0,0,0,null,null,{"$f":"Раздел2!#REF!","v":{"$error":"#REF!"}},{"$f":"Раздел2!F61","v":0}]
[null,"Гиревой спорт","49",0,0,0,0,0,0,0,0,0,0,0,0,0,0,0,0,0,0,0,0,0,0,null,null,{"$f":"Раздел2!#REF!","v":{"$error":"#REF!"}},{"$f":"Раздел2!F63","v":0}]
[null,"Го","50",0,0,0,0,0,0,0,0,0,0,0,0,0,0,0,0,0,0,0,0,0,0,null,null,{"$f":"Раздел2!#REF!","v":{"$error":"#REF!"}},{"$f":"Раздел2!F64","v":0}]
[null,"Гольф","51",0,0,0,0,0,0,0,0,0,0,0,0,0,0,0,0,0,0,0,0,0,0,null,null,{"$f":"Раздел2!#REF!","v":{"$error":"#REF!"}},{"$f":"Раздел2!F65","v":0}]
[null,"Горнолыжный спорт","52",0,0,0,0,0,0,0,0,0,0,0,0,0,0,0,0,0,0,0,0,0,0,null,null,{"$f":"Раздел2!#REF!","v":{"$error":"#REF!"}},{"$f":"Раздел2!F66","v":0}]
[null,"Городошный спорт","53",0,0,0,0,0,0,0,0,0,0,0,0,0,0,0,0,0,0,0,0,0,0,null,null,{"$f":"Раздел2!#REF!","v":{"$error":"#REF!"}},{"$f":"Раздел2!F67","v":0}]
[null,"Гребля на байдарках и каноэ","54",0,0,0,0,0,0,0,0,0,0,0,0,0,0,0,0,0,0,0,0,0,0,null,null,{"$f":"Раздел2!#REF!","v":{"$error":"#REF!"}},{"$f":"Раздел2!F68","v":0}]
[null,"Гребля на шлюпках","55",0,0,0,0,0,0,0,0,0,0,0,0,0,0,0,0,0,0,0,0,0,0,null,null,{"$f":"Раздел2!#REF!","v":{"$error":"#REF!"}},{"$f":"Раздел2!F69","v":0}]
[null,"Гребной слалом","56",0,0,0,0,0,0,0,0,0,0,0,0,0,0,0,0,0,0,0,0,0,0,null,null,{"$f":"Раздел2!#REF!","v":{"$error":"#REF!"}},{"$f":"Раздел2!F70","v":0}]
[null,"Гребной спорт - всего","57",0,0,0,0,0,0,0,0,0,0,0,0,0,0,0,0,0,0,0,0,0,0,null,null,{"$f":"Раздел2!#REF!","v":{"$error":"#REF!"}},{"$f":"Раздел2!F71","v":0}]
[null,"в том числе:\nАкадемическая гребля","58",0,0,0,0,0,0,0,0,0,0,0,0,0,0,0,0,0,0,0,0,0,0,null,null,{"$f":"Раздел2!#REF!","v":{"$error":"#REF!"}},{"$f":"Раздел2!F72","v":1342}]
[null,"Гребля-индор","59",0,0,0,0,0,0,0,0,0,0,0,0,0,0,0,0,0,0,0,0,0,0,null,null,{"$f":"Раздел2!#REF!","v":{"$error":"#REF!"}},{"$f":"Раздел2!F73","v":0}]
[null,"Народная гребля","60",0,0,0,0,0,0,0,0,0,0,0,0,0,0,0,0,0,0,0,0,0,0,null,null,{"$f":"Раздел2!#REF!","v":{"$error":"#REF!"}},{"$f":"Раздел2!F74","v":0}]
[null,"Прибрежная гребля","61",0,0,0,0,0,0,0,0,0,0,0,0,0,0,0,0,0,0,0,0,0,0,null,null,{"$f":"Раздел2!#REF!","v":{"$error":"#REF!"}},{"$f":"Раздел2!F75","v":99}]
[null,"Гребно-парусное двоеборье","62",0,0,0,0,0,0,0,0,0,0,0,0,0,0,0,0,0,0,0,0,0,0,null,null,{"$f":"Раздел2!#REF!","v":{"$error":"#REF!"}},{"$f":"Раздел2!F76","v":0}]
[null,"Дартс","63",0,0,0,0,0,0,0,0,0,0,0,0,0,0,0,0,0,0,0,0,0,0,null,null,{"$f":"Раздел2!#REF!","v":{"$error":"#REF!"}},{"$f":"Раздел2!F77","v":0}]
[null,"Джиу-джитсу","64",0,0,0,0,0,0,0,0,0,0,0,0,0,0,0,0,0,0,0,0,0,0,null,null,{"$f":"Раздел2!#REF!","v":{"$error":"#REF!"}},{"$f":"Раздел2!F78","v":0}]
[null,"Дзюдо","65",856,826,79,184,563,30,0,3,27,260,254,22,24,208,107,6,18,83,6,0,1,5,null,null,{"$f":"Раздел2!#REF!","v":{"$error":"#REF!"}},{"$f":"Раздел2!F79","v":0}]
[null,"Ездовой спорт","66",0,0,0,0,0,0,0,0,0,0,0,0,0,0,0,0,0,0,0,0,0,0,null,null,{"$f":"Раздел2!#REF!","v":{"$error":"#REF!"}},{"$f":"Раздел2!F80","v":0}]
[null,"Капоэйра","67",0,0,0,0,0,0,0,0,0,0,0,0,0,0,0,0,0,0,0,0,0,0,null,null,{"$f":"Раздел2!#REF!","v":{"$error":"#REF!"}},{"$f":"Раздел2!F81","v":118}]
[null,"Каратэ","68",23,21,2,1,18,2,0,1,1,14,14,5,4,5,1,1,0,0,0,0,0,0,null,null,{"$f":"Раздел2!#REF!","v":{"$error":"#REF!"}},{"$f":"Раздел2!F82","v":0}]
[null,"Кендо","69",0,0,0,0,0,0,0,0,0,0,0,0,0,0,0,0,0,0,0,0,0,0,null,null,{"$f":"Раздел2!#REF!","v":{"$error":"#REF!"}},{"$f":"Раздел2!F83","v":0}]
[null,"Керешу","70",0,0,0,0,0,0,0,0,0,0,0,0,0,0,0,0,0,0,0,0,0,0,null,null,{"$f":"Раздел2!#REF!","v":{"$error":"#REF!"}},{"$f":"Раздел2!F84","v":0}]
[null,"Керлинг - всего","71",0,0,0,0,0,0,0,0,0,0,0,0,0,0,0,0,0,0,0,0,0,0,null,null,{"$f":"Раздел2!#REF!","v":{"$error":"#REF!"}},{"$f":"Раздел2!F85","v":0}]
[null,"в том числе:\nКерлинг (муж.)","72",0,0,0,0,0,0,0,0,0,0,0,0,0,0,0,0,0,0,0,0,0,0,null,null,{"$f":"Раздел2!#REF!","v":{"$error":"#REF!"}},{"$f":"Раздел2!F86","v":124}]
[null,"Керлинг (жен.)","73",0,0,0,0,0,0,0,0,0,0,0,0,0,0,0,0,0,0,0,0,0,0,null,null,{"$f":"Раздел2!#REF!","v":{"$error":"#REF!"}},{"$f":"Раздел2!F87","v":0}]
[null,"Кикбоксинг","74",61,51,26,7,18,10,0,1,9,23,21,8,5,8,0,0,0,0,2,0,1,1,null,null,{"$f":"Раздел2!#REF!","v":{"$error":"#REF!"}},{"$f":"Раздел2!F88","v":0}]
[null,"Кинологический спорт","75",0,0,0,0,0,0,0,0,0,0,0,0,0,0,0,0,0,0,0,0,0,0,null,null,{"$f":"Раздел2!#REF!","v":{"$error":"#REF!"}},{"$f":"Раздел2!F89","v":0}]
[null,"Киокусинкай","76",0,0,0,0,0,0,0,0,0,0,0,0,0,0,0,0,0,0,0,0,0,0,null,null,{"$f":"Раздел2!#REF!","v":{"$error":"#REF!"}},{"$f":"Раздел2!F90","v":0}]
[null,"Комплексное единоборство","77",0,0,0,0,0,0,0,0,0,0,0,0,0,0,0,0,0,0,0,0,0,0,null,null,{"$f":"Раздел2!#REF!","v":{"$error":"#REF!"}},{"$f":"Раздел2!F91","v":0}]
[null,"Компьютерный спорт","78",0,0,0,0,0,0,0,0,0,0,0,0,0,0,0,0,0,0,0,0,0,0,null,null,{"$f":"Раздел2!#REF!","v":{"$error":"#REF!"}},{"$f":"Раздел2!F92","v":0}]
[null,"Конный спорт","79",16,14,2,2,10,2,0,0,2,6,6,0,0,6,0,0,0,0,0,0,0,0,null,null,{"$f":"Раздел2!#REF!","v":{"$error":"#REF!"}},{"$f":"Раздел2!F93","v":549}]
[null,"Конькобежный спорт - всего","80",0,0,0,0,0,0,0,0,0,0,0,0,0,0,0,0,0,0,0,0,0,0,null,null,{"$f":"Раздел2!#REF!","v":{"$error":"#REF!"}},{"$f":"Раздел2!F94","v":234}]
[null,"в том числе:\nКонькобежный спорт","81",0,0,0,0,0,0,0,0,0,0,0,0,0,0,0,0,0,0,0,0,0,0,null,null,{"$f":"Раздел2!#REF!","v":{"$error":"#REF!"}},{"$f":"Раздел2!F95","v":107}]
[null,"Шорт-трек","82",0,0,0,0,0,0,0,0,0,0,0,0,0,0,0,0,0,0,0,0,0,0,null,null,{"$f":"Раздел2!#REF!","v":{"$error":"#REF!"}},{"$f":"Раздел2!F96","v":8}]
[null,"Корэш","83",0,0,0,0,0,0,0,0,0,0,0,0,0,0,0,0,0,0,0,0,0,0,null,null,{"$f":"Раздел2!#REF!","v":{"$error":"#REF!"}},{"$f":"Раздел2!F97","v":140}]
[null,"Корфбол","84",0,0,0,0,0,0,0,0,0,0,0,0,0,0,0,0,0,0,0,0,0,0,null,null,{"$f":"Раздел2!#REF!","v":{"$error":"#REF!"}},{"$f":"Раздел2!F98","v":14}]
[null,"Лапта","85",0,0,0,0,0,0,0,0,0,0,0,0,0,0,0,0,0,0,0,0,0,0,null,null,{"$f":"Раздел2!#REF!","v":{"$error":"#REF!"}},{"$f":"Раздел2!F99","v":46}]
[null,"Легкая атлетика - всего","86",283,281,21,15,245,2,0,0,2,154,153,9,8,136,24,4,5,15,1,0,0,1,null,null,{"$f":"Раздел2!#REF!","v":{"$error":"#REF!"}},{"$f":"Раздел2!F100","v":0}]
[null,"в том числе:\nСпринтерский и барьерный бег","87",178,177,7,10,160,1,0,0,1,88,87,3,4,80,20,2,3,15,1,0,0,1,null,null,{"$f":"Раздел2!#REF!","v":{"$error":"#REF!"}},{"$f":"Раздел2!F101","v":0}]
[null,"Бег на средние дистанции и бег с препятствиями","88",59,59,4,4,51,0,0,0,0,47,47,2,3,42,2,0,2,0,0,0,0,0,null,null,{"$f":"Раздел2!#REF!","v":{"$error":"#REF!"}},{"$f":"Раздел2!F102","v":0}]
[null,"Бег на длинные и сверхдлинные дистанции","89",8,8,0,0,8,0,0,0,0,3,3,0,0,3,0,0,0,0,0,0,0,0,null,null,{"$f":"Раздел2!#REF!","v":{"$error":"#REF!"}},{"$f":"Раздел2!F103","v":0}]
[null,"Многоборья","90",11,10,7,0,3,1,0,0,1,6,6,3,0,3,1,1,0,0,0,0,0,0,null,null,{"$f":"Раздел2!#REF!","v":{"$error":"#REF!"}},{"$f":"Раздел2!F104","v":0}]
[null,"Прыжки","91",7,7,0,0,7,0,0,0,0,2,2,0,0,2,0,0,0,0,0,0,0,0,null,null,{"$f":"Раздел2!#REF!","v":{"$error":"#REF!"}},{"$f":"Раздел2!F105","v":0}]
[null,"Метания","92",20,20,3,1,16,0,0,0,0,8,8,1,1,6,1,1,0,0,0,0,0,0,null,null,{"$f":"Раздел2!#REF!","v":{"$error":"#REF!"}},{"$f":"Раздел2!F106","v":0}]
[null,"Спортивная ходьба","93",0,0,0,0,0,0,0,0,0,0,0,0,0,0,0,0,0,0,0,0,0,0,null,null,{"$f":"Раздел2!#REF!","v":{"$error":"#REF!"}},{"$f":"Раздел2!F107","v":0}]
[null,"Лыжное двоеборье","94",0,0,0,0,0,0,0,0,0,0,0,0,0,0,0,0,0,0,0,0,0,0,null,null,{"$f":"Раздел2!#REF!","v":{"$error":"#REF!"}},{"$f":"Раздел2!F108","v":0}]
[null,"Лыжные гонки","95",0,0,0,0,0,0,0,0,0,0,0,0,0,0,0,0,0,0,0,0,0,0,null,null,{"$f":"Раздел2!#REF!","v":{"$error":"#REF!"}},{"$f":"Раздел2!F109","v":689}]
[null,"Мас-рестлинг","96",0,0,0,0,0,0,0,0,0,0,0,0,0,0,0,0,0,0,0,0,0,0,null,null,{"$f":"Раздел2!#REF!","v":{"$error":"#REF!"}},{"$f":"Раздел2!F110","v":0}]
[null,"Международное военно-спортивное многоборье","97",0,0,0,0,0,0,0,0,0,0,0,0,0,0,0,0,0,0,0,0,0,0,null,null,{"$f":"Раздел2!#REF!","v":{"$error":"#REF!"}},{"$f":"Раздел2!F111","v":0}]
[null,"Многоборье кинологов","98",0,0,0,0,0,0,0,0,0,0,0,0,0,0,0,0,0,0,0,0,0,0,null,null,{"$f":"Раздел2!#REF!","v":{"$error":"#REF!"}},{"$f":"Раздел2!F112","v":0}]
[null,"Многоборье спасателей МЧС России","99",0,0,0,0,0,0,0,0,0,0,0,0,0,0,0,0,0,0,0,0,0,0,null,null,{"$f":"Раздел2!#REF!","v":{"$error":"#REF!"}},{"$f":"Раздел2!F113","v":0}]
[null,"Морское многоборье","100",0,0,0,0,0,0,0,0,0,0,0,0,0,0,0,0,0,0,0,0,0,0,null,null,{"$f":"Раздел2!#REF!","v":{"$error":"#REF!"}},{"$f":"Раздел2!F114","v":0}]
[null,"Мотоциклетный спорт","101",0,0,0,0,0,0,0,0,0,0,0,0,0,0,0,0,0,0,0,0,0,0,null,null,{"$f":"Раздел2!#REF!","v":{"$error":"#REF!"}},{"$f":"Раздел2!F115","v":0}]
[null,"Настольный теннис","102",249,249,3,25,221,0,0,0,0,105,105,1,6,98,10,0,0,10,0,0,0,0,null,null,{"$f":"Раздел2!#REF!","v":{"$error":"#REF!"}},{"$f":"Раздел2!F116","v":0}]
[null,"Парашютный спорт","103",0,0,0,0,0,0,0,0,0,0,0,0,0,0,0,0,0,0,0,0,0,0,null,null,{"$f":"Раздел2!#REF!","v":{"$error":"#REF!"}},{"$f":"Раздел2!F117","v":0}]
[null,"Парусный спорт","104",0,0,0,0,0,0,0,0,0,0,0,0,0,0,0,0,0,0,0,0,0,0,null,null,{"$f":"Раздел2!#REF!","v":{"$error":"#REF!"}},{"$f":"Раздел2!F118","v":0}]
[null,"Пауэрлифтинг","105",0,0,0,0,0,0,0,0,0,0,0,0,0,0,0,0,0,0,0,0,0,0,null,null,{"$f":"Раздел2!#REF!","v":{"$error":"#REF!"}},{"$f":"Раздел2!F119","v":0}]
[null,"Перетягивание каната","106",0,0,0,0,0,0,0,0,0,0,0,0,0,0,0,0,0,0,0,0,0,0,null,null,{"$f":"Раздел2!#REF!","v":{"$error":"#REF!"}},{"$f":"Раздел2!F120","v":0}]
[null,"Петанк","107",0,0,0,0,0,0,0,0,0,0,0,0,0,0,0,0,0,0,0,0,0,0,null,null,{"$f":"Раздел2!#REF!","v":{"$error":"#REF!"}},{"$f":"Раздел2!F121","v":0}]
[null,"Плавание - всего","108",0,0,0,0,0,0,0,0,0,0,0,0,0,0,0,0,0,0,0,0,0,0,null,null,{"$f":"Раздел2!#REF!","v":{"$error":"#REF!"}},{"$f":"Раздел2!F122","v":0}]
[null,"в том числе:\nПлавание ","109",0,0,0,0,0,0,0,0,0,0,0,0,0,0,0,0,0,0,0,0,0,0,null,null,{"$f":"Раздел2!#REF!","v":{"$error":"#REF!"}},{"$f":"Раздел2!F123","v":0}]
[null,"Открытая вода","110",0,0,0,0,0,0,0,0,0,0,0,0,0,0,0,0,0,0,0,0,0,0,null,null,{"$f":"Раздел2!#REF!","v":{"$error":"#REF!"}},{"$f":"Раздел2!F124","v":0}]
[null,"Планерный спорт","111",0,0,0,0,0,0,0,0,0,0,0,0,0,0,0,0,0,0,0,0,0,0,null,null,{"$f":"Раздел2!#REF!","v":{"$error":"#REF!"}},{"$f":"Раздел2!F125","v":0}]
[null,"Подводный спорт","112",0,0,0,0,0,0,0,0,0,0,0,0,0,0,0,0,0,0,0,0,0,0,null,null,{"$f":"Раздел2!#REF!","v":{"$error":"#REF!"}},{"$f":"Раздел2!F126","v":94}]
[null,"Пожарно-прикладной спорт","113",0,0,0,0,0,0,0,0,0,0,0,0,0,0,0,0,0,0,0,0,0,0,null,null,null,{"$f":"Раздел2!F127","v":0}]
[null,"Полиатлон","114",0,0,0,0,0,0,0,0,0,0,0,0,0,0,0,0,0,0,0,0,0,0,null,null,null,{"$f":"Раздел2!F128","v":0}]
[null,"Практическая стрельба","115",0,0,0,0,0,0,0,0,0,0,0,0,0,0,0,0,0,0,0,0,0,0,null,null,null,{"$f":"Раздел2!F129","v":94}]
[null,"Прыжки в воду - всего","116",0,0,0,0,0,0,0,0,0,0,0,0,0,0,0,0,0,0,0,0,0,0,null,null,null,{"$f":"Раздел2!F130","v":0}]
[null,"в том числе:\nПрыжки в воду","117",0,0,0,0,0,0,0,0,0,0,0,0,0,0,0,0,0,0,0,0,0,0,null,null,null,{"$f":"Раздел2!F131","v":0}]
[null,"Прыжки в открытый водоем","118",0,0,0,0,0,0,0,0,0,0,0,0,0,0,0,0,0,0,0,0,0,0,null,null,null,{"$f":"Раздел2!F132","v":129}]
[null,"Прыжки на батуте - всего","119",91,86,17,15,54,5,0,0,5,76,73,8,11,54,17,5,12,0,3,0,0,3,null,null,null,{"$f":"Раздел2!F133","v":0}]
[null,"в том числе:\nАкробатическая дорожка","120",0,0,0,0,0,0,0,0,0,0,0,0,0,0,0,0,0,0,0,0,0,0,null,null,null,{"$f":"Раздел2!F134","v":106}]
[null,"Двойной минитрамп","121",0,0,0,0,0,0,0,0,0,0,0,0,0,0,0,0,0,0,0,0,0,0,null,null,null,{"$f":"Раздел2!F135","v":7}]
[null,"Индивидуальные прыжки","122",91,86,17,15,54,5,0,0,5,76,73,8,11,54,17,5,12,0,3,0,0,3,null,null,null,{"$f":"Раздел2!F136","v":16}]
[null,"Синхронные прыжки","123",0,0,0,0,0,0,0,0,0,0,0,0,0,0,0,0,0,0,0,0,0,0,null,null,null,{"$f":"Раздел2!F137","v":0}]
[null,"Прыжки на лыжах с трамплина","124",0,0,0,0,0,0,0,0,0,0,0,0,0,0,0,0,0,0,0,0,0,0,null,null,null,{"$f":"Раздел2!F138","v":0}]
[null,"Пулевая стрельба - всего","125",67,62,40,3,19,5,1,2,2,13,13,13,0,0,0,0,0,0,0,0,0,0,null,null,null,{"$f":"Раздел2!F139","v":0}]
[null,"в том числе:\nПневматическая винтовка","126",0,0,0,0,0,0,0,0,0,0,0,0,0,0,0,0,0,0,0,0,0,0,null,null,null,{"$f":"Раздел2!F140","v":0}]
[null,"Пневматический пистолет","127",44,44,22,3,19,0,0,0,0,6,6,6,0,0,0,0,0,0,0,0,0,0,null,null,null,{"$f":"Раздел2!F141","v":0}]
[null,"Малокалиберная винтовка","128",7,6,6,0,0,1,0,1,0,1,1,1,0,0,0,0,0,0,0,0,0,0,null,null,null,{"$f":"Раздел2!F142","v":0}]
[null,"Малокалиберный пистолет","129",16,12,12,0,0,4,1,1,2,6,6,6,0,0,0,0,0,0,0,0,0,0,null,null,null,{"$f":"Раздел2!F143","v":0}]
[null,"Движущаяся мишень","130",0,0,0,0,0,0,0,0,0,0,0,0,0,0,0,0,0,0,0,0,0,0,null,null,null,{"$f":"Раздел2!F144","v":0}]
[null,"Пэйнтбол","131",0,0,0,0,0,0,0,0,0,0,0,0,0,0,0,0,0,0,0,0,0,0,null,null,null,{"$f":"Раздел2!F145","v":0}]
[null,"Радиоспорт","132",0,0,0,0,0,0,0,0,0,0,0,0,0,0,0,0,0,0,0,0,0,0,null,null,null,{"$f":"Раздел2!F146","v":0}]
[null,"Рафтинг","133",0,0,0,0,0,0,0,0,0,0,0,0,0,0,0,0,0,0,0,0,0,0,null,null,null,{"$f":"Раздел2!F147","v":0}]
[null,"Регби - всего","134",0,0,0,0,0,0,0,0,0,0,0,0,0,0,0,0,0,0,0,0,0,0,null,null,null,{"$f":"Раздел2!F148","v":0}]
[null,"в том числе:\nРегби","135",0,0,0,0,0,0,0,0,0,0,0,0,0,0,0,0,0,0,0,0,0,0,null,null,null,{"$f":"Раздел2!F149","v":0}]
[null,"Регби 7 (муж.)","136",0,0,0,0,0,0,0,0,0,0,0,0,0,0,0,0,0,0,0,0,0,0,null,null,null,{"$f":"Раздел2!F150","v":0}]
[null,"Регби 7 (жен.)","137",0,0,0,0,0,0,0,0,0,0,0,0,0,0,0,0,0,0,0,0,0,0,null,null,null,{"$f":"Раздел2!F151","v":1473}]
[null,"Регби - пляжное","138",0,0,0,0,0,0,0,0,0,0,0,0,0,0,0,0,0,0,0,0,0,0,null,null,null,{"$f":"Раздел2!F152","v":0}]
[null,"Регбол","139",0,0,0,0,0,0,0,0,0,0,0,0,0,0,0,0,0,0,0,0,0,0,null,null,null,{"$f":"Раздел2!F153","v":0}]
[null,"Роллер спорт","140",0,0,0,0,0,0,0,0,0,0,0,0,0,0,0,0,0,0,0,0,0,0,null,null,null,{"$f":"Раздел2!F154","v":0}]
[null,"Рукопашный бой","141",0,0,0,0,0,0,0,0,0,0,0,0,0,0,0,0,0,0,0,0,0,0,null,null,null,{"$f":"Раздел2!F155","v":0}]
[null,"Рыболовный спорт","142",0,0,0,0,0,0,0,0,0,0,0,0,0,0,0,0,0,0,0,0,0,0,null,null,null,{"$f":"Раздел2!F156","v":0}]
[null,"Сават","143",0,0,0,0,0,0,0,0,0,0,0,0,0,0,0,0,0,0,0,0,0,0,null,null,null,{"$f":"Раздел2!F157","v":44}]
[null,"Самбо","144",537,517,56,82,379,20,1,2,17,183,182,16,30,136,74,7,7,60,1,0,0,1,null,null,null,{"$f":"Раздел2!F158","v":0}]
[null,"Самолетный спорт","145",0,0,0,0,0,0,0,0,0,0,0,0,0,0,0,0,0,0,0,0,0,0,null,null,null,{"$f":"Раздел2!F159","v":0}]
[null,"Санный спорт","146",0,0,0,0,0,0,0,0,0,0,0,0,0,0,0,0,0,0,0,0,0,0,null,null,null,{"$f":"Раздел2!F160","v":0}]
[null,"Северное многоборье","147",0,0,0,0,0,0,0,0,0,0,0,0,0,0,0,0,0,0,0,0,0,0,null,null,null,{"$f":"Раздел2!F161","v":0}]
[null,"Серфинг","148",0,0,0,0,0,0,0,0,0,0,0,0,0,0,0,0,0,0,0,0,0,0,null,null,null,{"$f":"Раздел2!F162","v":0}]
[null,"Синхронное плавание","149",0,0,0,0,0,0,0,0,0,0,0,0,0,0,0,0,0,0,0,0,0,0,null,null,null,{"$f":"Раздел2!F163","v":0}]
[null,"Скалолазание","150",30,30,0,2,28,0,0,0,0,13,13,0,2,11,5,0,0,5,0,0,0,0,null,null,null,{"$f":"Раздел2!F164","v":0}]
[null,"Скейтбординг","151",0,0,0,0,0,0,0,0,0,0,0,0,0,0,0,0,0,0,0,0,0,0,null,null,null,{"$f":"Раздел2!F165","v":0}]
[null,"Сквош","152",0,0,0,0,0,0,0,0,0,0,0,0,0,0,0,0,0,0,0,0,0,0,null,null,null,{"$f":"Раздел2!F166","v":0}]
[null,"Служебно-прикладной спорт ФСО России","153",0,0,0,0,0,0,0,0,0,0,0,0,0,0,0,0,0,0,0,0,0,0,null,null,null,{"$f":"Раздел2!F167","v":0}]
[null,"Служебно-прикладной спорт ГФС России","154",0,0,0,0,0,0,0,0,0,0,0,0,0,0,0,0,0,0,0,0,0,0,null,null,null,{"$f":"Раздел2!F168","v":0}]
[null,"Служебно-прикладной спорт ФСКН России","155",0,0,0,0,0,0,0,0,0,0,0,0,0,0,0,0,0,0,0,0,0,0,null,null,null,{"$f":"Раздел2!F169","v":0}]
[null,"Служебно-прикладной спорт ФТС России","156",0,0,0,0,0,0,0,0,0,0,0,0,0,0,0,0,0,0,0,0,0,0,null,null,null,{"$f":"Раздел2!F170","v":0}]
[null,"Служебное двоеборье","157",0,0,0,0,0,0,0,0,0,0,0,0,0,0,0,0,0,0,0,0,0,0,null,null,null,{"$f":"Раздел2!F171","v":0}]
[null,"Служебное единоборство","158",0,0,0,0,0,0,0,0,0,0,0,0,0,0,0,0,0,0,0,0,0,0,null,null,null,{"$f":"Раздел2!F172","v":0}]
[null,"Служебное многоборье","159",0,0,0,0,0,0,0,0,0,0,0,0,0,0,0,0,0,0,0,0,0,0,null,null,null,{"$f":"Раздел2!F173","v":0}]
[null,"Служебное собаководство","160",0,0,0,0,0,0,0,0,0,0,0,0,0,0,0,0,0,0,0,0,0,0,null,null,null,{"$f":"Раздел2!F174","v":0}]
[null,"Служебный биатлон","161",0,0,0,0,0,0,0,0,0,0,0,0,0,0,0,0,0,0,0,0,0,0,null,null,null,{"$f":"Раздел2!F175","v":0}]
[null,"Спасательный спорт","162",0,0,0,0,0,0,0,0,0,0,0,0,0,0,0,0,0,0,0,0,0,0,null,null,null,{"$f":"Раздел2!F176","v":0}]
[null,"Стрельба из боевого ручного стрелкового оружия","163",0,0,0,0,0,0,0,0,0,0,0,0,0,0,0,0,0,0,0,0,0,0,null,null,null,{"$f":"Раздел2!F177","v":132}]
[null,"Стрельба из штатного или табельного оружия","164",0,0,0,0,0,0,0,0,0,0,0,0,0,0,0,0,0,0,0,0,0,0,null,null,null,{"$f":"Раздел2!F178","v":0}]
[null,"Смешанное боевое единоборство (ММА)","165",0,0,0,0,0,0,0,0,0,0,0,0,0,0,0,0,0,0,0,0,0,0,null,null,null,{"$f":"Раздел2!F179","v":417}]
[null,"Сноуборд","166",0,0,0,0,0,0,0,0,0,0,0,0,0,0,0,0,0,0,0,0,0,0,null,null,null,{"$f":"Раздел2!F180","v":81}]
[null,"Современное пятиборье","167",0,0,0,0,0,0,0,0,0,0,0,0,0,0,0,0,0,0,0,0,0,0,null,null,null,{"$f":"Раздел2!F181","v":336}]
[null,"Софтбол","168",0,0,0,0,0,0,0,0,0,0,0,0,0,0,0,0,0,0,0,0,0,0,null,null,null,{"$f":"Раздел2!F182","v":0}]
[null,"Спорт сверхлегкой авиации","169",0,0,0,0,0,0,0,0,0,0,0,0,0,0,0,0,0,0,0,0,0,0,null,null,null,{"$f":"Раздел2!F183","v":0}]
[null,"Спортивная акробатика","170",94,90,7,31,52,4,0,0,4,39,39,0,10,29,0,0,0,0,0,0,0,0,null,null,null,{"$f":"Раздел2!F184","v":0}]
[null,"Спортивная аэробика","171",0,0,0,0,0,0,0,0,0,0,0,0,0,0,0,0,0,0,0,0,0,0,null,null,null,{"$f":"Раздел2!F185","v":0}]
[null,"Спортивная борьба - всего","172",116,105,20,17,68,11,0,1,10,37,37,4,6,27,28,5,0,23,0,0,0,0,null,null,null,{"$f":"Раздел2!F186","v":302}]
[null,"в том числе:\nВольная борьба","173",16,16,4,2,10,0,0,0,0,7,7,1,1,5,0,0,0,0,0,0,0,0,null,null,null,{"$f":"Раздел2!F187","v":234}]
[null,"Греко-римская борьба","174",100,89,16,15,58,11,0,1,10,30,30,3,5,22,28,5,0,23,0,0,0,0,null,null,null,{"$f":"Раздел2!F188","v":0}]
[null,"Грэпплинг","175",0,0,0,0,0,0,0,0,0,0,0,0,0,0,0,0,0,0,0,0,0,0,null,null,null,{"$f":"Раздел2!F189","v":50}]
[null,"Грэпплинг-ги","176",0,0,0,0,0,0,0,0,0,0,0,0,0,0,0,0,0,0,0,0,0,0,null,null,null,{"$f":"Раздел2!F190","v":0}]
[null,"Панкратион","177",0,0,0,0,0,0,0,0,0,0,0,0,0,0,0,0,0,0,0,0,0,0,null,null,null,{"$f":"Раздел2!F191","v":0}]
[null,"Спортивно-прикладное собаководство","178",0,0,0,0,0,0,0,0,0,0,0,0,0,0,0,0,0,0,0,0,0,0,null,null,null,{"$f":"Раздел2!F192","v":0}]
[null,"Спортивная гимнастика","179",122,122,0,9,113,0,0,0,0,95,95,0,3,92,0,0,0,0,0,0,0,0,null,null,null,{"$f":"Раздел2!F193","v":0}]
[null,"Спортивное ориентирование","180",215,213,4,26,183,2,0,0,2,1,1,0,0,1,0,0,0,0,0,0,0,0,null,null,null,{"$f":"Раздел2!F194","v":0}]
[null,"Спортивный бридж","181",0,0,0,0,0,0,0,0,0,0,0,0,0,0,0,0,0,0,0,0,0,0,null,null,null,{"$f":"Раздел2!F195","v":0}]
[null,"Спортивный туризм","182",31,31,0,5,26,0,0,0,0,0,0,0,0,0,0,0,0,0,0,0,0,0,null,null,null,{"$f":"Раздел2!F196","v":0}]
[null,"Стендовая стрельба - всего","183",0,0,0,0,0,0,0,0,0,0,0,0,0,0,0,0,0,0,0,0,0,0,null,null,null,{"$f":"Раздел2!F197","v":0}]
[null,"в том числе:\nТрап","184",0,0,0,0,0,0,0,0,0,0,0,0,0,0,0,0,0,0,0,0,0,0,null,null,null,{"$f":"Раздел2!F198","v":0}]
[null,"Скит","185",0,0,0,0,0,0,0,0,0,0,0,0,0,0,0,0,0,0,0,0,0,0,null,null,null,{"$f":"Раздел2!F199","v":0}]
[null,"Дубль-трап","186",0,0,0,0,0,0,0,0,0,0,0,0,0,0,0,0,0,0,0,0,0,0,null,null,null,{"$f":"Раздел2!F200","v":0}]
[null,"Спортинг","187",0,0,0,0,0,0,0,0,0,0,0,0,0,0,0,0,0,0,0,0,0,0,null,null,null,{"$f":"Раздел2!F201","v":0}]
[null,"Стрельба из арбалета","188",0,0,0,0,0,0,0,0,0,0,0,0,0,0,0,0,0,0,0,0,0,0,null,null,null,{"$f":"Раздел2!F202","v":0}]
[null,"Стрельба из лука - всего","189",0,0,0,0,0,0,0,0,0,0,0,0,0,0,0,0,0,0,0,0,0,0,null,null,null,{"$f":"Раздел2!F203","v":0}]
[null,"в том числе:\nКлассический лук","190",0,0,0,0,0,0,0,0,0,0,0,0,0,0,0,0,0,0,0,0,0,0,null,null,null,{"$f":"Раздел2!F204","v":22}]
[null,"   Блочный лук","191",0,0,0,0,0,0,0,0,0,0,0,0,0,0,0,0,0,0,0,0,0,0,null,null,null,{"$f":"Раздел2!F205","v":0}]
[null,"   Ачери ","192",0,0,0,0,0,0,0,0,0,0,0,0,0,0,0,0,0,0,0,0,0,0,null,null,null,{"$f":"Раздел2!F206","v":250}]
[null,"Судомодельный спорт","193",0,0,0,0,0,0,0,0,0,0,0,0,0,0,0,0,0,0,0,0,0,0,null,null,null,{"$f":"Раздел2!F207","v":0}]
[null,"Сумо","194",0,0,0,0,0,0,0,0,0,0,0,0,0,0,0,0,0,0,0,0,0,0,null,null,null,{"$f":"Раздел2!F208","v":250}]
[null,"Тайский бокс","195",0,0,0,0,0,0,0,0,0,0,0,0,0,0,0,0,0,0,0,0,0,0,null,null,null,{"$f":"Раздел2!F209","v":580}]
[null,"Танцевальный спорт","196",0,0,0,0,0,0,0,0,0,0,0,0,0,0,0,0,0,0,0,0,0,0,null,null,null,{"$f":"Раздел2!F210","v":0}]
[null,"Теннис","197",0,0,0,0,0,0,0,0,0,0,0,0,0,0,0,0,0,0,0,0,0,0,null,null,null,{"$f":"Раздел2!F211","v":91}]
[null,"Триатлон","198",0,0,0,0,0,0,0,0,0,0,0,0,0,0,0,0,0,0,0,0,0,0,null,null,null,{"$f":"Раздел2!F212","v":0}]
[null,"Тхэквондо - всего","199",88,86,4,7,75,2,0,0,2,68,67,3,0,64,0,0,0,0,1,0,0,1,null,null,null,{"$f":"Раздел2!F213","v":0}]
[null,"в том числе:\nТхэквондо (ГТФ, ИТФ, МФТ)","200",0,0,0,0,0,0,0,0,0,0,0,0,0,0,0,0,0,0,0,0,0,0,null,null,null,{"$f":"Раздел2!F214","v":0}]
[null,"Тхэквондо (ВТФ)","201",88,86,4,7,75,2,0,0,2,68,67,3,0,64,0,0,0,0,1,0,0,1,null,null,null,{"$f":"Раздел2!F215","v":0}]
[null,"Тяжелая атлетика","202",274,265,14,14,237,9,0,3,6,172,169,3,9,157,71,9,7,55,3,0,0,3,null,null,null,{"$f":"Раздел2!F216","v":0}]
[null,"Универсальный бой","203",0,0,0,0,0,0,0,0,0,0,0,0,0,0,0,0,0,0,0,0,0,0,null,null,null,{"$f":"Раздел2!F217","v":0}]
[null,"Ушу","204",37,37,1,2,34,0,0,0,0,24,24,0,2,22,4,0,0,4,0,0,0,0,null,null,null,{"$f":"Раздел2!F218","v":59}]
[null,"Фехтование - всего","205",0,0,0,0,0,0,0,0,0,0,0,0,0,0,0,0,0,0,0,0,0,0,null,null,null,{"$f":"Раздел2!F219","v":0}]
[null,"в том числе:\nРапира","206",0,0,0,0,0,0,0,0,0,0,0,0,0,0,0,0,0,0,0,0,0,0,null,null,null,{"$f":"Раздел2!F220","v":0}]
[null,"Сабля","207",0,0,0,0,0,0,0,0,0,0,0,0,0,0,0,0,0,0,0,0,0,0,null,null,null,{"$f":"Раздел2!F221","v":0}]
[null,"Шпага","208",0,0,0,0,0,0,0,0,0,0,0,0,0,0,0,0,0,0,0,0,0,0,null,null,null,{"$f":"Раздел2!F222","v":0}]
[null,"Арт-фехтование","209",0,0,0,0,0,0,0,0,0,0,0,0,0,0,0,0,0,0,0,0,0,0,null,null,null,{"$f":"Раздел2!F223","v":0}]
[null,"Фигурное катание на коньках","210",0,0,0,0,0,0,0,0,0,0,0,0,0,0,0,0,0,0,0,0,0,0,null,null,null,{"$f":"Раздел2!F224","v":0}]
[null,"Фитнес-аэробика","211",15,15,0,7,8,0,0,0,0,15,15,0,7,8,0,0,0,0,0,0,0,0,null,null,null,{"$f":"Раздел2!F225","v":0}]
[null,"Флаинг диск","212",0,0,0,0,0,0,0,0,0,0,0,0,0,0,0,0,0,0,0,0,0,0,null,null,null,{"$f":"Раздел2!F226","v":0}]
[null,"Флорбол","213",0,0,0,0,0,0,0,0,0,0,0,0,0,0,0,0,0,0,0,0,0,0,null,null,null,{"$f":"Раздел2!F227","v":2096}]
[null,"Фристайл - всего","214",0,0,0,0,0,0,0,0,0,0,0,0,0,0,0,0,0,0,0,0,0,0,null,null,null,{"$f":"Раздел2!F228","v":2096}]
[null,"в том числе:\nАкробатика","215",0,0,0,0,0,0,0,0,0,0,0,0,0,0,0,0,0,0,0,0,0,0,null,null,null,{"$f":"Раздел2!F229","v":0}]
[null,"Могул","216",0,0,0,0,0,0,0,0,0,0,0,0,0,0,0,0,0,0,0,0,0,0,null,null,null,{"$f":"Раздел2!F230","v":0}]
[null,"Ски-кросс","217",0,0,0,0,0,0,0,0,0,0,0,0,0,0,0,0,0,0,0,0,0,0,null,null,null,{"$f":"Раздел2!F231","v":0}]
[null,"Хаф-пайп","218",0,0,0,0,0,0,0,0,0,0,0,0,0,0,0,0,0,0,0,0,0,0,null,null,null,{"$f":"Раздел2!F232","v":0}]
[null,"Слоуп-стайл","219",0,0,0,0,0,0,0,0,0,0,0,0,0,0,0,0,0,0,0,0,0,0,null,null,null,{"$f":"Раздел2!F233","v":0}]
[null,"Футбол - всего","220",592,592,6,8,578,0,0,0,0,280,280,0,13,267,117,6,0,111,0,0,0,0,null,null,null,{"$f":"Раздел2!F234","v":0}]
[null,"в том числе:\nФутбол (муж.)","221",592,592,6,8,578,0,0,0,0,280,280,0,13,267,117,6,0,111,0,0,0,0,null,null,null,{"$f":"Раздел2!F235","v":0}]
[null,"Футбол (жен.)","222",0,0,0,0,0,0,0,0,0,0,0,0,0,0,0,0,0,0,0,0,0,0]
[null,"Мини-футбол (футзал)","223",0,0,0,0,0,0,0,0,0,0,0,0,0,0,0,0,0,0,0,0,0,0]
[null,"Пляжный футбол","224",0,0,0,0,0,0,0,0,0,0,0,0,0,0,0,0,0,0,0,0,0,0]
[null,"Хапсагай","225",0,0,0,0,0,0,0,0,0,0,0,0,0,0,0,0,0,0,0,0,0,0]
[null,"Хоккей - всего","226",0,0,0,0,0,0,0,0,0,0,0,0,0,0,0,0,0,0,0,0,0,0]
[null,"в том числе:\nХоккей (муж.)","227",0,0,0,0,0,0,0,0,0,0,0,0,0,0,0,0,0,0,0,0,0,0]
[null,"Хоккей (жен.)","228",0,0,0,0,0,0,0,0,0,0,0,0,0,0,0,0,0,0,0,0,0,0]
[null,"Хоккей на траве - всего","229",0,0,0,0,0,0,0,0,0,0,0,0,0,0,0,0,0,0,0,0,0,0]
[null,"в том числе:\nХоккей на траве (муж.)","230",0,0,0,0,0,0,0,0,0,0,0,0,0,0,0,0,0,0,0,0,0,0]
[null,"Хоккей на траве (жен.)","231",0,0,0,0,0,0,0,0,0,0,0,0,0,0,0,0,0,0,0,0,0,0]
[null,"Индорхоккей","232",0,0,0,0,0,0,0,0,0,0,0,0,0,0,0,0,0,0,0,0,0,0]
[null,"Хоккей с мячом","233",0,0,0,0,0,0,0,0,0,0,0,0,0,0,0,0,0,0,0,0,0,0]
[null,"Художественная гимнастика","234",81,81,1,1,79,0,0,0,0,80,80,0,1,79,0,0,0,0,0,0,0,0]
[null,"Хуреш","235",0,0,0,0,0,0,0,0,0,0,0,0,0,0,0,0,0,0,0,0,0,0]
[null,"Черлидинг","236",0,0,0,0,0,0,0,0,0,0,0,0,0,0,0,0,0,0,0,0,0,0]
[null,"Чир спорт","237",0,0,0,0,0,0,0,0,0,0,0,0,0,0,0,0,0,0,0,0,0,0]
[null,"Шахматы","238",261,261,2,29,230,0,0,0,0,85,85,0,1,84,16,1,0,15,0,0,0,0]
[null,"Шашки","239",0,0,0,0,0,0,0,0,0,0,0,0,0,0,0,0,0,0,0,0,0,0]
[null,"Эстетическая гимнастика","240",0,0,0,0,0,0,0,0,0,0,0,0,0,0,0,0,0,0,0,0,0,0]
[null,"Якутские национальные прыжки","241",0,0,0,0,0,0,0,0,0,0,0,0,0,0,0,0,0,0,0,0,0,0]
[null,"ИТОГО","242",5164,5039,346,502,4191,125,2,15,108,2257,2236,108,146,1982,662,44,49,569,21,0,2,19]
[null,"ИТОГО по олимпийским видам спорта","243",3913,3824,250,313,3261,89,1,12,76,1887,1869,84,91,1694,568,36,42,490,18,0,1,17]
[null,"  в том числе: \n  по летним видам спорта","244",3913,3824,250,313,3261,89,1,12,76,1887,1869,84,91,1694,568,36,42,490,18,0,1,17]
[null,"  по зимним видам спорта","245",0,0,0,0,0,0,0,0,0,0,0,0,0,0,0,0,0,0,0,0,0,0]
[null,"ИТОГО по неолимпийским видам спорта","246",1251,1215,96,189,930,36,1,3,32,370,367,24,55,288,94,8,7,79,3,0,1,2]
[null,"ИТОГО по национальным видам спорта","247",0,0,0,0,0,0,0,0,0,0,0,0,0,0,0,0,0,0,0,0,0,0]
[null,"ИТОГО по прикладным видам спорта","248",0,0,0,0,0,0,0,0,0,0,0,0,0,0,0,0,0,0,0,0,0,0]
[null,"        По виду организации: \nДЮСШ - отделения, не соответствующие Перечню \"Олимпийский\"","249",3270,3222,100,300,2822,48,0,6,42,1459,1459,24,96,1339,406,17,17,372,0,0,0,0]
[null,"     из них по \n     ведомственной\n     принадлежности: \nорганы управления в сфере образования","250",2321,2317,40,239,2038,4,0,0,4,927,927,12,59,856,142,3,7,132,0,0,0,0]
[null,"органы управления в сфере физической культуры и \nспорта","251",949,905,60,61,784,44,0,6,38,532,532,12,37,483,264,14,10,240,0,0,0,0]
[null,"другая ведомственная принадлежность","252",0,0,0,0,0,0,0,0,0,0,0,0,0,0,0,0,0,0,0,0,0,0]
[null,"СШ - отделения, не соответствующие Перечню \"Олимпийский\"","253",291,286,31,28,227,5,0,1,4,193,188,16,23,149,30,11,14,5,5,0,1,4]
[null,"     из них по \n     ведомственной\n     принадлежности: \nорганы управления в сфере образования","254",0,0,0,0,0,0,0,0,0,0,0,0,0,0,0,0,0,0,0,0,0,0]
[null,"органы управления в сфере физической культуры и \nспорта","255",291,286,31,28,227,5,0,1,4,193,188,16,23,149,30,11,14,5,5,0,1,4]
[null,"другая ведомственная принадлежность","256",0,0,0,0,0,0,0,0,0,0,0,0,0,0,0,0,0,0,0,0,0,0]
[null,"СДЮСШОР - отделения, соответствующие Перечню \"Олимпийский\"","257",114,111,22,3,86,3,0,0,3,64,61,6,0,55,12,0,0,12,3,0,0,3]
[null,"     из них по \n     ведомственной\n     принадлежности:\nорганы управления в сфере образования","258",0,0,0,0,0,0,0,0,0,0,0,0,0,0,0,0,0,0,0,0,0,0]
[null,"органы управления в сфере физической культуры и спорта","259",114,111,22,3,86,3,0,0,3,64,61,6,0,55,12,0,0,12,3,0,0,3]
[null,"другая ведомственная принадлежность","260",0,0,0,0,0,0,0,0,0,0,0,0,0,0,0,0,0,0,0,0,0,0]
[null,"СШОР - отделения, соответствующие Перечню \"Олимпийский\"","261",1070,1045,63,111,871,25,0,4,21,466,458,29,25,404,210,15,15,180,8,0,1,7]
[null,"     из них по \n     ведомственной\n     принадлежности:\nорганы управления в сфере образования","262",0,0,0,0,0,0,0,0,0,0,0,0,0,0,0,0,0,0,0,0,0,0]
[null,"органы управления в сфере физической культуры и спорта","263",1070,1045,63,111,871,25,0,4,21,466,458,29,25,404,210,15,15,180,8,0,1,7]
[null,"другая ведомственная принадлежность","264",0,0,0,0,0,0,0,0,0,0,0,0,0,0,0,0,0,0,0,0,0,0]
[null,"УОР","265",0,0,0,0,0,0,0,0,0,0,0,0,0,0,0,0,0,0,0,0,0,0]
[null,"     из них по\n     ведомственной\n     принадлежности:\nорганы управления в сфере образования","266",0,0,0,0,0,0,0,0,0,0,0,0,0,0,0,0,0,0,0,0,0,0]
[null,"органы управления в сфере физической культуры и спорта","267",0,0,0,0,0,0,0,0,0,0,0,0,0,0,0,0,0,0,0,0,0,0]
[null,"другая ведомственная принадлежность","268",0,0,0,0,0,0,0,0,0,0,0,0,0,0,0,0,0,0,0,0,0,0]
[null,"ЦСП","269",419,375,130,60,185,44,2,4,38,75,70,33,2,35,4,1,3,0,5,0,0,5]
[null,"     из них по\n     ведомственной\n     принадлежности:\nорганы управления в сфере образования","270",0,0,0,0,0,0,0,0,0,0,0,0,0,0,0,0,0,0,0,0,0,0]
[null,"органы управления в сфере физической культуры и спорта","271",419,375,130,60,185,44,2,4,38,75,70,33,2,35,4,1,3,0,5,0,0,5]
[null,"другая ведомственная принадлежность","272",0,0,0,0,0,0,0,0,0,0,0,0,0,0,0,0,0,0,0,0,0,0]
[null,"ЦОП","273",0,0,0,0,0,0,0,0,0,0,0,0,0,0,0,0,0,0,0,0,0,0]
[null,"     из них по\n     ведомственной\n     принадлежности:\nорганы управления в сфере образования","274",0,0,0,0,0,0,0,0,0,0,0,0,0,0,0,0,0,0,0,0,0,0]
[null,"органы управления в сфере физической культуры и спорта","275",0,0,0,0,0,0,0,0,0,0,0,0,0,0,0,0,0,0,0,0,0,0]
[null,"другая ведомственная принадлежность","276",0,0,0,0,0,0,0,0,0,0,0,0,0,0,0,0,0,0,0,0,0,0]
[null,"Другие организации","277",0,0,0,0,0,0,0,0,0,0,0,0,0,0,0,0,0,0,0,0,0,0]
[null,"     из них по\n     ведомственной\n     принадлежности:\nорганы управления в сфере образования","278",0,0,0,0,0,0,0,0,0,0,0,0,0,0,0,0,0,0,0,0,0,0]
[null,"органы управления в сфере физической культуры и спорта","279",0,0,0,0,0,0,0,0,0,0,0,0,0,0,0,0,0,0,0,0,0,0]
[null,"другая ведомственная принадлежность","280",0,0,0,0,0,0,0,0,0,0,0,0,0,0,0,0,0,0,0,0,0,0]

{"sheet":"Раздел5","index":5,"n_rows":259,"n_cols":102,"rows_kept":259,"cut":false,"hidden":false,"merged":[[5,93,5,94],[5,97,5,98],[5,77,5,78],[5,81,5,82],[5,83,5,84],[5,87,5,88],[5,91,5,92],[5,79,5,80],[5,85,5,86],[5,89,5,90],[5,95,5,96],[5,61,5,62],[5,65,5,66],[5,67,5,68],[5,71,5,72],[5,75,5,76],[5,63,5,64],[5,69,5,70],[5,73,5,74],[5,45,5,46],[5,49,5,50],[5,51,5,52],[5,55,5,56],[5,59,5,60],[5,47,5,48],[5,53,5,54],[5,57,5,58],[5,35,5,36],[5,39,5,40],[5,43,5,44],[5,23,5,24],[5,27,5,28],[5,29,5,30],[5,33,5,34],[5,31,5,32],[5,37,5,38],[5,41,5,42],[2,101,6,101],[2,51,2,98],[0,0,119,0],[2,1,6,1],[2,2,6,2],[2,3,2,50],[0,1,0,98],[3,3,4,18],[3,19,4,34],[3,35,4,50],[3,51,4,66],[3,67,4,82],[3,83,4,98],[0,99,119,99],[1,1,1,98],[5,3,5,4],[5,5,5,6],[5,9,5,10],[5,15,5,16],[5,21,5,22],[5,25,5,26],[5,7,5,8],[5,11,5,12],[5,13,5,14],[5,17,5,18],[5,19,5,20]]}
[null,"                                                                        Раздел V. Занимающиеся – кандидаты в спортивные сборные команды России"]
[null,"Код по ОКЕИ: человек 792"]
[null,"Виды спорта","№ строки","Из числа занимающихся (гр. 5 раздела II) – кандидаты, состоящие в списках спортивных сборных команд",null,null,null,null,null,null,null,null,null,null,null,null,null,null,null,null,null,null,null,null,null,null,null,null,null,null,null,null,null,null,null,null,null,null,null,null,null,null,null,null,null,null,null,null,null,null,null,"Кандидаты, подготовленные в отчетном году",null,null,null,null,null,null,null,null,null,null,null,null,null,null,null,null,null,null,null,null,null,null,null,null,null,null,null,null,null,null,null,null,null,null,null,null,null,null,null,null,null,null,null,null,null,null,null,null,null,"Раздел2 графа5\nЧисло отделений"]
[null,null,null,"Юношеский состав",null,null,null,null,null,null,null,null,null,null,null,null,null,null,null,"Юниорский состав",null,null,null,null,null,null,null,null,null,null,null,null,null,null,null,"Основной состав",null,null,null,null,null,null,null,null,null,null,null,null,null,null,null,"Юношеский состав",null,null,null,null,null,null,null,null,null,null,null,null,null,null,null,"Юниорский состав",null,null,null,null,null,null,null,null,null,null,null,null,null,null,null,"Основной состав"]
[]
[null,null,null,"ДЮСШ - отделения, не соответствую-щие Перечню \"Олимпийский\"",null,"СШ - отделения, не соответствую-щие Перечню \"Олимпийский\"",null,"СДЮСШОР - отделения,  соответствую-щие Перечню \"Олимпийский\"",null,"СШОР - отделения,  соответствую-щие Перечню \"Олимпийский\"",null,"УОР",null,"ЦСП",null,"ЦОП",null,"Другие",null,"ДЮСШ - отделения, не соответствую-щие Перечню \"Олимпийский\"",null,"СШ - отделения, не соответствую-щие Перечню \"Олимпийский\"",null,"СДЮСШОР - отделения,  соответствую-щие Перечню \"Олимпийский\"",null,"СШОР - отделения,  соответствую-щие Перечню \"Олимпийский\"",null,"УОР",null,"ЦСП",null,"ЦОП",null,"Другие",null,"ДЮСШ - отделения, не соответствую-щие Перечню \"Олимпийский\"",null,"СШ - отделения, не соответствую-щие Перечню \"Олимпийский\"",null,"СДЮСШОР - отделения,  соответствую-щие Перечню \"Олимпийский\"",null,"СШОР - отделения,  соответствую-щие Перечню \"Олимпийский\"",null,"УОР",null,"ЦСП",null,"ЦОП",null,"Другие",null,"ДЮСШ - отделения, не соответствую-щие Перечню \"Олимпийский\"",null,"СШ - отделения, не соответствую-щие Перечню \"Олимпийский\"",null,"СДЮСШОР - отделения,  соответствую-щие Перечню \"Олимпийский\"",null,"СШОР - отделения,  соответствую-щие Перечню \"Олимпийский\"",null,"УОР",null,"ЦСП",null,"ЦОП",null,"Другие",null,"ДЮСШ - отделения, не соответствую-щие Перечню \"Олимпийский\"",null,"СШ - отделения, не соответствую-щие Перечню \"Олимпийский\"",null,"СДЮСШОР - отделения,  соответствую-щие Перечню \"Олимпийский\"",null,"СШОР - отделения,  соответствую-щие Перечню \"Олимпийский\"",null,"УОР",null,"ЦСП",null,"ЦОП",null,"Другие",null,"ДЮСШ - отделения, не соответствую-щие Перечню \"Олимпийский\"",null,"СШ - отделения, не соответствую-щие Перечню \"Олимпийский\"",null,"СДЮСШОР - отделения,  соответствую-щие Перечню \"Олимпийский\"",null,"СШОР - отделения,  соответствую-щие Перечню \"Олимпийский\"",null,"УОР",null,"ЦСП",null,"ЦОП",null,"Другие"]
[null,null,null,"основной","резерв","основной","резерв","основной","резерв","основной","резерв","основной","резерв","основной","резерв","основной","резерв","основной","резерв","основной","резерв","основной","резерв","основной","резерв","основной","резерв","основной","резерв","основной","резерв","основной","резерв","основной","резерв","основной","резерв","основной","резерв","основной","резерв","основной","резерв","основной","резерв","основной","резерв","основной","резерв","основной","резерв","основной","резерв","основной","резерв","основной","резерв","основной","резерв","основной","резерв","основной","резерв","основной","резерв","основной","резерв","основной","резерв","основной","резерв","основной","резерв","основной","резерв","основной","резерв","основной","резерв","основной","резерв","основной","резерв","основной","резерв","основной","резерв","основной","резерв","основной","резерв","основной","резерв","основной","резерв","основной","резерв","основной","резерв"]
[null,1,2,3,4,5,6,7,8,9,10,11,12,13,14,15,16,17,18,19,20,21,22,23,24,25,26,27,28,29,30,31,32,33,34,35,36,37,38,39,40,41,42,43,44,45,46,47,48,49,50,51,52,53,54,55,56,57,58,59,60,61,62,63,64,65,66,67,68,69,70,71,72,73,74,75,76,77,78,79,80,81,82,83,84,85,86,87,88,89,90,91,92,93,94,95,96,97,98]
[null,"Авиамодельный спорт","01",0,0,0,0,0,0,0,0,0,0,0,0,0,0,0,0,0,0,0,0,0,0,0,0,0,0,0,0,0,0,0,0,0,0,0,0,0,0,0,0,0,0,0,0,0,0,0,0,0,0,0,0,0,0,0,0,0,0,0,0,0,0,0,0,0,0,0,0,0,0,0,0,0,0,0,0,0,0,0,0,0,0,0,0,0,0,0,0,0,0,0,0,0,0,0,0,null,null,{"$f":"Раздел2!F8","v":0}]
[null,"Автомобильный спорт","02",0,0,0,0,0,0,0,0,0,0,0,0,0,0,0,0,0,0,0,0,0,0,0,0,0,0,0,0,0,0,0,0,0,0,0,0,0,0,0,0,0,0,0,0,0,0,0,0,0,0,0,0,0,0,0,0,0,0,0,0,0,0,0,0,0,0,0,0,0,0,0,0,0,0,0,0,0,0,0,0,0,0,0,0,0,0,0,0,0,0,0,0,0,0,0,0,null,null,{"$f":"Раздел2!F9","v":0}]
[null,"Автомодельный спорт","03",0,0,0,0,0,0,0,0,0,0,0,0,0,0,0,0,0,0,0,0,0,0,0,0,0,0,0,0,0,0,0,0,0,0,0,0,0,0,0,0,0,0,0,0,0,0,0,0,0,0,0,0,0,0,0,0,0,0,0,0,0,0,0,0,0,0,0,0,0,0,0,0,0,0,0,0,0,0,0,0,0,0,0,0,0,0,0,0,0,0,0,0,0,0,0,0,null,null,{"$f":"Раздел2!F11","v":0}]
[null,"Айкидо","04",0,0,0,0,0,0,0,0,0,0,0,0,0,0,0,0,0,0,0,0,0,0,0,0,0,0,0,0,0,0,0,0,0,0,0,0,0,0,0,0,0,0,0,0,0,0,0,0,0,0,0,0,0,0,0,0,0,0,0,0,0,0,0,0,0,0,0,0,0,0,0,0,0,0,0,0,0,0,0,0,0,0,0,0,0,0,0,0,0,0,0,0,0,0,0,0,null,null,{"$f":"Раздел2!F13","v":0}]
[null,"Айсшток","05",0,0,0,0,0,0,0,0,0,0,0,0,0,0,0,0,0,0,0,0,0,0,0,0,0,0,0,0,0,0,0,0,0,0,0,0,0,0,0,0,0,0,0,0,0,0,0,0,0,0,0,0,0,0,0,0,0,0,0,0,0,0,0,0,0,0,0,0,0,0,0,0,0,0,0,0,0,0,0,0,0,0,0,0,0,0,0,0,0,0,0,0,0,0,0,0,null,null,{"$f":"Раздел2!F14","v":0}]
[null,"Акробатический рок-н-ролл","06",0,0,0,0,0,0,0,0,0,0,0,0,0,0,0,0,0,0,0,0,0,0,0,0,0,0,0,0,0,0,0,0,0,0,0,0,0,0,0,0,0,0,0,0,0,0,0,0,0,0,0,0,0,0,0,0,0,0,0,0,0,0,0,0,0,0,0,0,0,0,0,0,0,0,0,0,0,0,0,0,0,0,0,0,0,0,0,0,0,0,0,0,0,0,0,0,null,null,{"$f":"Раздел2!F15","v":0}]
[null,"Альпинизм","07",0,0,0,0,0,0,0,0,0,0,0,0,0,0,0,0,0,0,0,0,0,0,0,0,0,0,0,0,0,0,0,0,0,0,0,0,0,0,0,0,0,0,0,0,0,0,0,0,0,0,0,0,0,0,0,0,0,0,0,0,0,0,0,0,0,0,0,0,0,0,0,0,0,0,0,0,0,0,0,0,0,0,0,0,0,0,0,0,0,0,0,0,0,0,0,0,null,null,{"$f":"Раздел2!F17","v":0}]
[null,"Американский футбол","08",0,0,0,0,0,0,0,0,0,0,0,0,0,0,0,0,0,0,0,0,0,0,0,0,0,0,0,0,0,0,0,0,0,0,0,0,0,0,0,0,0,0,0,0,0,0,0,0,0,0,0,0,0,0,0,0,0,0,0,0,0,0,0,0,0,0,0,0,0,0,0,0,0,0,0,0,0,0,0,0,0,0,0,0,0,0,0,0,0,0,0,0,0,0,0,0,null,null,{"$f":"Раздел2!F18","v":0}]
[null,"Армейский рукопашный бой","09",0,0,0,0,0,0,0,0,0,0,0,0,0,0,0,0,0,0,0,0,0,0,0,0,0,0,0,0,0,0,0,0,0,0,0,0,0,0,0,0,0,0,0,0,0,0,0,0,0,0,0,0,0,0,0,0,0,0,0,0,0,0,0,0,0,0,0,0,0,0,0,0,0,0,0,0,0,0,0,0,0,0,0,0,0,0,0,0,0,0,0,0,0,0,0,0,null,null,{"$f":"Раздел2!F19","v":666}]
[null,"Армрестлинг","10",0,0,0,0,0,0,0,0,0,0,0,0,0,0,0,0,0,0,0,0,0,0,0,0,0,0,0,0,0,0,0,0,0,0,0,0,0,0,0,0,0,0,0,0,0,0,0,0,0,0,0,0,0,0,0,0,0,0,0,0,0,0,0,0,0,0,0,0,0,0,0,0,0,0,0,0,0,0,0,0,0,0,0,0,0,0,0,0,0,0,0,0,0,0,0,0,null,null,{"$f":"Раздел2!F20","v":408}]
[null,"Бадминтон","11",0,0,0,0,0,0,0,0,0,0,0,0,0,0,0,0,0,0,0,0,0,0,0,0,0,0,0,0,0,0,0,0,0,0,0,0,0,0,0,0,0,0,0,0,0,0,0,0,0,0,0,0,0,0,0,0,0,0,0,0,0,0,0,0,0,0,0,0,0,0,0,0,0,0,0,0,0,0,0,0,0,0,0,0,0,0,0,0,0,0,0,0,0,0,0,0,null,null,{"$f":"Раздел2!F21","v":258}]
[null,"Баскетбол - всего","12",0,0,0,0,0,0,0,0,0,0,0,0,0,0,0,0,0,0,0,0,0,0,0,0,0,0,0,0,0,0,0,0,0,0,0,0,0,0,0,0,0,0,0,0,0,0,0,0,0,0,0,0,0,0,0,0,0,0,0,0,0,0,0,0,0,0,0,0,0,0,0,0,0,0,0,0,0,0,0,0,0,0,0,0,0,0,0,0,0,0,0,0,0,0,0,0,null,null,{"$f":"Раздел2!F22","v":0}]
[null,"в том числе:\nБаскетбол (муж.)","13",0,0,0,0,0,0,0,0,0,0,0,0,0,0,0,0,0,0,0,0,0,0,0,0,0,0,0,0,0,0,0,0,0,0,0,0,0,0,0,0,0,0,0,0,0,0,0,0,0,0,0,0,0,0,0,0,0,0,0,0,0,0,0,0,0,0,0,0,0,0,0,0,0,0,0,0,0,0,0,0,0,0,0,0,0,0,0,0,0,0,0,0,0,0,0,0,null,null,{"$f":"Раздел2!F23","v":0}]
[null,"Баскетбол (жен.)","14",0,0,0,0,0,0,0,0,0,0,0,0,0,0,0,0,0,0,0,0,0,0,0,0,0,0,0,0,0,0,0,0,0,0,0,0,0,0,0,0,0,0,0,0,0,0,0,0,0,0,0,0,0,0,0,0,0,0,0,0,0,0,0,0,0,0,0,0,0,0,0,0,0,0,0,0,0,0,0,0,0,0,0,0,0,0,0,0,0,0,0,0,0,0,0,0,null,null,{"$f":"Раздел2!F24","v":0}]
[null,"Бейсбол","15",0,0,0,0,0,0,0,0,0,0,0,0,0,0,0,0,0,0,0,0,0,0,0,0,0,0,0,0,0,0,0,0,0,0,0,0,0,0,0,0,0,0,0,0,0,0,0,0,0,0,0,0,0,0,0,0,0,0,0,0,0,0,0,0,0,0,0,0,0,0,0,0,0,0,0,0,0,0,0,0,0,0,0,0,0,0,0,0,0,0,0,0,0,0,0,0,null,null,{"$f":"Раздел2!F25","v":0}]
[null,"Биатлон","16",0,0,0,0,0,0,0,0,0,0,0,0,0,0,0,0,0,0,0,0,0,0,0,0,0,0,0,0,0,0,0,0,0,0,0,0,0,0,0,0,0,0,0,0,0,0,0,0,0,0,0,0,0,0,0,0,0,0,0,0,0,0,0,0,0,0,0,0,0,0,0,0,0,0,0,0,0,0,0,0,0,0,0,0,0,0,0,0,0,0,0,0,0,0,0,0,null,null,{"$f":"Раздел2!F26","v":0}]
[null,"Бильярдный спорт","17",0,0,0,0,0,0,0,0,0,0,0,0,0,0,0,0,0,0,0,0,0,0,0,0,0,0,0,0,0,0,0,0,0,0,0,0,0,0,0,0,0,0,0,0,0,0,0,0,0,0,0,0,0,0,0,0,0,0,0,0,0,0,0,0,0,0,0,0,0,0,0,0,0,0,0,0,0,0,0,0,0,0,0,0,0,0,0,0,0,0,0,0,0,0,0,0,null,null,{"$f":"Раздел2!F27","v":0}]
[null,"Бобслей - всего","18",0,0,0,0,0,0,0,0,0,0,0,0,0,0,0,0,0,0,0,0,0,0,0,0,0,0,0,0,0,0,0,0,0,0,0,0,0,0,0,0,0,0,0,0,0,0,0,0,0,0,0,0,0,0,0,0,0,0,0,0,0,0,0,0,0,0,0,0,0,0,0,0,0,0,0,0,0,0,0,0,0,0,0,0,0,0,0,0,0,0,0,0,0,0,0,0,null,null,{"$f":"Раздел2!F28","v":0}]
[null,"в том числе:\nБобслей","19",0,0,0,0,0,0,0,0,0,0,0,0,0,0,0,0,0,0,0,0,0,0,0,0,0,0,0,0,0,0,0,0,0,0,0,0,0,0,0,0,0,0,0,0,0,0,0,0,0,0,0,0,0,0,0,0,0,0,0,0,0,0,0,0,0,0,0,0,0,0,0,0,0,0,0,0,0,0,0,0,0,0,0,0,0,0,0,0,0,0,0,0,0,0,0,0,null,null,{"$f":"Раздел2!F29","v":243}]
[null,"Скелетон","20",0,0,0,0,0,0,0,0,0,0,0,0,0,0,0,0,0,0,0,0,0,0,0,0,0,0,0,0,0,0,0,0,0,0,0,0,0,0,0,0,0,0,0,0,0,0,0,0,0,0,0,0,0,0,0,0,0,0,0,0,0,0,0,0,0,0,0,0,0,0,0,0,0,0,0,0,0,0,0,0,0,0,0,0,0,0,0,0,0,0,0,0,0,0,0,0,null,null,{"$f":"Раздел2!F30","v":0}]
[null,"Бодибилдинг","21",0,0,0,0,0,0,0,0,0,0,0,0,0,0,0,0,0,0,0,0,0,0,0,0,0,0,0,0,0,0,0,0,0,0,0,0,0,0,0,0,0,0,0,0,0,0,0,0,0,0,0,0,0,0,0,0,0,0,0,0,0,0,0,0,0,0,0,0,0,0,0,0,0,0,0,0,0,0,0,0,0,0,0,0,0,0,0,0,0,0,0,0,0,0,0,0,null,null,{"$f":"Раздел2!F31","v":0}]
[null,"Бокс","22",0,0,0,0,0,0,0,0,0,0,0,0,0,0,0,0,0,0,0,0,0,0,0,0,0,0,0,0,0,0,0,0,0,0,0,0,0,0,0,0,0,0,0,0,0,0,0,0,0,0,0,0,0,0,0,0,0,0,0,0,0,0,0,0,0,0,0,0,0,0,0,0,0,0,0,0,0,0,0,0,0,0,0,0,0,0,0,0,0,0,0,0,0,0,0,0,null,null,{"$f":"Раздел2!F32","v":0}]
[null,"Борьба на поясах","23",0,0,0,0,0,0,0,0,0,0,0,0,0,0,0,0,0,0,0,0,0,0,0,0,0,0,0,0,0,0,0,0,0,0,0,0,0,0,0,0,0,0,0,0,0,0,0,0,0,0,0,0,0,0,0,0,0,0,0,0,0,0,0,0,0,0,0,0,0,0,0,0,0,0,0,0,0,0,0,0,0,0,0,0,0,0,0,0,0,0,0,0,0,0,0,0,null,null,{"$f":"Раздел2!F33","v":0}]
[null,"Боулинг","24",0,0,0,0,0,0,0,0,0,0,0,0,0,0,0,0,0,0,0,0,0,0,0,0,0,0,0,0,0,0,0,0,0,0,0,0,0,0,0,0,0,0,0,0,0,0,0,0,0,0,0,0,0,0,0,0,0,0,0,0,0,0,0,0,0,0,0,0,0,0,0,0,0,0,0,0,0,0,0,0,0,0,0,0,0,0,0,0,0,0,0,0,0,0,0,0,null,null,{"$f":"Раздел2!F34","v":0}]
[null,"Велоспорт ВМХ","25",0,0,0,0,0,0,0,0,0,0,0,0,0,0,0,0,0,0,0,0,0,0,0,0,0,0,0,0,0,0,0,0,0,0,0,0,0,0,0,0,0,0,0,0,0,0,0,0,0,0,0,0,0,0,0,0,0,0,0,0,0,0,0,0,0,0,0,0,0,0,0,0,0,0,0,0,0,0,0,0,0,0,0,0,0,0,0,0,0,0,0,0,0,0,0,0,null,null,{"$f":"Раздел2!F35","v":428}]
[null,"Велоспорт – маунтинбайк","26",0,0,0,0,0,0,0,0,0,0,0,0,0,0,0,0,0,0,0,0,0,0,0,0,0,0,0,0,0,0,0,0,0,0,0,0,0,0,0,0,0,0,0,0,0,0,0,0,0,0,0,0,0,0,0,0,0,0,0,0,0,0,0,0,0,0,0,0,0,0,0,0,0,0,0,0,0,0,0,0,0,0,0,0,0,0,0,0,0,0,0,0,0,0,0,0,null,null,{"$f":"Раздел2!F36","v":0}]
[null,"Велоспорт – трек","27",0,0,0,0,0,0,0,0,0,0,0,0,0,0,0,0,0,0,0,0,0,0,0,0,0,0,0,0,0,0,0,0,0,0,0,0,0,0,0,0,0,0,0,0,0,0,0,0,0,0,0,0,0,0,0,0,0,0,0,0,0,0,0,0,0,0,0,0,0,0,0,0,0,0,0,0,0,0,0,0,0,0,0,0,0,0,0,0,0,0,0,0,0,0,0,0,null,null,{"$f":"Раздел2!F37","v":0}]
[null,"Велоспорт – шоссе","28",0,0,0,0,0,0,0,0,0,0,0,0,0,0,0,0,0,0,0,0,0,0,2,0,0,0,0,0,0,0,0,0,0,0,0,0,0,0,3,0,0,0,0,0,0,0,0,0,0,0,0,0,0,0,0,0,0,0,0,0,0,0,0,0,0,0,0,0,0,0,0,0,0,0,0,0,0,0,0,0,0,0,0,0,0,0,1,0,0,0,0,0,0,0,0,0,null,null,{"$f":"Раздел2!F38","v":0}]
[null,"Вертолетный спорт","29",0,0,0,0,0,0,0,0,0,0,0,0,0,0,0,0,0,0,0,0,0,0,0,0,0,0,0,0,0,0,0,0,0,0,0,0,0,0,0,0,0,0,0,0,0,0,0,0,0,0,0,0,0,0,0,0,0,0,0,0,0,0,0,0,0,0,0,0,0,0,0,0,0,0,0,0,0,0,0,0,0,0,0,0,0,0,0,0,0,0,0,0,0,0,0,0,null,null,{"$f":"Раздел2!F39","v":0}]
[null,"Водно-моторный спорт","30",0,0,0,0,0,0,0,0,0,0,0,0,0,0,0,0,0,0,0,0,0,0,0,0,0,0,0,0,0,0,0,0,0,0,0,0,0,0,0,0,0,0,0,0,0,0,0,0,0,0,0,0,0,0,0,0,0,0,0,0,0,0,0,0,0,0,0,0,0,0,0,0,0,0,0,0,0,0,0,0,0,0,0,0,0,0,0,0,0,0,0,0,0,0,0,0,null,null,{"$f":"Раздел2!F40","v":0}]
[null,"Водное поло - всего ","31",0,0,0,0,0,0,0,0,0,0,0,0,0,0,0,0,0,0,0,0,0,0,0,0,0,0,0,0,0,0,0,0,0,0,0,0,0,0,0,0,0,0,0,0,0,0,0,0,0,0,0,0,0,0,0,0,0,0,0,0,0,0,0,0,0,0,0,0,0,0,0,0,0,0,0,0,0,0,0,0,0,0,0,0,0,0,0,0,0,0,0,0,0,0,0,0,null,null,{"$f":"Раздел2!F41","v":0}]
[null,"в том числе:\nВодное поло (муж.)","32",0,0,0,0,0,0,0,0,0,0,0,0,0,0,0,0,0,0,0,0,0,0,0,0,0,0,0,0,0,0,0,0,0,0,0,0,0,0,0,0,0,0,0,0,0,0,0,0,0,0,0,0,0,0,0,0,0,0,0,0,0,0,0,0,0,0,0,0,0,0,0,0,0,0,0,0,0,0,0,0,0,0,0,0,0,0,0,0,0,0,0,0,0,0,0,0,null,null,{"$f":"Раздел2!F44","v":0}]
[null,"Водное поло (жен.)","33",0,0,0,0,0,0,0,0,0,0,0,0,0,0,0,0,0,0,0,0,0,0,0,0,0,0,0,0,0,0,0,0,0,0,0,0,0,0,0,0,0,0,0,0,0,0,0,0,0,0,0,0,0,0,0,0,0,0,0,0,0,0,0,0,0,0,0,0,0,0,0,0,0,0,0,0,0,0,0,0,0,0,0,0,0,0,0,0,0,0,0,0,0,0,0,0,null,null,{"$f":"Раздел2!F45","v":1747}]
[null,"Воднолыжный спорт","34",0,0,0,0,0,0,0,0,0,0,0,0,0,0,0,0,0,0,0,0,0,0,0,0,0,0,0,0,0,0,0,0,0,0,0,0,0,0,0,0,0,0,0,0,0,0,0,0,0,0,0,0,0,0,0,0,0,0,0,0,0,0,0,0,0,0,0,0,0,0,0,0,0,0,0,0,0,0,0,0,0,0,0,0,0,0,0,0,0,0,0,0,0,0,0,0,null,null,{"$f":"Раздел2!F46","v":724}]
[null,"Военно-прикладной спорт","35",0,0,0,0,0,0,0,0,0,0,0,0,0,0,0,0,0,0,0,0,0,0,0,0,0,0,0,0,0,0,0,0,0,0,0,0,0,0,0,0,0,0,0,0,0,0,0,0,0,0,0,0,0,0,0,0,0,0,0,0,0,0,0,0,0,0,0,0,0,0,0,0,0,0,0,0,0,0,0,0,0,0,0,0,0,0,0,0,0,0,0,0,0,0,0,0,null,null,{"$f":"Раздел2!F47","v":948}]
[null,"Военно-спортивное многоборье","36",0,0,0,0,0,0,0,0,0,0,0,0,0,0,0,0,0,0,0,0,0,0,0,0,0,0,0,0,0,0,0,0,0,0,0,0,0,0,0,0,0,0,0,0,0,0,0,0,0,0,0,0,0,0,0,0,0,0,0,0,0,0,0,0,0,0,0,0,0,0,0,0,0,0,0,0,0,0,0,0,0,0,0,0,0,0,0,0,0,0,0,0,0,0,0,0,null,null,{"$f":"Раздел2!F48","v":40}]
[null,"Воздухоплавательный спорт","37",0,0,0,0,0,0,0,0,0,0,0,0,0,0,0,0,0,0,0,0,0,0,0,0,0,0,0,0,0,0,0,0,0,0,0,0,0,0,0,0,0,0,0,0,0,0,0,0,0,0,0,0,0,0,0,0,0,0,0,0,0,0,0,0,0,0,0,0,0,0,0,0,0,0,0,0,0,0,0,0,0,0,0,0,0,0,0,0,0,0,0,0,0,0,0,0,null,null,{"$f":"Раздел2!F49","v":35}]
[null,"Волейбол - всего","38",0,0,0,0,0,0,0,0,0,0,0,0,0,0,0,0,0,0,0,0,0,0,0,0,0,0,0,0,0,0,0,0,0,0,0,0,0,0,0,0,0,0,0,0,0,0,0,0,0,0,0,0,0,0,0,0,0,0,0,0,0,0,0,0,0,0,0,0,0,0,0,0,0,0,0,0,0,0,0,0,0,0,0,0,0,0,0,0,0,0,0,0,0,0,0,0,null,null,{"$f":"Раздел2!F50","v":0}]
[null,"в том числе:\nВолейбол (муж.)","39",0,0,0,0,0,0,0,0,0,0,0,0,0,0,0,0,0,0,0,0,0,0,0,0,0,0,0,0,0,0,0,0,0,0,0,0,0,0,0,0,0,0,0,0,0,0,0,0,0,0,0,0,0,0,0,0,0,0,0,0,0,0,0,0,0,0,0,0,0,0,0,0,0,0,0,0,0,0,0,0,0,0,0,0,0,0,0,0,0,0,0,0,0,0,0,0,null,null,{"$f":"Раздел2!F51","v":0}]
[null,"Волейбол (жен.)","40",0,0,0,0,0,0,0,0,0,0,0,0,0,0,0,0,0,0,0,0,0,0,0,0,0,0,0,0,0,0,0,0,0,0,0,0,0,0,0,0,0,0,0,0,0,0,0,0,0,0,0,0,0,0,0,0,0,0,0,0,0,0,0,0,0,0,0,0,0,0,0,0,0,0,0,0,0,0,0,0,0,0,0,0,0,0,0,0,0,0,0,0,0,0,0,0,null,null,{"$f":"Раздел2!F52","v":476}]
[null,"Пляжный волейбол (муж.)","41",0,0,0,0,0,0,0,0,0,0,0,0,0,0,0,0,0,0,0,0,0,0,0,0,0,0,0,0,0,0,0,0,0,0,0,0,0,0,0,0,0,0,0,0,0,0,0,0,0,0,0,0,0,0,0,0,0,0,0,0,0,0,0,0,0,0,0,0,0,0,0,0,0,0,0,0,0,0,0,0,0,0,0,0,0,0,0,0,0,0,0,0,0,0,0,0,null,null,{"$f":"Раздел2!F53","v":41}]
[null,"Пляжный волейбол (жен.)","42",0,0,0,0,0,0,0,0,0,0,0,0,0,0,0,0,0,0,0,0,0,0,0,0,0,0,0,0,0,0,0,0,0,0,0,0,0,0,0,0,0,0,0,0,0,0,0,0,0,0,0,0,0,0,0,0,0,0,0,0,0,0,0,0,0,0,0,0,0,0,0,0,0,0,0,0,0,0,0,0,0,0,0,0,0,0,0,0,0,0,0,0,0,0,0,0,null,null,{"$f":"Раздел2!F54","v":435}]
[null,"Восточное боевое единоборство","43",0,0,0,0,0,0,0,0,0,0,0,0,0,0,0,0,0,0,0,0,0,0,0,0,0,0,0,0,0,0,0,0,0,0,0,0,0,0,0,0,0,0,0,0,0,0,0,0,0,0,0,0,0,0,0,0,0,0,0,0,0,0,0,0,0,0,0,0,0,0,0,0,0,0,0,0,0,0,0,0,0,0,0,0,0,0,0,0,0,0,0,0,0,0,0,0,null,null,{"$f":"Раздел2!F56","v":0}]
[null,"Всестилевое карате","44",0,0,0,0,0,0,0,0,0,0,0,0,0,0,0,0,0,0,0,0,0,0,0,0,0,0,0,0,0,0,0,0,0,0,0,0,0,0,0,0,0,0,0,0,0,0,0,0,0,0,0,0,0,0,0,0,0,0,0,0,0,0,0,0,0,0,0,0,0,0,0,0,0,0,0,0,0,0,0,0,0,0,0,0,0,0,0,0,0,0,0,0,0,0,0,0,null,null,{"$f":"Раздел2!F57","v":0}]
[null,"Гандбол - всего","45",0,0,0,0,0,0,0,0,0,0,2,0,0,0,0,0,0,0,0,0,2,1,0,0,0,0,3,0,0,0,0,0,0,0,0,0,0,0,0,0,0,0,0,0,0,0,0,0,0,0,0,0,0,1,0,0,0,0,0,0,0,0,0,0,0,0,0,0,0,0,0,0,0,0,0,0,0,0,0,0,0,0,0,0,0,0,0,0,0,0,0,0,0,0,0,0,null,null,{"$f":"Раздел2!F58","v":0}]
[null,"в том числе:\nГандбол (муж.)","46",0,0,0,0,0,0,0,0,0,0,0,0,0,0,0,0,0,0,0,0,0,0,0,0,0,0,0,0,0,0,0,0,0,0,0,0,0,0,0,0,0,0,0,0,0,0,0,0,0,0,0,0,0,0,0,0,0,0,0,0,0,0,0,0,0,0,0,0,0,0,0,0,0,0,0,0,0,0,0,0,0,0,0,0,0,0,0,0,0,0,0,0,0,0,0,0,null,null,{"$f":"Раздел2!F59","v":0}]
[null,"Гандбол (жен.)","47",0,0,0,0,0,0,0,0,0,0,2,0,0,0,0,0,0,0,0,0,2,1,0,0,0,0,3,0,0,0,0,0,0,0,0,0,0,0,0,0,0,0,0,0,0,0,0,0,0,0,0,0,0,1,0,0,0,0,0,0,0,0,0,0,0,0,0,0,0,0,0,0,0,0,0,0,0,0,0,0,0,0,0,0,0,0,0,0,0,0,0,0,0,0,0,0,null,null,{"$f":"Раздел2!F60","v":0}]
[null,"Пляжный гандбол","48",0,0,0,0,0,0,0,0,0,0,0,0,0,0,0,0,0,0,0,0,0,0,0,0,0,0,0,0,0,0,0,0,0,0,0,0,0,0,0,0,0,0,0,0,0,0,0,0,0,0,0,0,0,0,0,0,0,0,0,0,0,0,0,0,0,0,0,0,0,0,0,0,0,0,0,0,0,0,0,0,0,0,0,0,0,0,0,0,0,0,0,0,0,0,0,0,null,null,{"$f":"Раздел2!F61","v":0}]
[null,"Гиревой спорт","49",0,0,0,0,0,0,0,0,0,0,0,0,0,0,0,0,0,0,0,0,0,0,0,0,0,0,0,0,0,0,0,0,0,0,0,0,0,0,0,0,0,0,0,0,0,0,0,0,0,0,0,0,0,0,0,0,0,0,0,0,0,0,0,0,0,0,0,0,0,0,0,0,0,0,0,0,0,0,0,0,0,0,0,0,0,0,0,0,0,0,0,0,0,0,0,0,null,null,{"$f":"Раздел2!F63","v":0}]
[null,"Го","50",0,0,0,0,0,0,0,0,0,0,0,0,0,0,0,0,0,0,0,0,0,0,0,0,0,0,0,0,0,0,0,0,0,0,0,0,0,0,0,0,0,0,0,0,0,0,0,0,0,0,0,0,0,0,0,0,0,0,0,0,0,0,0,0,0,0,0,0,0,0,0,0,0,0,0,0,0,0,0,0,0,0,0,0,0,0,0,0,0,0,0,0,0,0,0,0,null,null,{"$f":"Раздел2!F64","v":0}]
[null,"Гольф","51",0,0,0,0,0,0,0,0,0,0,0,0,0,0,0,0,0,0,0,0,0,0,0,0,0,0,0,0,0,0,0,0,0,0,0,0,0,0,0,0,0,0,0,0,0,0,0,0,0,0,0,0,0,0,0,0,0,0,0,0,0,0,0,0,0,0,0,0,0,0,0,0,0,0,0,0,0,0,0,0,0,0,0,0,0,0,0,0,0,0,0,0,0,0,0,0,null,null,{"$f":"Раздел2!F65","v":0}]
[null,"Горнолыжный спорт","52",0,0,0,0,0,0,0,0,0,0,0,0,0,0,0,0,0,0,0,0,0,0,0,0,0,0,0,0,0,0,0,0,0,0,0,0,0,0,0,0,0,0,0,0,0,0,0,0,0,0,0,0,0,0,0,0,0,0,0,0,0,0,0,0,0,0,0,0,0,0,0,0,0,0,0,0,0,0,0,0,0,0,0,0,0,0,0,0,0,0,0,0,0,0,0,0,null,null,{"$f":"Раздел2!F66","v":0}]
[null,"Городошный спорт","53",0,0,0,0,0,0,0,0,0,0,0,0,0,0,0,0,0,0,0,0,0,0,0,0,0,0,0,0,0,0,0,0,0,0,0,0,0,0,0,0,0,0,0,0,0,0,0,0,0,0,0,0,0,0,0,0,0,0,0,0,0,0,0,0,0,0,0,0,0,0,0,0,0,0,0,0,0,0,0,0,0,0,0,0,0,0,0,0,0,0,0,0,0,0,0,0,null,null,{"$f":"Раздел2!F67","v":0}]
[null,"Гребля на байдарках и каноэ","54",0,0,0,0,0,0,0,0,0,0,0,0,0,0,0,0,0,0,0,0,0,0,0,0,0,0,0,0,0,0,0,0,0,0,0,0,0,0,0,0,0,0,0,0,0,0,0,0,0,0,0,0,0,0,0,0,0,0,0,0,0,0,0,0,0,0,0,0,0,0,0,0,0,0,0,0,0,0,0,0,0,0,0,0,0,0,0,0,0,0,0,0,0,0,0,0,null,null,{"$f":"Раздел2!F68","v":0}]
[null,"Гребля на шлюпках","55",0,0,0,0,0,0,0,0,0,0,0,0,0,0,0,0,0,0,0,0,0,0,0,0,0,0,0,0,0,0,0,0,0,0,0,0,0,0,0,0,0,0,0,0,0,0,0,0,0,0,0,0,0,0,0,0,0,0,0,0,0,0,0,0,0,0,0,0,0,0,0,0,0,0,0,0,0,0,0,0,0,0,0,0,0,0,0,0,0,0,0,0,0,0,0,0,null,null,{"$f":"Раздел2!F69","v":0}]
[null,"Гребной слалом","56",0,0,0,0,0,0,0,0,0,0,0,0,0,0,0,0,0,0,0,0,0,0,0,0,0,0,0,0,0,0,0,0,0,0,0,0,0,0,0,0,0,0,0,0,0,0,0,0,0,0,0,0,0,0,0,0,0,0,0,0,0,0,0,0,0,0,0,0,0,0,0,0,0,0,0,0,0,0,0,0,0,0,0,0,0,0,0,0,0,0,0,0,0,0,0,0,null,null,{"$f":"Раздел2!F70","v":0}]
[null,"Гребной спорт - всего","57",0,0,0,0,0,0,0,0,0,0,0,0,0,0,0,0,0,0,0,0,0,0,0,0,0,0,0,0,0,0,0,0,0,0,0,0,0,0,0,0,0,0,0,0,0,0,0,0,0,0,0,0,0,0,0,0,0,0,0,0,0,0,0,0,0,0,0,0,0,0,0,0,0,0,0,0,0,0,0,0,0,0,0,0,0,0,0,0,0,0,0,0,0,0,0,0,null,null,{"$f":"Раздел2!F71","v":0}]
[null,"в том числе:\nАкадемическая гребля","58",0,0,0,0,0,0,0,0,0,0,0,0,0,0,0,0,0,0,0,0,0,0,0,0,0,0,0,0,0,0,0,0,0,0,0,0,0,0,0,0,0,0,0,0,0,0,0,0,0,0,0,0,0,0,0,0,0,0,0,0,0,0,0,0,0,0,0,0,0,0,0,0,0,0,0,0,0,0,0,0,0,0,0,0,0,0,0,0,0,0,0,0,0,0,0,0,null,null,{"$f":"Раздел2!F72","v":1342}]
[null,"Гребля-индор","59",0,0,0,0,0,0,0,0,0,0,0,0,0,0,0,0,0,0,0,0,0,0,0,0,0,0,0,0,0,0,0,0,0,0,0,0,0,0,0,0,0,0,0,0,0,0,0,0,0,0,0,0,0,0,0,0,0,0,0,0,0,0,0,0,0,0,0,0,0,0,0,0,0,0,0,0,0,0,0,0,0,0,0,0,0,0,0,0,0,0,0,0,0,0,0,0,null,null,{"$f":"Раздел2!F73","v":0}]
[null,"Народная гребля","60",0,0,0,0,0,0,0,0,0,0,0,0,0,0,0,0,0,0,0,0,0,0,0,0,0,0,0,0,0,0,0,0,0,0,0,0,0,0,0,0,0,0,0,0,0,0,0,0,0,0,0,0,0,0,0,0,0,0,0,0,0,0,0,0,0,0,0,0,0,0,0,0,0,0,0,0,0,0,0,0,0,0,0,0,0,0,0,0,0,0,0,0,0,0,0,0,null,null,{"$f":"Раздел2!F74","v":0}]
[null,"Прибрежная гребля","61",0,0,0,0,0,0,0,0,0,0,0,0,0,0,0,0,0,0,0,0,0,0,0,0,0,0,0,0,0,0,0,0,0,0,0,0,0,0,0,0,0,0,0,0,0,0,0,0,0,0,0,0,0,0,0,0,0,0,0,0,0,0,0,0,0,0,0,0,0,0,0,0,0,0,0,0,0,0,0,0,0,0,0,0,0,0,0,0,0,0,0,0,0,0,0,0,null,null,{"$f":"Раздел2!F75","v":99}]
[null,"Гребно-парусное двоеборье","62",0,0,0,0,0,0,0,0,0,0,0,0,0,0,0,0,0,0,0,0,0,0,0,0,0,0,0,0,0,0,0,0,0,0,0,0,0,0,0,0,0,0,0,0,0,0,0,0,0,0,0,0,0,0,0,0,0,0,0,0,0,0,0,0,0,0,0,0,0,0,0,0,0,0,0,0,0,0,0,0,0,0,0,0,0,0,0,0,0,0,0,0,0,0,0,0,null,null,{"$f":"Раздел2!F76","v":0}]
[null,"Дартс","63",0,0,0,0,0,0,0,0,0,0,0,0,0,0,0,0,0,0,0,0,0,0,0,0,0,0,0,0,0,0,0,0,0,0,0,0,0,0,0,0,0,0,0,0,0,0,0,0,0,0,0,0,0,0,0,0,0,0,0,0,0,0,0,0,0,0,0,0,0,0,0,0,0,0,0,0,0,0,0,0,0,0,0,0,0,0,0,0,0,0,0,0,0,0,0,0,null,null,{"$f":"Раздел2!F77","v":0}]
[null,"Джиу-джитсу","64",0,0,0,0,0,0,0,0,0,0,0,0,0,0,0,0,0,0,0,0,0,0,0,0,0,0,0,0,0,0,0,0,0,0,0,0,0,0,0,0,0,0,0,0,0,0,0,0,0,0,0,0,0,0,0,0,0,0,0,0,0,0,0,0,0,0,0,0,0,0,0,0,0,0,0,0,0,0,0,0,0,0,0,0,0,0,0,0,0,0,0,0,0,0,0,0,null,null,{"$f":"Раздел2!F78","v":0}]
[null,"Дзюдо","65",1,0,0,0,0,0,1,2,0,0,0,0,0,0,0,0,0,0,0,0,0,0,0,0,0,0,1,0,0,0,0,0,0,0,0,0,0,0,2,0,0,0,0,0,0,0,0,0,0,0,0,0,0,0,0,0,0,0,0,0,0,0,0,0,0,0,0,0,0,0,3,0,0,0,0,0,0,0,0,0,0,0,0,0,0,0,1,0,0,0,0,0,0,0,0,0,null,null,{"$f":"Раздел2!F79","v":0}]
[null,"Ездовой спорт","66",0,0,0,0,0,0,0,0,0,0,0,0,0,0,0,0,0,0,0,0,0,0,0,0,0,0,0,0,0,0,0,0,0,0,0,0,0,0,0,0,0,0,0,0,0,0,0,0,0,0,0,0,0,0,0,0,0,0,0,0,0,0,0,0,0,0,0,0,0,0,0,0,0,0,0,0,0,0,0,0,0,0,0,0,0,0,0,0,0,0,0,0,0,0,0,0,null,null,{"$f":"Раздел2!F80","v":0}]
[null,"Капоэйра","67",0,0,0,0,0,0,0,0,0,0,0,0,0,0,0,0,0,0,0,0,0,0,0,0,0,0,0,0,0,0,0,0,0,0,0,0,0,0,0,0,0,0,0,0,0,0,0,0,0,0,0,0,0,0,0,0,0,0,0,0,0,0,0,0,0,0,0,0,0,0,0,0,0,0,0,0,0,0,0,0,0,0,0,0,0,0,0,0,0,0,0,0,0,0,0,0,null,null,{"$f":"Раздел2!F81","v":118}]
[null,"Каратэ","68",0,0,1,0,0,0,0,0,0,0,0,0,0,0,0,0,0,0,1,0,0,0,0,0,0,0,0,0,0,0,0,0,0,0,1,0,0,0,0,0,0,0,0,0,0,0,0,0,0,0,0,1,0,0,0,0,0,0,0,0,0,0,0,0,0,0,0,1,0,0,0,0,0,0,0,0,0,0,0,0,0,0,0,0,0,0,0,0,0,0,0,0,0,0,0,0,null,null,{"$f":"Раздел2!F82","v":0}]
[null,"Кендо","69",0,0,0,0,0,0,0,0,0,0,0,0,0,0,0,0,0,0,0,0,0,0,0,0,0,0,0,0,0,0,0,0,0,0,0,0,0,0,0,0,0,0,0,0,0,0,0,0,0,0,0,0,0,0,0,0,0,0,0,0,0,0,0,0,0,0,0,0,0,0,0,0,0,0,0,0,0,0,0,0,0,0,0,0,0,0,0,0,0,0,0,0,0,0,0,0,null,null,{"$f":"Раздел2!F83","v":0}]
[null,"Керешу","70",0,0,0,0,0,0,0,0,0,0,0,0,0,0,0,0,0,0,0,0,0,0,0,0,0,0,0,0,0,0,0,0,0,0,0,0,0,0,0,0,0,0,0,0,0,0,0,0,0,0,0,0,0,0,0,0,0,0,0,0,0,0,0,0,0,0,0,0,0,0,0,0,0,0,0,0,0,0,0,0,0,0,0,0,0,0,0,0,0,0,0,0,0,0,0,0,null,null,{"$f":"Раздел2!F84","v":0}]
[null,"Керлинг - всего","71",0,0,0,0,0,0,0,0,0,0,0,0,0,0,0,0,0,0,0,0,0,0,0,0,0,0,0,0,0,0,0,0,0,0,0,0,0,0,0,0,0,0,0,0,0,0,0,0,0,0,0,0,0,0,0,0,0,0,0,0,0,0,0,0,0,0,0,0,0,0,0,0,0,0,0,0,0,0,0,0,0,0,0,0,0,0,0,0,0,0,0,0,0,0,0,0,null,null,{"$f":"Раздел2!F85","v":0}]
[null,"в том числе:\nКерлинг (муж.)","72",0,0,0,0,0,0,0,0,0,0,0,0,0,0,0,0,0,0,0,0,0,0,0,0,0,0,0,0,0,0,0,0,0,0,0,0,0,0,0,0,0,0,0,0,0,0,0,0,0,0,0,0,0,0,0,0,0,0,0,0,0,0,0,0,0,0,0,0,0,0,0,0,0,0,0,0,0,0,0,0,0,0,0,0,0,0,0,0,0,0,0,0,0,0,0,0,null,null,{"$f":"Раздел2!F86","v":124}]
[null,"Керлинг (жен.)","73",0,0,0,0,0,0,0,0,0,0,0,0,0,0,0,0,0,0,0,0,0,0,0,0,0,0,0,0,0,0,0,0,0,0,0,0,0,0,0,0,0,0,0,0,0,0,0,0,0,0,0,0,0,0,0,0,0,0,0,0,0,0,0,0,0,0,0,0,0,0,0,0,0,0,0,0,0,0,0,0,0,0,0,0,0,0,0,0,0,0,0,0,0,0,0,0,null,null,{"$f":"Раздел2!F87","v":0}]
[null,"Кикбоксинг","74",0,0,1,0,0,0,0,0,0,0,0,0,0,0,0,0,0,0,0,0,0,0,0,0,0,0,0,0,0,0,0,0,1,0,1,0,0,0,0,0,0,0,0,0,0,0,0,0,0,0,0,0,0,0,0,0,0,0,0,0,0,0,0,0,0,0,1,1,0,0,0,0,0,0,0,0,0,0,0,0,0,0,0,0,0,0,0,0,0,0,0,0,0,0,0,0,null,null,{"$f":"Раздел2!F88","v":0}]
[null,"Кинологический спорт","75",0,0,0,0,0,0,0,0,0,0,0,0,0,0,0,0,0,0,0,0,0,0,0,0,0,0,0,0,0,0,0,0,0,0,0,0,0,0,0,0,0,0,0,0,0,0,0,0,0,0,0,0,0,0,0,0,0,0,0,0,0,0,0,0,0,0,0,0,0,0,0,0,0,0,0,0,0,0,0,0,0,0,0,0,0,0,0,0,0,0,0,0,0,0,0,0,null,null,{"$f":"Раздел2!F89","v":0}]
[null,"Киокусинкай","76",0,0,0,0,0,0,0,0,0,0,0,0,0,0,0,0,0,0,0,0,0,0,0,0,0,0,0,0,0,0,0,0,0,0,0,0,0,0,0,0,0,0,0,0,0,0,0,0,0,0,0,0,0,0,0,0,0,0,0,0,0,0,0,0,0,0,0,0,0,0,0,0,0,0,0,0,0,0,0,0,0,0,0,0,0,0,0,0,0,0,0,0,0,0,0,0,null,null,{"$f":"Раздел2!F90","v":0}]
[null,"Комплексное единоборство","77",0,0,0,0,0,0,0,0,0,0,0,0,0,0,0,0,0,0,0,0,0,0,0,0,0,0,0,0,0,0,0,0,0,0,0,0,0,0,0,0,0,0,0,0,0,0,0,0,0,0,0,0,0,0,0,0,0,0,0,0,0,0,0,0,0,0,0,0,0,0,0,0,0,0,0,0,0,0,0,0,0,0,0,0,0,0,0,0,0,0,0,0,0,0,0,0,null,null,{"$f":"Раздел2!F91","v":0}]
[null,"Компьютерный спорт","78",0,0,0,0,0,0,0,0,0,0,0,0,0,0,0,0,0,0,0,0,0,0,0,0,0,0,0,0,0,0,0,0,0,0,0,0,0,0,0,0,0,0,0,0,0,0,0,0,0,0,0,0,0,0,0,0,0,0,0,0,0,0,0,0,0,0,0,0,0,0,0,0,0,0,0,0,0,0,0,0,0,0,0,0,0,0,0,0,0,0,0,0,0,0,0,0,null,null,{"$f":"Раздел2!F92","v":0}]
[null,"Конный спорт","79",0,0,0,0,0,0,0,0,0,0,0,0,0,0,0,0,0,0,0,0,0,0,0,0,0,0,0,0,0,0,0,0,0,0,0,0,0,0,0,0,0,0,0,1,0,0,0,0,0,0,0,0,0,0,0,0,0,0,0,0,0,0,0,0,0,0,0,0,0,0,0,0,0,0,0,0,0,0,0,0,0,0,0,0,0,0,0,0,0,0,0,0,0,0,0,0,null,null,{"$f":"Раздел2!F93","v":549}]
[null,"Конькобежный спорт - всего","80",0,0,0,0,0,0,0,0,0,0,0,0,0,0,0,0,0,0,0,0,0,0,0,0,0,0,0,0,0,0,0,0,0,0,0,0,0,0,0,0,0,0,0,0,0,0,0,0,0,0,0,0,0,0,0,0,0,0,0,0,0,0,0,0,0,0,0,0,0,0,0,0,0,0,0,0,0,0,0,0,0,0,0,0,0,0,0,0,0,0,0,0,0,0,0,0,null,null,{"$f":"Раздел2!F94","v":234}]
[null,"в том числе:\nКонькобежный спорт","81",0,0,0,0,0,0,0,0,0,0,0,0,0,0,0,0,0,0,0,0,0,0,0,0,0,0,0,0,0,0,0,0,0,0,0,0,0,0,0,0,0,0,0,0,0,0,0,0,0,0,0,0,0,0,0,0,0,0,0,0,0,0,0,0,0,0,0,0,0,0,0,0,0,0,0,0,0,0,0,0,0,0,0,0,0,0,0,0,0,0,0,0,0,0,0,0,null,null,{"$f":"Раздел2!F95","v":107}]
[null,"Шорт-трек","82",0,0,0,0,0,0,0,0,0,0,0,0,0,0,0,0,0,0,0,0,0,0,0,0,0,0,0,0,0,0,0,0,0,0,0,0,0,0,0,0,0,0,0,0,0,0,0,0,0,0,0,0,0,0,0,0,0,0,0,0,0,0,0,0,0,0,0,0,0,0,0,0,0,0,0,0,0,0,0,0,0,0,0,0,0,0,0,0,0,0,0,0,0,0,0,0,null,null,{"$f":"Раздел2!F96","v":8}]
[null,"Корэш","83",0,0,0,0,0,0,0,0,0,0,0,0,0,0,0,0,0,0,0,0,0,0,0,0,0,0,0,0,0,0,0,0,0,0,0,0,0,0,0,0,0,0,0,0,0,0,0,0,0,0,0,0,0,0,0,0,0,0,0,0,0,0,0,0,0,0,0,0,0,0,0,0,0,0,0,0,0,0,0,0,0,0,0,0,0,0,0,0,0,0,0,0,0,0,0,0,null,null,{"$f":"Раздел2!F97","v":140}]
[null,"Корфбол","84",0,0,0,0,0,0,0,0,0,0,0,0,0,0,0,0,0,0,0,0,0,0,0,0,0,0,0,0,0,0,0,0,0,0,0,0,0,0,0,0,0,0,0,0,0,0,0,0,0,0,0,0,0,0,0,0,0,0,0,0,0,0,0,0,0,0,0,0,0,0,0,0,0,0,0,0,0,0,0,0,0,0,0,0,0,0,0,0,0,0,0,0,0,0,0,0,null,null,{"$f":"Раздел2!F98","v":14}]
[null,"Лапта","85",0,0,0,0,0,0,0,0,0,0,0,0,0,0,0,0,0,0,0,0,0,0,0,0,0,0,0,0,0,0,0,0,0,0,0,0,0,0,0,0,0,0,0,0,0,0,0,0,0,0,0,0,0,0,0,0,0,0,0,0,0,0,0,0,0,0,0,0,0,0,0,0,0,0,0,0,0,0,0,0,0,0,0,0,0,0,0,0,0,0,0,0,0,0,0,0,null,null,{"$f":"Раздел2!F99","v":46}]
[null,"Легкая атлетика - всего","86",0,0,0,0,0,0,0,0,0,0,0,0,0,0,0,0,0,0,0,0,0,0,1,0,0,0,0,0,0,0,0,0,0,0,0,0,0,0,0,0,0,0,0,0,0,0,0,0,0,0,0,0,0,0,0,0,0,0,0,0,0,0,0,0,0,0,0,0,0,0,0,0,0,0,0,0,0,0,0,0,0,0,0,0,0,0,0,0,0,0,0,0,0,0,0,0,null,null,{"$f":"Раздел2!F100","v":0}]
[null,"в том числе:\nСпринтерский и барьерный бег","87",0,0,0,0,0,0,0,0,0,0,0,0,0,0,0,0,0,0,0,0,0,0,1,0,0,0,0,0,0,0,0,0,0,0,0,0,0,0,0,0,0,0,0,0,0,0,0,0,0,0,0,0,0,0,0,0,0,0,0,0,0,0,0,0,0,0,0,0,0,0,0,0,0,0,0,0,0,0,0,0,0,0,0,0,0,0,0,0,0,0,0,0,0,0,0,0,null,null,{"$f":"Раздел2!F101","v":0}]
[null,"Бег на средние дистанции и бег с препятствиями","88",0,0,0,0,0,0,0,0,0,0,0,0,0,0,0,0,0,0,0,0,0,0,0,0,0,0,0,0,0,0,0,0,0,0,0,0,0,0,0,0,0,0,0,0,0,0,0,0,0,0,0,0,0,0,0,0,0,0,0,0,0,0,0,0,0,0,0,0,0,0,0,0,0,0,0,0,0,0,0,0,0,0,0,0,0,0,0,0,0,0,0,0,0,0,0,0,null,null,{"$f":"Раздел2!F102","v":0}]
[null,"Бег на длинные и сверхдлинные дистанции","89",0,0,0,0,0,0,0,0,0,0,0,0,0,0,0,0,0,0,0,0,0,0,0,0,0,0,0,0,0,0,0,0,0,0,0,0,0,0,0,0,0,0,0,0,0,0,0,0,0,0,0,0,0,0,0,0,0,0,0,0,0,0,0,0,0,0,0,0,0,0,0,0,0,0,0,0,0,0,0,0,0,0,0,0,0,0,0,0,0,0,0,0,0,0,0,0,null,null,{"$f":"Раздел2!F103","v":0}]
[null,"Многоборья","90",0,0,0,0,0,0,0,0,0,0,0,0,0,0,0,0,0,0,0,0,0,0,0,0,0,0,0,0,0,0,0,0,0,0,0,0,0,0,0,0,0,0,0,0,0,0,0,0,0,0,0,0,0,0,0,0,0,0,0,0,0,0,0,0,0,0,0,0,0,0,0,0,0,0,0,0,0,0,0,0,0,0,0,0,0,0,0,0,0,0,0,0,0,0,0,0,null,null,{"$f":"Раздел2!F104","v":0}]
[null,"Прыжки","91",0,0,0,0,0,0,0,0,0,0,0,0,0,0,0,0,0,0,0,0,0,0,0,0,0,0,0,0,0,0,0,0,0,0,0,0,0,0,0,0,0,0,0,0,0,0,0,0,0,0,0,0,0,0,0,0,0,0,0,0,0,0,0,0,0,0,0,0,0,0,0,0,0,0,0,0,0,0,0,0,0,0,0,0,0,0,0,0,0,0,0,0,0,0,0,0,null,null,{"$f":"Раздел2!F105","v":0}]
[null,"Метания","92",0,0,0,0,0,0,0,0,0,0,0,0,0,0,0,0,0,0,0,0,0,0,0,0,0,0,0,0,0,0,0,0,0,0,0,0,0,0,0,0,0,0,0,0,0,0,0,0,0,0,0,0,0,0,0,0,0,0,0,0,0,0,0,0,0,0,0,0,0,0,0,0,0,0,0,0,0,0,0,0,0,0,0,0,0,0,0,0,0,0,0,0,0,0,0,0,null,null,{"$f":"Раздел2!F106","v":0}]
[null,"Спортивная ходьба","93",0,0,0,0,0,0,0,0,0,0,0,0,0,0,0,0,0,0,0,0,0,0,0,0,0,0,0,0,0,0,0,0,0,0,0,0,0,0,0,0,0,0,0,0,0,0,0,0,0,0,0,0,0,0,0,0,0,0,0,0,0,0,0,0,0,0,0,0,0,0,0,0,0,0,0,0,0,0,0,0,0,0,0,0,0,0,0,0,0,0,0,0,0,0,0,0,null,null,{"$f":"Раздел2!F107","v":0}]
[null,"Лыжное двоеборье","94",0,0,0,0,0,0,0,0,0,0,0,0,0,0,0,0,0,0,0,0,0,0,0,0,0,0,0,0,0,0,0,0,0,0,0,0,0,0,0,0,0,0,0,0,0,0,0,0,0,0,0,0,0,0,0,0,0,0,0,0,0,0,0,0,0,0,0,0,0,0,0,0,0,0,0,0,0,0,0,0,0,0,0,0,0,0,0,0,0,0,0,0,0,0,0,0,null,null,{"$f":"Раздел2!F108","v":0}]
[null,"Лыжные гонки","95",0,0,0,0,0,0,0,0,0,0,0,0,0,0,0,0,0,0,0,0,0,0,0,0,0,0,0,0,0,0,0,0,0,0,0,0,0,0,0,0,0,0,0,0,0,0,0,0,0,0,0,0,0,0,0,0,0,0,0,0,0,0,0,0,0,0,0,0,0,0,0,0,0,0,0,0,0,0,0,0,0,0,0,0,0,0,0,0,0,0,0,0,0,0,0,0,null,null,{"$f":"Раздел2!F109","v":689}]
[null,"Мас-рестлинг","96",0,0,0,0,0,0,0,0,0,0,0,0,0,0,0,0,0,0,0,0,0,0,0,0,0,0,0,0,0,0,0,0,0,0,0,0,0,0,0,0,0,0,0,0,0,0,0,0,0,0,0,0,0,0,0,0,0,0,0,0,0,0,0,0,0,0,0,0,0,0,0,0,0,0,0,0,0,0,0,0,0,0,0,0,0,0,0,0,0,0,0,0,0,0,0,0,null,null,{"$f":"Раздел2!F110","v":0}]
[null,"Международное военно-спортивное многоборье","97",0,0,0,0,0,0,0,0,0,0,0,0,0,0,0,0,0,0,0,0,0,0,0,0,0,0,0,0,0,0,0,0,0,0,0,0,0,0,0,0,0,0,0,0,0,0,0,0,0,0,0,0,0,0,0,0,0,0,0,0,0,0,0,0,0,0,0,0,0,0,0,0,0,0,0,0,0,0,0,0,0,0,0,0,0,0,0,0,0,0,0,0,0,0,0,0,null,null,{"$f":"Раздел2!F111","v":0}]
[null,"Многоборье кинологов","98",0,0,0,0,0,0,0,0,0,0,0,0,0,0,0,0,0,0,0,0,0,0,0,0,0,0,0,0,0,0,0,0,0,0,0,0,0,0,0,0,0,0,0,0,0,0,0,0,0,0,0,0,0,0,0,0,0,0,0,0,0,0,0,0,0,0,0,0,0,0,0,0,0,0,0,0,0,0,0,0,0,0,0,0,0,0,0,0,0,0,0,0,0,0,0,0,null,null,{"$f":"Раздел2!F112","v":0}]
[null,"Многоборье спасателей МЧС России","99",0,0,0,0,0,0,0,0,0,0,0,0,0,0,0,0,0,0,0,0,0,0,0,0,0,0,0,0,0,0,0,0,0,0,0,0,0,0,0,0,0,0,0,0,0,0,0,0,0,0,0,0,0,0,0,0,0,0,0,0,0,0,0,0,0,0,0,0,0,0,0,0,0,0,0,0,0,0,0,0,0,0,0,0,0,0,0,0,0,0,0,0,0,0,0,0,null,null,{"$f":"Раздел2!F113","v":0}]
[null,"Морское многоборье","100",0,0,0,0,0,0,0,0,0,0,0,0,0,0,0,0,0,0,0,0,0,0,0,0,0,0,0,0,0,0,0,0,0,0,0,0,0,0,0,0,0,0,0,0,0,0,0,0,0,0,0,0,0,0,0,0,0,0,0,0,0,0,0,0,0,0,0,0,0,0,0,0,0,0,0,0,0,0,0,0,0,0,0,0,0,0,0,0,0,0,0,0,0,0,0,0,null,null,{"$f":"Раздел2!F114","v":0}]
[null,"Мотоциклетный спорт","101",0,0,0,0,0,0,0,0,0,0,0,0,0,0,0,0,0,0,0,0,0,0,0,0,0,0,0,0,0,0,0,0,0,0,0,0,0,0,0,0,0,0,0,0,0,0,0,0,0,0,0,0,0,0,0,0,0,0,0,0,0,0,0,0,0,0,0,0,0,0,0,0,0,0,0,0,0,0,0,0,0,0,0,0,0,0,0,0,0,0,0,0,0,0,0,0,null,null,{"$f":"Раздел2!F115","v":0}]
[null,"Настольный теннис","102",0,0,0,0,0,0,0,0,0,0,0,0,0,0,0,0,0,0,0,0,0,0,0,0,0,0,0,0,0,0,0,0,0,0,0,0,0,0,0,0,0,0,0,0,0,0,0,0,0,0,0,0,0,0,0,0,0,0,0,0,0,0,0,0,0,0,0,0,0,0,0,0,0,0,0,0,0,0,0,0,0,0,0,0,0,0,0,0,0,0,0,0,0,0,0,0,null,null,{"$f":"Раздел2!F116","v":0}]
[null,"Парашютный спорт","103",0,0,0,0,0,0,0,0,0,0,0,0,0,0,0,0,0,0,0,0,0,0,0,0,0,0,0,0,0,0,0,0,0,0,0,0,0,0,0,0,0,0,0,0,0,0,0,0,0,0,0,0,0,0,0,0,0,0,0,0,0,0,0,0,0,0,0,0,0,0,0,0,0,0,0,0,0,0,0,0,0,0,0,0,0,0,0,0,0,0,0,0,0,0,0,0,null,null,{"$f":"Раздел2!F117","v":0}]
[null,"Парусный спорт","104",0,0,0,0,0,0,0,0,0,0,0,0,0,0,0,0,0,0,0,0,0,0,0,0,0,0,0,0,0,0,0,0,0,0,0,0,0,0,0,0,0,0,0,0,0,0,0,0,0,0,0,0,0,0,0,0,0,0,0,0,0,0,0,0,0,0,0,0,0,0,0,0,0,0,0,0,0,0,0,0,0,0,0,0,0,0,0,0,0,0,0,0,0,0,0,0,null,null,{"$f":"Раздел2!F118","v":0}]
[null,"Пауэрлифтинг","105",0,0,0,0,0,0,0,0,0,0,0,0,0,0,0,0,0,0,0,0,0,0,0,0,0,0,0,0,0,0,0,0,0,0,0,0,0,0,0,0,0,0,0,0,0,0,0,0,0,0,0,0,0,0,0,0,0,0,0,0,0,0,0,0,0,0,0,0,0,0,0,0,0,0,0,0,0,0,0,0,0,0,0,0,0,0,0,0,0,0,0,0,0,0,0,0,null,null,{"$f":"Раздел2!F119","v":0}]
[null,"Перетягивание каната","106",0,0,0,0,0,0,0,0,0,0,0,0,0,0,0,0,0,0,0,0,0,0,0,0,0,0,0,0,0,0,0,0,0,0,0,0,0,0,0,0,0,0,0,0,0,0,0,0,0,0,0,0,0,0,0,0,0,0,0,0,0,0,0,0,0,0,0,0,0,0,0,0,0,0,0,0,0,0,0,0,0,0,0,0,0,0,0,0,0,0,0,0,0,0,0,0,null,null,{"$f":"Раздел2!F120","v":0}]
[null,"Петанк","107",0,0,0,0,0,0,0,0,0,0,0,0,0,0,0,0,0,0,0,0,0,0,0,0,0,0,0,0,0,0,0,0,0,0,0,0,0,0,0,0,0,0,0,0,0,0,0,0,0,0,0,0,0,0,0,0,0,0,0,0,0,0,0,0,0,0,0,0,0,0,0,0,0,0,0,0,0,0,0,0,0,0,0,0,0,0,0,0,0,0,0,0,0,0,0,0,null,null,{"$f":"Раздел2!F121","v":0}]
[null,"Плавание - всего","108",0,0,0,0,0,0,0,0,0,0,0,0,0,0,0,0,0,0,0,0,0,0,0,0,0,0,0,0,0,0,0,0,0,0,0,0,0,0,0,0,0,0,0,0,0,0,0,0,0,0,0,0,0,0,0,0,0,0,0,0,0,0,0,0,0,0,0,0,0,0,0,0,0,0,0,0,0,0,0,0,0,0,0,0,0,0,0,0,0,0,0,0,0,0,0,0,null,null,{"$f":"Раздел2!F122","v":0}]
[null,"в том числе:\nПлавание ","109",0,0,0,0,0,0,0,0,0,0,0,0,0,0,0,0,0,0,0,0,0,0,0,0,0,0,0,0,0,0,0,0,0,0,0,0,0,0,0,0,0,0,0,0,0,0,0,0,0,0,0,0,0,0,0,0,0,0,0,0,0,0,0,0,0,0,0,0,0,0,0,0,0,0,0,0,0,0,0,0,0,0,0,0,0,0,0,0,0,0,0,0,0,0,0,0,null,null,{"$f":"Раздел2!F123","v":0}]
[null,"Открытая вода","110",0,0,0,0,0,0,0,0,0,0,0,0,0,0,0,0,0,0,0,0,0,0,0,0,0,0,0,0,0,0,0,0,0,0,0,0,0,0,0,0,0,0,0,0,0,0,0,0,0,0,0,0,0,0,0,0,0,0,0,0,0,0,0,0,0,0,0,0,0,0,0,0,0,0,0,0,0,0,0,0,0,0,0,0,0,0,0,0,0,0,0,0,0,0,0,0,null,null,{"$f":"Раздел2!F124","v":0}]
[null,"Планерный спорт","111",0,0,0,0,0,0,0,0,0,0,0,0,0,0,0,0,0,0,0,0,0,0,0,0,0,0,0,0,0,0,0,0,0,0,0,0,0,0,0,0,0,0,0,0,0,0,0,0,0,0,0,0,0,0,0,0,0,0,0,0,0,0,0,0,0,0,0,0,0,0,0,0,0,0,0,0,0,0,0,0,0,0,0,0,0,0,0,0,0,0,0,0,0,0,0,0,null,null,{"$f":"Раздел2!F125","v":0}]
[null,"Подводный спорт","112",0,0,0,0,0,0,0,0,0,0,0,0,0,0,0,0,0,0,0,0,0,0,0,0,0,0,0,0,0,0,0,0,0,0,0,0,0,0,0,0,0,0,0,0,0,0,0,0,0,0,0,0,0,0,0,0,0,0,0,0,0,0,0,0,0,0,0,0,0,0,0,0,0,0,0,0,0,0,0,0,0,0,0,0,0,0,0,0,0,0,0,0,0,0,0,0,null,null,{"$f":"Раздел2!F126","v":94}]
[null,"Пожарно-прикладной спорт","113",0,0,0,0,0,0,0,0,0,0,0,0,0,0,0,0,0,0,0,0,0,0,0,0,0,0,0,0,0,0,0,0,0,0,0,0,0,0,0,0,0,0,0,0,0,0,0,0,0,0,0,0,0,0,0,0,0,0,0,0,0,0,0,0,0,0,0,0,0,0,0,0,0,0,0,0,0,0,0,0,0,0,0,0,0,0,0,0,0,0,0,0,0,0,0,0,null,null,{"$f":"Раздел2!F127","v":0}]
[null,"Полиатлон","114",0,0,0,0,0,0,0,0,0,0,0,0,0,0,0,0,0,0,0,0,0,0,0,0,0,0,0,0,0,0,0,0,0,0,0,0,0,0,0,0,0,0,0,0,0,0,0,0,0,0,0,0,0,0,0,0,0,0,0,0,0,0,0,0,0,0,0,0,0,0,0,0,0,0,0,0,0,0,0,0,0,0,0,0,0,0,0,0,0,0,0,0,0,0,0,0,null,null,{"$f":"Раздел2!F128","v":0}]
[null,"Практическая стрельба","115",0,0,0,0,0,0,0,0,0,0,0,0,0,0,0,0,0,0,0,0,0,0,0,0,0,0,0,0,0,0,0,0,0,0,0,0,0,0,0,0,0,0,0,0,0,0,0,0,0,0,0,0,0,0,0,0,0,0,0,0,0,0,0,0,0,0,0,0,0,0,0,0,0,0,0,0,0,0,0,0,0,0,0,0,0,0,0,0,0,0,0,0,0,0,0,0,null,null,{"$f":"Раздел2!F129","v":94}]
[null,"Прыжки в воду - всего","116",0,0,0,0,0,0,0,0,0,0,0,0,0,0,0,0,0,0,0,0,0,0,0,0,0,0,0,0,0,0,0,0,0,0,0,0,0,0,0,0,0,0,0,0,0,0,0,0,0,0,0,0,0,0,0,0,0,0,0,0,0,0,0,0,0,0,0,0,0,0,0,0,0,0,0,0,0,0,0,0,0,0,0,0,0,0,0,0,0,0,0,0,0,0,0,0,null,null,{"$f":"Раздел2!F130","v":0}]
[null,"в том числе:\nПрыжки в воду","117",0,0,0,0,0,0,0,0,0,0,0,0,0,0,0,0,0,0,0,0,0,0,0,0,0,0,0,0,0,0,0,0,0,0,0,0,0,0,0,0,0,0,0,0,0,0,0,0,0,0,0,0,0,0,0,0,0,0,0,0,0,0,0,0,0,0,0,0,0,0,0,0,0,0,0,0,0,0,0,0,0,0,0,0,0,0,0,0,0,0,0,0,0,0,0,0,null,null,{"$f":"Раздел2!F131","v":0}]
[null,"Прыжки в открытый водоем","118",0,0,0,0,0,0,0,0,0,0,0,0,0,0,0,0,0,0,0,0,0,0,0,0,0,0,0,0,0,0,0,0,0,0,0,0,0,0,0,0,0,0,0,0,0,0,0,0,0,0,0,0,0,0,0,0,0,0,0,0,0,0,0,0,0,0,0,0,0,0,0,0,0,0,0,0,0,0,0,0,0,0,0,0,0,0,0,0,0,0,0,0,0,0,0,0,null,null,{"$f":"Раздел2!F132","v":129}]
[null,"Прыжки на батуте - всего","119",0,0,0,0,0,0,0,0,0,0,0,0,0,0,0,0,0,0,0,0,0,0,0,0,0,0,0,0,0,0,0,0,0,0,0,0,0,0,0,0,0,0,0,0,0,0,0,0,0,0,0,0,0,0,0,0,0,0,0,0,0,0,0,0,0,0,0,0,0,0,0,0,0,0,0,0,0,0,0,0,0,0,0,0,0,0,0,0,0,0,0,0,0,0,0,0,null,null,{"$f":"Раздел2!F133","v":0}]
[null,"в том числе:\nАкробатическая дорожка","120",0,0,0,0,0,0,0,0,0,0,0,0,0,0,0,0,0,0,0,0,0,0,0,0,0,0,0,0,0,0,0,0,0,0,0,0,0,0,0,0,0,0,0,0,0,0,0,0,0,0,0,0,0,0,0,0,0,0,0,0,0,0,0,0,0,0,0,0,0,0,0,0,0,0,0,0,0,0,0,0,0,0,0,0,0,0,0,0,0,0,0,0,0,0,0,0,null,null,{"$f":"Раздел2!F134","v":106}]
[null,"Двойной минитрамп","121",0,0,0,0,0,0,0,0,0,0,0,0,0,0,0,0,0,0,0,0,0,0,0,0,0,0,0,0,0,0,0,0,0,0,0,0,0,0,0,0,0,0,0,0,0,0,0,0,0,0,0,0,0,0,0,0,0,0,0,0,0,0,0,0,0,0,0,0,0,0,0,0,0,0,0,0,0,0,0,0,0,0,0,0,0,0,0,0,0,0,0,0,0,0,0,0,null,null,{"$f":"Раздел2!F135","v":7}]
[null,"Индивидуальные прыжки","122",0,0,0,0,0,0,0,0,0,0,0,0,0,0,0,0,0,0,0,0,0,0,0,0,0,0,0,0,0,0,0,0,0,0,0,0,0,0,0,0,0,0,0,0,0,0,0,0,0,0,0,0,0,0,0,0,0,0,0,0,0,0,0,0,0,0,0,0,0,0,0,0,0,0,0,0,0,0,0,0,0,0,0,0,0,0,0,0,0,0,0,0,0,0,0,0,null,null,{"$f":"Раздел2!F136","v":16}]
[null,"Синхронные прыжки","123",0,0,0,0,0,0,0,0,0,0,0,0,0,0,0,0,0,0,0,0,0,0,0,0,0,0,0,0,0,0,0,0,0,0,0,0,0,0,0,0,0,0,0,0,0,0,0,0,0,0,0,0,0,0,0,0,0,0,0,0,0,0,0,0,0,0,0,0,0,0,0,0,0,0,0,0,0,0,0,0,0,0,0,0,0,0,0,0,0,0,0,0,0,0,0,0,null,null,{"$f":"Раздел2!F137","v":0}]
[null,"Прыжки на лыжах с трамплина","124",0,0,0,0,0,0,0,0,0,0,0,0,0,0,0,0,0,0,0,0,0,0,0,0,0,0,0,0,0,0,0,0,0,0,0,0,0,0,0,0,0,0,0,0,0,0,0,0,0,0,0,0,0,0,0,0,0,0,0,0,0,0,0,0,0,0,0,0,0,0,0,0,0,0,0,0,0,0,0,0,0,0,0,0,0,0,0,0,0,0,0,0,0,0,0,0,null,null,{"$f":"Раздел2!F138","v":0}]
[null,"Пулевая стрельба - всего","125",0,0,0,0,1,0,0,0,0,0,1,0,0,0,0,0,0,0,0,0,0,0,0,0,0,0,1,0,0,0,0,0,0,0,0,0,0,0,0,0,0,0,1,2,0,0,0,0,0,0,0,0,1,0,0,0,0,0,0,0,0,0,0,0,0,0,0,0,0,0,0,0,0,0,0,0,0,0,0,0,0,0,0,0,0,0,0,0,0,0,0,0,0,0,0,0,null,null,{"$f":"Раздел2!F139","v":0}]
[null,"в том числе:\nПневматическая винтовка","126",0,0,0,0,0,0,0,0,0,0,0,0,0,0,0,0,0,0,0,0,0,0,0,0,0,0,0,0,0,0,0,0,0,0,0,0,0,0,0,0,0,0,0,0,0,0,0,0,0,0,0,0,0,0,0,0,0,0,0,0,0,0,0,0,0,0,0,0,0,0,0,0,0,0,0,0,0,0,0,0,0,0,0,0,0,0,0,0,0,0,0,0,0,0,0,0,null,null,{"$f":"Раздел2!F140","v":0}]
[null,"Пневматический пистолет","127",0,0,0,0,1,0,0,0,0,0,0,0,0,0,0,0,0,0,0,0,0,0,0,0,0,0,0,0,0,0,0,0,0,0,0,0,0,0,0,0,0,0,0,0,0,0,0,0,0,0,0,0,1,0,0,0,0,0,0,0,0,0,0,0,0,0,0,0,0,0,0,0,0,0,0,0,0,0,0,0,0,0,0,0,0,0,0,0,0,0,0,0,0,0,0,0,null,null,{"$f":"Раздел2!F141","v":0}]
[null,"Малокалиберная винтовка","128",0,0,0,0,0,0,0,0,0,0,0,0,0,0,0,0,0,0,0,0,0,0,0,0,0,0,0,0,0,0,0,0,0,0,0,0,0,0,0,0,0,0,0,0,0,0,0,0,0,0,0,0,0,0,0,0,0,0,0,0,0,0,0,0,0,0,0,0,0,0,0,0,0,0,0,0,0,0,0,0,0,0,0,0,0,0,0,0,0,0,0,0,0,0,0,0,null,null,{"$f":"Раздел2!F142","v":0}]
[null,"Малокалиберный пистолет","129",0,0,0,0,0,0,0,0,0,0,1,0,0,0,0,0,0,0,0,0,0,0,0,0,0,0,1,0,0,0,0,0,0,0,0,0,0,0,0,0,0,0,1,2,0,0,0,0,0,0,0,0,0,0,0,0,0,0,0,0,0,0,0,0,0,0,0,0,0,0,0,0,0,0,0,0,0,0,0,0,0,0,0,0,0,0,0,0,0,0,0,0,0,0,0,0,null,null,{"$f":"Раздел2!F143","v":0}]
[null,"Движущаяся мишень","130",0,0,0,0,0,0,0,0,0,0,0,0,0,0,0,0,0,0,0,0,0,0,0,0,0,0,0,0,0,0,0,0,0,0,0,0,0,0,0,0,0,0,0,0,0,0,0,0,0,0,0,0,0,0,0,0,0,0,0,0,0,0,0,0,0,0,0,0,0,0,0,0,0,0,0,0,0,0,0,0,0,0,0,0,0,0,0,0,0,0,0,0,0,0,0,0,null,null,{"$f":"Раздел2!F144","v":0}]
[null,"Пэйнтбол","131",0,0,0,0,0,0,0,0,0,0,0,0,0,0,0,0,0,0,0,0,0,0,0,0,0,0,0,0,0,0,0,0,0,0,0,0,0,0,0,0,0,0,0,0,0,0,0,0,0,0,0,0,0,0,0,0,0,0,0,0,0,0,0,0,0,0,0,0,0,0,0,0,0,0,0,0,0,0,0,0,0,0,0,0,0,0,0,0,0,0,0,0,0,0,0,0,null,null,{"$f":"Раздел2!F145","v":0}]
[null,"Радиоспорт","132",0,0,0,0,0,0,0,0,0,0,0,0,0,0,0,0,0,0,0,0,0,0,0,0,0,0,0,0,0,0,0,0,0,0,0,0,0,0,0,0,0,0,0,0,0,0,0,0,0,0,0,0,0,0,0,0,0,0,0,0,0,0,0,0,0,0,0,0,0,0,0,0,0,0,0,0,0,0,0,0,0,0,0,0,0,0,0,0,0,0,0,0,0,0,0,0,null,null,{"$f":"Раздел2!F146","v":0}]
[null,"Рафтинг","133",0,0,0,0,0,0,0,0,0,0,0,0,0,0,0,0,0,0,0,0,0,0,0,0,0,0,0,0,0,0,0,0,0,0,0,0,0,0,0,0,0,0,0,0,0,0,0,0,0,0,0,0,0,0,0,0,0,0,0,0,0,0,0,0,0,0,0,0,0,0,0,0,0,0,0,0,0,0,0,0,0,0,0,0,0,0,0,0,0,0,0,0,0,0,0,0,null,null,{"$f":"Раздел2!F147","v":0}]
[null,"Регби - всего","134",0,0,0,0,0,0,0,0,0,0,0,0,0,0,0,0,0,0,0,0,0,0,0,0,0,0,0,0,0,0,0,0,0,0,0,0,0,0,0,0,0,0,0,0,0,0,0,0,0,0,0,0,0,0,0,0,0,0,0,0,0,0,0,0,0,0,0,0,0,0,0,0,0,0,0,0,0,0,0,0,0,0,0,0,0,0,0,0,0,0,0,0,0,0,0,0,null,null,{"$f":"Раздел2!F148","v":0}]
[null,"в том числе:\nРегби","135",0,0,0,0,0,0,0,0,0,0,0,0,0,0,0,0,0,0,0,0,0,0,0,0,0,0,0,0,0,0,0,0,0,0,0,0,0,0,0,0,0,0,0,0,0,0,0,0,0,0,0,0,0,0,0,0,0,0,0,0,0,0,0,0,0,0,0,0,0,0,0,0,0,0,0,0,0,0,0,0,0,0,0,0,0,0,0,0,0,0,0,0,0,0,0,0,null,null,{"$f":"Раздел2!F149","v":0}]
[null,"Регби 7 (муж.)","136",0,0,0,0,0,0,0,0,0,0,0,0,0,0,0,0,0,0,0,0,0,0,0,0,0,0,0,0,0,0,0,0,0,0,0,0,0,0,0,0,0,0,0,0,0,0,0,0,0,0,0,0,0,0,0,0,0,0,0,0,0,0,0,0,0,0,0,0,0,0,0,0,0,0,0,0,0,0,0,0,0,0,0,0,0,0,0,0,0,0,0,0,0,0,0,0,null,null,{"$f":"Раздел2!F150","v":0}]
[null,"Регби 7 (жен.)","137",0,0,0,0,0,0,0,0,0,0,0,0,0,0,0,0,0,0,0,0,0,0,0,0,0,0,0,0,0,0,0,0,0,0,0,0,0,0,0,0,0,0,0,0,0,0,0,0,0,0,0,0,0,0,0,0,0,0,0,0,0,0,0,0,0,0,0,0,0,0,0,0,0,0,0,0,0,0,0,0,0,0,0,0,0,0,0,0,0,0,0,0,0,0,0,0,null,null,{"$f":"Раздел2!F151","v":1473}]
[null,"Регби - пляжное","138",0,0,0,0,0,0,0,0,0,0,0,0,0,0,0,0,0,0,0,0,0,0,0,0,0,0,0,0,0,0,0,0,0,0,0,0,0,0,0,0,0,0,0,0,0,0,0,0,0,0,0,0,0,0,0,0,0,0,0,0,0,0,0,0,0,0,0,0,0,0,0,0,0,0,0,0,0,0,0,0,0,0,0,0,0,0,0,0,0,0,0,0,0,0,0,0,null,null,{"$f":"Раздел2!F152","v":0}]
[null,"Регбол","139",0,0,0,0,0,0,0,0,0,0,0,0,0,0,0,0,0,0,0,0,0,0,0,0,0,0,0,0,0,0,0,0,0,0,0,0,0,0,0,0,0,0,0,0,0,0,0,0,0,0,0,0,0,0,0,0,0,0,0,0,0,0,0,0,0,0,0,0,0,0,0,0,0,0,0,0,0,0,0,0,0,0,0,0,0,0,0,0,0,0,0,0,0,0,0,0,null,null,{"$f":"Раздел2!F153","v":0}]
[null,"Роллер спорт","140",0,0,0,0,0,0,0,0,0,0,0,0,0,0,0,0,0,0,0,0,0,0,0,0,0,0,0,0,0,0,0,0,0,0,0,0,0,0,0,0,0,0,0,0,0,0,0,0,0,0,0,0,0,0,0,0,0,0,0,0,0,0,0,0,0,0,0,0,0,0,0,0,0,0,0,0,0,0,0,0,0,0,0,0,0,0,0,0,0,0,0,0,0,0,0,0,null,null,{"$f":"Раздел2!F154","v":0}]
[null,"Рукопашный бой","141",0,0,0,0,0,0,0,0,0,0,0,0,0,0,0,0,0,0,0,0,0,0,0,0,0,0,0,0,0,0,0,0,0,0,0,0,0,0,0,0,0,0,0,0,0,0,0,0,0,0,0,0,0,0,0,0,0,0,0,0,0,0,0,0,0,0,0,0,0,0,0,0,0,0,0,0,0,0,0,0,0,0,0,0,0,0,0,0,0,0,0,0,0,0,0,0,null,null,{"$f":"Раздел2!F155","v":0}]
[null,"Рыболовный спорт","142",0,0,0,0,0,0,0,0,0,0,0,0,0,0,0,0,0,0,0,0,0,0,0,0,0,0,0,0,0,0,0,0,0,0,0,0,0,0,0,0,0,0,0,0,0,0,0,0,0,0,0,0,0,0,0,0,0,0,0,0,0,0,0,0,0,0,0,0,0,0,0,0,0,0,0,0,0,0,0,0,0,0,0,0,0,0,0,0,0,0,0,0,0,0,0,0,null,null,{"$f":"Раздел2!F156","v":0}]
[null,"Сават","143",0,0,0,0,0,0,0,0,0,0,0,0,0,0,0,0,0,0,0,0,0,0,0,0,0,0,0,0,0,0,0,0,0,0,0,0,0,0,0,0,0,0,0,0,0,0,0,0,0,0,0,0,0,0,0,0,0,0,0,0,0,0,0,0,0,0,0,0,0,0,0,0,0,0,0,0,0,0,0,0,0,0,0,0,0,0,0,0,0,0,0,0,0,0,0,0,null,null,{"$f":"Раздел2!F157","v":44}]
[null,"Самбо","144",2,0,0,0,0,0,0,0,0,0,2,0,0,0,0,0,2,0,0,0,0,0,0,0,0,0,0,0,0,0,0,0,1,0,0,0,0,0,0,0,0,0,0,0,0,0,0,0,0,0,0,0,0,0,0,0,0,0,0,0,0,0,0,0,1,0,0,0,0,0,0,0,0,0,0,0,0,0,0,0,0,0,0,0,0,0,0,0,0,0,0,0,0,0,0,0,null,null,{"$f":"Раздел2!F158","v":0}]
[null,"Самолетный спорт","145",0,0,0,0,0,0,0,0,0,0,0,0,0,0,0,0,0,0,0,0,0,0,0,0,0,0,0,0,0,0,0,0,0,0,0,0,0,0,0,0,0,0,0,0,0,0,0,0,0,0,0,0,0,0,0,0,0,0,0,0,0,0,0,0,0,0,0,0,0,0,0,0,0,0,0,0,0,0,0,0,0,0,0,0,0,0,0,0,0,0,0,0,0,0,0,0,null,null,{"$f":"Раздел2!F159","v":0}]
[null,"Санный спорт","146",0,0,0,0,0,0,0,0,0,0,0,0,0,0,0,0,0,0,0,0,0,0,0,0,0,0,0,0,0,0,0,0,0,0,0,0,0,0,0,0,0,0,0,0,0,0,0,0,0,0,0,0,0,0,0,0,0,0,0,0,0,0,0,0,0,0,0,0,0,0,0,0,0,0,0,0,0,0,0,0,0,0,0,0,0,0,0,0,0,0,0,0,0,0,0,0,null,null,{"$f":"Раздел2!F160","v":0}]
[null,"Северное многоборье","147",0,0,0,0,0,0,0,0,0,0,0,0,0,0,0,0,0,0,0,0,0,0,0,0,0,0,0,0,0,0,0,0,0,0,0,0,0,0,0,0,0,0,0,0,0,0,0,0,0,0,0,0,0,0,0,0,0,0,0,0,0,0,0,0,0,0,0,0,0,0,0,0,0,0,0,0,0,0,0,0,0,0,0,0,0,0,0,0,0,0,0,0,0,0,0,0,null,null,{"$f":"Раздел2!F161","v":0}]
[null,"Серфинг","148",0,0,0,0,0,0,0,0,0,0,0,0,0,0,0,0,0,0,0,0,0,0,0,0,0,0,0,0,0,0,0,0,0,0,0,0,0,0,0,0,0,0,0,0,0,0,0,0,0,0,0,0,0,0,0,0,0,0,0,0,0,0,0,0,0,0,0,0,0,0,0,0,0,0,0,0,0,0,0,0,0,0,0,0,0,0,0,0,0,0,0,0,0,0,0,0,null,null,{"$f":"Раздел2!F162","v":0}]
[null,"Синхронное плавание","149",0,0,0,0,0,0,0,0,0,0,0,0,0,0,0,0,0,0,0,0,0,0,0,0,0,0,0,0,0,0,0,0,0,0,0,0,0,0,0,0,0,0,0,0,0,0,0,0,0,0,0,0,0,0,0,0,0,0,0,0,0,0,0,0,0,0,0,0,0,0,0,0,0,0,0,0,0,0,0,0,0,0,0,0,0,0,0,0,0,0,0,0,0,0,0,0,null,null,{"$f":"Раздел2!F163","v":0}]
[null,"Скалолазание","150",0,0,0,0,0,0,0,0,0,0,0,0,0,0,0,0,0,0,0,0,0,0,0,0,0,0,0,0,0,0,0,0,0,0,0,0,0,0,0,0,0,0,0,0,0,0,0,0,0,0,0,0,0,0,0,0,0,0,0,0,0,0,0,0,0,0,0,0,0,0,0,0,0,0,0,0,0,0,0,0,0,0,0,0,0,0,0,0,0,0,0,0,0,0,0,0,null,null,{"$f":"Раздел2!F164","v":0}]
[null,"Скейтбординг","151",0,0,0,0,0,0,0,0,0,0,0,0,0,0,0,0,0,0,0,0,0,0,0,0,0,0,0,0,0,0,0,0,0,0,0,0,0,0,0,0,0,0,0,0,0,0,0,0,0,0,0,0,0,0,0,0,0,0,0,0,0,0,0,0,0,0,0,0,0,0,0,0,0,0,0,0,0,0,0,0,0,0,0,0,0,0,0,0,0,0,0,0,0,0,0,0,null,null,{"$f":"Раздел2!F165","v":0}]
[null,"Сквош","152",0,0,0,0,0,0,0,0,0,0,0,0,0,0,0,0,0,0,0,0,0,0,0,0,0,0,0,0,0,0,0,0,0,0,0,0,0,0,0,0,0,0,0,0,0,0,0,0,0,0,0,0,0,0,0,0,0,0,0,0,0,0,0,0,0,0,0,0,0,0,0,0,0,0,0,0,0,0,0,0,0,0,0,0,0,0,0,0,0,0,0,0,0,0,0,0,null,null,{"$f":"Раздел2!F166","v":0}]
[null,"Служебно-прикладной спорт ФСО России","153",0,0,0,0,0,0,0,0,0,0,0,0,0,0,0,0,0,0,0,0,0,0,0,0,0,0,0,0,0,0,0,0,0,0,0,0,0,0,0,0,0,0,0,0,0,0,0,0,0,0,0,0,0,0,0,0,0,0,0,0,0,0,0,0,0,0,0,0,0,0,0,0,0,0,0,0,0,0,0,0,0,0,0,0,0,0,0,0,0,0,0,0,0,0,0,0,null,null,{"$f":"Раздел2!F167","v":0}]
[null,"Служебно-прикладной спорт ГФС России","154",0,0,0,0,0,0,0,0,0,0,0,0,0,0,0,0,0,0,0,0,0,0,0,0,0,0,0,0,0,0,0,0,0,0,0,0,0,0,0,0,0,0,0,0,0,0,0,0,0,0,0,0,0,0,0,0,0,0,0,0,0,0,0,0,0,0,0,0,0,0,0,0,0,0,0,0,0,0,0,0,0,0,0,0,0,0,0,0,0,0,0,0,0,0,0,0,null,null,{"$f":"Раздел2!F168","v":0}]
[null,"Служебно-прикладной спорт ФСКН России","155",0,0,0,0,0,0,0,0,0,0,0,0,0,0,0,0,0,0,0,0,0,0,0,0,0,0,0,0,0,0,0,0,0,0,0,0,0,0,0,0,0,0,0,0,0,0,0,0,0,0,0,0,0,0,0,0,0,0,0,0,0,0,0,0,0,0,0,0,0,0,0,0,0,0,0,0,0,0,0,0,0,0,0,0,0,0,0,0,0,0,0,0,0,0,0,0,null,null,{"$f":"Раздел2!F169","v":0}]
[null,"Служебно-прикладной спорт ФТС России","156",0,0,0,0,0,0,0,0,0,0,0,0,0,0,0,0,0,0,0,0,0,0,0,0,0,0,0,0,0,0,0,0,0,0,0,0,0,0,0,0,0,0,0,0,0,0,0,0,0,0,0,0,0,0,0,0,0,0,0,0,0,0,0,0,0,0,0,0,0,0,0,0,0,0,0,0,0,0,0,0,0,0,0,0,0,0,0,0,0,0,0,0,0,0,0,0,null,null,{"$f":"Раздел2!F170","v":0}]
[null,"Служебное двоеборье","157",0,0,0,0,0,0,0,0,0,0,0,0,0,0,0,0,0,0,0,0,0,0,0,0,0,0,0,0,0,0,0,0,0,0,0,0,0,0,0,0,0,0,0,0,0,0,0,0,0,0,0,0,0,0,0,0,0,0,0,0,0,0,0,0,0,0,0,0,0,0,0,0,0,0,0,0,0,0,0,0,0,0,0,0,0,0,0,0,0,0,0,0,0,0,0,0,null,null,{"$f":"Раздел2!F171","v":0}]
[null,"Служебное единоборство","158",0,0,0,0,0,0,0,0,0,0,0,0,0,0,0,0,0,0,0,0,0,0,0,0,0,0,0,0,0,0,0,0,0,0,0,0,0,0,0,0,0,0,0,0,0,0,0,0,0,0,0,0,0,0,0,0,0,0,0,0,0,0,0,0,0,0,0,0,0,0,0,0,0,0,0,0,0,0,0,0,0,0,0,0,0,0,0,0,0,0,0,0,0,0,0,0,null,null,{"$f":"Раздел2!F172","v":0}]
[null,"Служебное многоборье","159",0,0,0,0,0,0,0,0,0,0,0,0,0,0,0,0,0,0,0,0,0,0,0,0,0,0,0,0,0,0,0,0,0,0,0,0,0,0,0,0,0,0,0,0,0,0,0,0,0,0,0,0,0,0,0,0,0,0,0,0,0,0,0,0,0,0,0,0,0,0,0,0,0,0,0,0,0,0,0,0,0,0,0,0,0,0,0,0,0,0,0,0,0,0,0,0,null,null,{"$f":"Раздел2!F173","v":0}]
[null,"Служебное собаководство","160",0,0,0,0,0,0,0,0,0,0,0,0,0,0,0,0,0,0,0,0,0,0,0,0,0,0,0,0,0,0,0,0,0,0,0,0,0,0,0,0,0,0,0,0,0,0,0,0,0,0,0,0,0,0,0,0,0,0,0,0,0,0,0,0,0,0,0,0,0,0,0,0,0,0,0,0,0,0,0,0,0,0,0,0,0,0,0,0,0,0,0,0,0,0,0,0,null,null,{"$f":"Раздел2!F174","v":0}]
[null,"Служебный биатлон","161",0,0,0,0,0,0,0,0,0,0,0,0,0,0,0,0,0,0,0,0,0,0,0,0,0,0,0,0,0,0,0,0,0,0,0,0,0,0,0,0,0,0,0,0,0,0,0,0,0,0,0,0,0,0,0,0,0,0,0,0,0,0,0,0,0,0,0,0,0,0,0,0,0,0,0,0,0,0,0,0,0,0,0,0,0,0,0,0,0,0,0,0,0,0,0,0,null,null,{"$f":"Раздел2!F175","v":0}]
[null,"Спасательный спорт","162",0,0,0,0,0,0,0,0,0,0,0,0,0,0,0,0,0,0,0,0,0,0,0,0,0,0,0,0,0,0,0,0,0,0,0,0,0,0,0,0,0,0,0,0,0,0,0,0,0,0,0,0,0,0,0,0,0,0,0,0,0,0,0,0,0,0,0,0,0,0,0,0,0,0,0,0,0,0,0,0,0,0,0,0,0,0,0,0,0,0,0,0,0,0,0,0,null,null,{"$f":"Раздел2!F176","v":0}]
[null,"Стрельба из боевого ручного стрелкового оружия","163",0,0,0,0,0,0,0,0,0,0,0,0,0,0,0,0,0,0,0,0,0,0,0,0,0,0,0,0,0,0,0,0,0,0,0,0,0,0,0,0,0,0,0,0,0,0,0,0,0,0,0,0,0,0,0,0,0,0,0,0,0,0,0,0,0,0,0,0,0,0,0,0,0,0,0,0,0,0,0,0,0,0,0,0,0,0,0,0,0,0,0,0,0,0,0,0,null,null,{"$f":"Раздел2!F177","v":132}]
[null,"Стрельба из штатного или табельного оружия","164",0,0,0,0,0,0,0,0,0,0,0,0,0,0,0,0,0,0,0,0,0,0,0,0,0,0,0,0,0,0,0,0,0,0,0,0,0,0,0,0,0,0,0,0,0,0,0,0,0,0,0,0,0,0,0,0,0,0,0,0,0,0,0,0,0,0,0,0,0,0,0,0,0,0,0,0,0,0,0,0,0,0,0,0,0,0,0,0,0,0,0,0,0,0,0,0,null,null,{"$f":"Раздел2!F178","v":0}]
[null,"Смешанное боевое единоборство (ММА)","165",0,0,0,0,0,0,0,0,0,0,0,0,0,0,0,0,0,0,0,0,0,0,0,0,0,0,0,0,0,0,0,0,0,0,0,0,0,0,0,0,0,0,0,0,0,0,0,0,0,0,0,0,0,0,0,0,0,0,0,0,0,0,0,0,0,0,0,0,0,0,0,0,0,0,0,0,0,0,0,0,0,0,0,0,0,0,0,0,0,0,0,0,0,0,0,0,null,null,{"$f":"Раздел2!F179","v":417}]
[null,"Сноуборд","166",0,0,0,0,0,0,0,0,0,0,0,0,0,0,0,0,0,0,0,0,0,0,0,0,0,0,0,0,0,0,0,0,0,0,0,0,0,0,0,0,0,0,0,0,0,0,0,0,0,0,0,0,0,0,0,0,0,0,0,0,0,0,0,0,0,0,0,0,0,0,0,0,0,0,0,0,0,0,0,0,0,0,0,0,0,0,0,0,0,0,0,0,0,0,0,0,null,null,{"$f":"Раздел2!F180","v":81}]
[null,"Современное пятиборье","167",0,0,0,0,0,0,0,0,0,0,0,0,0,0,0,0,0,0,0,0,0,0,0,0,0,0,0,0,0,0,0,0,0,0,0,0,0,0,0,0,0,0,0,0,0,0,0,0,0,0,0,0,0,0,0,0,0,0,0,0,0,0,0,0,0,0,0,0,0,0,0,0,0,0,0,0,0,0,0,0,0,0,0,0,0,0,0,0,0,0,0,0,0,0,0,0,null,null,{"$f":"Раздел2!F181","v":336}]
[null,"Софтбол","168",0,0,0,0,0,0,0,0,0,0,0,0,0,0,0,0,0,0,0,0,0,0,0,0,0,0,0,0,0,0,0,0,0,0,0,0,0,0,0,0,0,0,0,0,0,0,0,0,0,0,0,0,0,0,0,0,0,0,0,0,0,0,0,0,0,0,0,0,0,0,0,0,0,0,0,0,0,0,0,0,0,0,0,0,0,0,0,0,0,0,0,0,0,0,0,0,null,null,{"$f":"Раздел2!F182","v":0}]
[null,"Спорт сверхлегкой авиации","169",0,0,0,0,0,0,0,0,0,0,0,0,0,0,0,0,0,0,0,0,0,0,0,0,0,0,0,0,0,0,0,0,0,0,0,0,0,0,0,0,0,0,0,0,0,0,0,0,0,0,0,0,0,0,0,0,0,0,0,0,0,0,0,0,0,0,0,0,0,0,0,0,0,0,0,0,0,0,0,0,0,0,0,0,0,0,0,0,0,0,0,0,0,0,0,0,null,null,{"$f":"Раздел2!F183","v":0}]
[null,"Спортивная акробатика","170",0,0,0,0,0,0,0,0,0,0,0,0,0,0,0,0,0,0,0,0,0,0,0,0,0,0,0,0,0,0,0,0,0,0,0,0,0,0,0,0,0,0,0,0,0,0,0,0,0,0,0,0,0,0,0,0,0,0,0,0,0,0,0,0,0,0,0,0,0,0,0,0,0,0,0,0,0,0,0,0,0,0,0,0,0,0,0,0,0,0,0,0,0,0,0,0,null,null,{"$f":"Раздел2!F184","v":0}]
[null,"Спортивная аэробика","171",0,0,0,0,0,0,0,0,0,0,0,0,0,0,0,0,0,0,0,0,0,0,0,0,0,0,0,0,0,0,0,0,0,0,0,0,0,0,0,0,0,0,0,0,0,0,0,0,0,0,0,0,0,0,0,0,0,0,0,0,0,0,0,0,0,0,0,0,0,0,0,0,0,0,0,0,0,0,0,0,0,0,0,0,0,0,0,0,0,0,0,0,0,0,0,0,null,null,{"$f":"Раздел2!F185","v":0}]
[null,"Спортивная борьба - всего","172",0,0,0,0,0,0,0,0,0,0,0,0,0,0,0,0,0,0,0,0,0,0,0,0,0,0,0,0,0,0,0,0,1,1,0,0,0,0,0,0,0,0,0,0,0,0,0,0,0,0,0,0,0,0,0,0,0,0,0,0,0,0,0,0,0,0,0,0,0,0,0,0,0,0,0,0,0,0,0,0,0,0,0,0,0,0,0,0,0,0,0,0,0,0,0,0,null,null,{"$f":"Раздел2!F186","v":302}]
[null,"в том числе:\nВольная борьба","173",0,0,0,0,0,0,0,0,0,0,0,0,0,0,0,0,0,0,0,0,0,0,0,0,0,0,0,0,0,0,0,0,0,0,0,0,0,0,0,0,0,0,0,0,0,0,0,0,0,0,0,0,0,0,0,0,0,0,0,0,0,0,0,0,0,0,0,0,0,0,0,0,0,0,0,0,0,0,0,0,0,0,0,0,0,0,0,0,0,0,0,0,0,0,0,0,null,null,{"$f":"Раздел2!F187","v":234}]
[null,"Греко-римская борьба","174",0,0,0,0,0,0,0,0,0,0,0,0,0,0,0,0,0,0,0,0,0,0,0,0,0,0,0,0,0,0,0,0,1,1,0,0,0,0,0,0,0,0,0,0,0,0,0,0,0,0,0,0,0,0,0,0,0,0,0,0,0,0,0,0,0,0,0,0,0,0,0,0,0,0,0,0,0,0,0,0,0,0,0,0,0,0,0,0,0,0,0,0,0,0,0,0,null,null,{"$f":"Раздел2!F188","v":0}]
[null,"Грэпплинг","175",0,0,0,0,0,0,0,0,0,0,0,0,0,0,0,0,0,0,0,0,0,0,0,0,0,0,0,0,0,0,0,0,0,0,0,0,0,0,0,0,0,0,0,0,0,0,0,0,0,0,0,0,0,0,0,0,0,0,0,0,0,0,0,0,0,0,0,0,0,0,0,0,0,0,0,0,0,0,0,0,0,0,0,0,0,0,0,0,0,0,0,0,0,0,0,0,null,null,{"$f":"Раздел2!F189","v":50}]
[null,"Грэпплинг-ги","176",0,0,0,0,0,0,0,0,0,0,0,0,0,0,0,0,0,0,0,0,0,0,0,0,0,0,0,0,0,0,0,0,0,0,0,0,0,0,0,0,0,0,0,0,0,0,0,0,0,0,0,0,0,0,0,0,0,0,0,0,0,0,0,0,0,0,0,0,0,0,0,0,0,0,0,0,0,0,0,0,0,0,0,0,0,0,0,0,0,0,0,0,0,0,0,0,null,null,{"$f":"Раздел2!F190","v":0}]
[null,"Панкратион","177",0,0,0,0,0,0,0,0,0,0,0,0,0,0,0,0,0,0,0,0,0,0,0,0,0,0,0,0,0,0,0,0,0,0,0,0,0,0,0,0,0,0,0,0,0,0,0,0,0,0,0,0,0,0,0,0,0,0,0,0,0,0,0,0,0,0,0,0,0,0,0,0,0,0,0,0,0,0,0,0,0,0,0,0,0,0,0,0,0,0,0,0,0,0,0,0,null,null,{"$f":"Раздел2!F191","v":0}]
[null,"Спортивно-прикладное собаководство","178",0,0,0,0,0,0,0,0,0,0,0,0,0,0,0,0,0,0,0,0,0,0,0,0,0,0,0,0,0,0,0,0,0,0,0,0,0,0,0,0,0,0,0,0,0,0,0,0,0,0,0,0,0,0,0,0,0,0,0,0,0,0,0,0,0,0,0,0,0,0,0,0,0,0,0,0,0,0,0,0,0,0,0,0,0,0,0,0,0,0,0,0,0,0,0,0,null,null,{"$f":"Раздел2!F192","v":0}]
[null,"Спортивная гимнастика","179",0,0,0,0,0,0,0,0,0,0,0,0,0,0,0,0,0,0,0,0,0,0,0,0,0,0,0,0,0,0,0,0,0,0,0,0,0,0,0,0,0,0,0,0,0,0,0,0,0,0,0,0,0,0,0,0,0,0,0,0,0,0,0,0,0,0,0,0,0,0,0,0,0,0,0,0,0,0,0,0,0,0,0,0,0,0,0,0,0,0,0,0,0,0,0,0,null,null,{"$f":"Раздел2!F193","v":0}]
[null,"Спортивное ориентирование","180",0,0,0,0,0,0,0,0,0,0,0,0,0,0,0,0,0,0,0,0,0,0,0,0,0,0,0,0,0,0,0,0,0,0,0,0,0,0,0,0,0,0,0,0,0,0,0,0,0,0,0,0,0,0,0,0,0,0,0,0,0,0,0,0,0,0,0,0,0,0,0,0,0,0,0,0,0,0,0,0,0,0,0,0,0,0,0,0,0,0,0,0,0,0,0,0,null,null,{"$f":"Раздел2!F194","v":0}]
[null,"Спортивный бридж","181",0,0,0,0,0,0,0,0,0,0,0,0,0,0,0,0,0,0,0,0,0,0,0,0,0,0,0,0,0,0,0,0,0,0,0,0,0,0,0,0,0,0,0,0,0,0,0,0,0,0,0,0,0,0,0,0,0,0,0,0,0,0,0,0,0,0,0,0,0,0,0,0,0,0,0,0,0,0,0,0,0,0,0,0,0,0,0,0,0,0,0,0,0,0,0,0,null,null,{"$f":"Раздел2!F195","v":0}]
[null,"Спортивный туризм","182",0,0,0,0,0,0,0,0,0,0,0,0,0,0,0,0,0,0,0,0,0,0,0,0,0,0,0,0,0,0,0,0,0,0,0,0,0,0,0,0,0,0,0,0,0,0,0,0,0,0,0,0,0,0,0,0,0,0,0,0,0,0,0,0,0,0,0,0,0,0,0,0,0,0,0,0,0,0,0,0,0,0,0,0,0,0,0,0,0,0,0,0,0,0,0,0,null,null,{"$f":"Раздел2!F196","v":0}]
[null,"Стендовая стрельба - всего","183",0,0,0,0,0,0,0,0,0,0,0,0,0,0,0,0,0,0,0,0,0,0,0,0,0,0,0,0,0,0,0,0,0,0,0,0,0,0,0,0,0,0,0,0,0,0,0,0,0,0,0,0,0,0,0,0,0,0,0,0,0,0,0,0,0,0,0,0,0,0,0,0,0,0,0,0,0,0,0,0,0,0,0,0,0,0,0,0,0,0,0,0,0,0,0,0,null,null,{"$f":"Раздел2!F197","v":0}]
[null,"в том числе:\nТрап","184",0,0,0,0,0,0,0,0,0,0,0,0,0,0,0,0,0,0,0,0,0,0,0,0,0,0,0,0,0,0,0,0,0,0,0,0,0,0,0,0,0,0,0,0,0,0,0,0,0,0,0,0,0,0,0,0,0,0,0,0,0,0,0,0,0,0,0,0,0,0,0,0,0,0,0,0,0,0,0,0,0,0,0,0,0,0,0,0,0,0,0,0,0,0,0,0,null,null,{"$f":"Раздел2!F198","v":0}]
[null,"Скит","185",0,0,0,0,0,0,0,0,0,0,0,0,0,0,0,0,0,0,0,0,0,0,0,0,0,0,0,0,0,0,0,0,0,0,0,0,0,0,0,0,0,0,0,0,0,0,0,0,0,0,0,0,0,0,0,0,0,0,0,0,0,0,0,0,0,0,0,0,0,0,0,0,0,0,0,0,0,0,0,0,0,0,0,0,0,0,0,0,0,0,0,0,0,0,0,0,null,null,{"$f":"Раздел2!F199","v":0}]
[null,"Дубль-трап","186",0,0,0,0,0,0,0,0,0,0,0,0,0,0,0,0,0,0,0,0,0,0,0,0,0,0,0,0,0,0,0,0,0,0,0,0,0,0,0,0,0,0,0,0,0,0,0,0,0,0,0,0,0,0,0,0,0,0,0,0,0,0,0,0,0,0,0,0,0,0,0,0,0,0,0,0,0,0,0,0,0,0,0,0,0,0,0,0,0,0,0,0,0,0,0,0,null,null,{"$f":"Раздел2!F200","v":0}]
[null,"Спортинг","187",0,0,0,0,0,0,0,0,0,0,0,0,0,0,0,0,0,0,0,0,0,0,0,0,0,0,0,0,0,0,0,0,0,0,0,0,0,0,0,0,0,0,0,0,0,0,0,0,0,0,0,0,0,0,0,0,0,0,0,0,0,0,0,0,0,0,0,0,0,0,0,0,0,0,0,0,0,0,0,0,0,0,0,0,0,0,0,0,0,0,0,0,0,0,0,0,null,null,{"$f":"Раздел2!F201","v":0}]
[null,"Стрельба из арбалета","188",0,0,0,0,0,0,0,0,0,0,0,0,0,0,0,0,0,0,0,0,0,0,0,0,0,0,0,0,0,0,0,0,0,0,0,0,0,0,0,0,0,0,0,0,0,0,0,0,0,0,0,0,0,0,0,0,0,0,0,0,0,0,0,0,0,0,0,0,0,0,0,0,0,0,0,0,0,0,0,0,0,0,0,0,0,0,0,0,0,0,0,0,0,0,0,0,null,null,{"$f":"Раздел2!F202","v":0}]
[null,"Стрельба из лука - всего","189",0,0,0,0,0,0,0,0,0,0,0,0,0,0,0,0,0,0,0,0,0,0,0,0,0,0,0,0,0,0,0,0,0,0,0,0,0,0,0,0,0,0,0,0,0,0,0,0,0,0,0,0,0,0,0,0,0,0,0,0,0,0,0,0,0,0,0,0,0,0,0,0,0,0,0,0,0,0,0,0,0,0,0,0,0,0,0,0,0,0,0,0,0,0,0,0,null,null,{"$f":"Раздел2!F203","v":0}]
[null,"в том числе:\nКлассический лук","190",0,0,0,0,0,0,0,0,0,0,0,0,0,0,0,0,0,0,0,0,0,0,0,0,0,0,0,0,0,0,0,0,0,0,0,0,0,0,0,0,0,0,0,0,0,0,0,0,0,0,0,0,0,0,0,0,0,0,0,0,0,0,0,0,0,0,0,0,0,0,0,0,0,0,0,0,0,0,0,0,0,0,0,0,0,0,0,0,0,0,0,0,0,0,0,0,null,null,{"$f":"Раздел2!F204","v":22}]
[null,"   Блочный лук","191",0,0,0,0,0,0,0,0,0,0,0,0,0,0,0,0,0,0,0,0,0,0,0,0,0,0,0,0,0,0,0,0,0,0,0,0,0,0,0,0,0,0,0,0,0,0,0,0,0,0,0,0,0,0,0,0,0,0,0,0,0,0,0,0,0,0,0,0,0,0,0,0,0,0,0,0,0,0,0,0,0,0,0,0,0,0,0,0,0,0,0,0,0,0,0,0,null,null,{"$f":"Раздел2!F205","v":0}]
[null,"   Ачери ","192",0,0,0,0,0,0,0,0,0,0,0,0,0,0,0,0,0,0,0,0,0,0,0,0,0,0,0,0,0,0,0,0,0,0,0,0,0,0,0,0,0,0,0,0,0,0,0,0,0,0,0,0,0,0,0,0,0,0,0,0,0,0,0,0,0,0,0,0,0,0,0,0,0,0,0,0,0,0,0,0,0,0,0,0,0,0,0,0,0,0,0,0,0,0,0,0,null,null,{"$f":"Раздел2!F206","v":250}]
[null,"Судомодельный спорт","193",0,0,0,0,0,0,0,0,0,0,0,0,0,0,0,0,0,0,0,0,0,0,0,0,0,0,0,0,0,0,0,0,0,0,0,0,0,0,0,0,0,0,0,0,0,0,0,0,0,0,0,0,0,0,0,0,0,0,0,0,0,0,0,0,0,0,0,0,0,0,0,0,0,0,0,0,0,0,0,0,0,0,0,0,0,0,0,0,0,0,0,0,0,0,0,0,null,null,{"$f":"Раздел2!F207","v":0}]
[null,"Сумо","194",0,0,0,0,0,0,0,0,0,0,0,0,0,0,0,0,0,0,0,0,0,0,0,0,0,0,0,0,0,0,0,0,0,0,0,0,0,0,0,0,0,0,0,0,0,0,0,0,0,0,0,0,0,0,0,0,0,0,0,0,0,0,0,0,0,0,0,0,0,0,0,0,0,0,0,0,0,0,0,0,0,0,0,0,0,0,0,0,0,0,0,0,0,0,0,0,null,null,{"$f":"Раздел2!F208","v":250}]
[null,"Тайский бокс","195",0,0,0,0,0,0,0,0,0,0,0,0,0,0,0,0,0,0,0,0,0,0,0,0,0,0,0,0,0,0,0,0,0,0,0,0,0,0,0,0,0,0,0,0,0,0,0,0,0,0,0,0,0,0,0,0,0,0,0,0,0,0,0,0,0,0,0,0,0,0,0,0,0,0,0,0,0,0,0,0,0,0,0,0,0,0,0,0,0,0,0,0,0,0,0,0,null,null,{"$f":"Раздел2!F209","v":580}]
[null,"Танцевальный спорт","196",0,0,0,0,0,0,0,0,0,0,0,0,0,0,0,0,0,0,0,0,0,0,0,0,0,0,0,0,0,0,0,0,0,0,0,0,0,0,0,0,0,0,0,0,0,0,0,0,0,0,0,0,0,0,0,0,0,0,0,0,0,0,0,0,0,0,0,0,0,0,0,0,0,0,0,0,0,0,0,0,0,0,0,0,0,0,0,0,0,0,0,0,0,0,0,0,null,null,{"$f":"Раздел2!F210","v":0}]
[null,"Теннис","197",0,0,0,0,0,0,0,0,0,0,0,0,0,0,0,0,0,0,0,0,0,0,0,0,0,0,0,0,0,0,0,0,0,0,0,0,0,0,0,0,0,0,0,0,0,0,0,0,0,0,0,0,0,0,0,0,0,0,0,0,0,0,0,0,0,0,0,0,0,0,0,0,0,0,0,0,0,0,0,0,0,0,0,0,0,0,0,0,0,0,0,0,0,0,0,0,null,null,{"$f":"Раздел2!F211","v":91}]
[null,"Триатлон","198",0,0,0,0,0,0,0,0,0,0,0,0,0,0,0,0,0,0,0,0,0,0,0,0,0,0,0,0,0,0,0,0,0,0,0,0,0,0,0,0,0,0,0,0,0,0,0,0,0,0,0,0,0,0,0,0,0,0,0,0,0,0,0,0,0,0,0,0,0,0,0,0,0,0,0,0,0,0,0,0,0,0,0,0,0,0,0,0,0,0,0,0,0,0,0,0,null,null,{"$f":"Раздел2!F212","v":0}]
[null,"Тхэквондо - всего","199",0,0,0,0,0,0,0,0,0,0,0,0,0,0,0,0,0,0,0,0,0,0,2,0,0,0,0,0,0,0,0,0,0,0,0,0,0,0,0,0,0,0,1,0,0,0,0,0,0,0,0,0,0,0,0,0,0,0,0,0,0,0,0,0,0,0,0,0,0,0,0,0,0,0,0,0,0,0,0,0,0,0,0,0,0,0,0,0,0,0,0,0,0,0,0,0,null,null,{"$f":"Раздел2!F213","v":0}]
[null,"в том числе:\nТхэквондо (ГТФ, ИТФ, МФТ)","200",0,0,0,0,0,0,0,0,0,0,0,0,0,0,0,0,0,0,0,0,0,0,0,0,0,0,0,0,0,0,0,0,0,0,0,0,0,0,0,0,0,0,0,0,0,0,0,0,0,0,0,0,0,0,0,0,0,0,0,0,0,0,0,0,0,0,0,0,0,0,0,0,0,0,0,0,0,0,0,0,0,0,0,0,0,0,0,0,0,0,0,0,0,0,0,0,null,null,{"$f":"Раздел2!F214","v":0}]
[null,"Тхэквондо (ВТФ)","201",0,0,0,0,0,0,0,0,0,0,0,0,0,0,0,0,0,0,0,0,0,0,2,0,0,0,0,0,0,0,0,0,0,0,0,0,0,0,0,0,0,0,1,0,0,0,0,0,0,0,0,0,0,0,0,0,0,0,0,0,0,0,0,0,0,0,0,0,0,0,0,0,0,0,0,0,0,0,0,0,0,0,0,0,0,0,0,0,0,0,0,0,0,0,0,0,null,null,{"$f":"Раздел2!F215","v":0}]
[null,"Тяжелая атлетика","202",2,0,0,0,0,0,0,1,0,0,0,0,0,0,0,0,3,0,0,0,0,0,0,1,0,0,0,0,0,0,0,0,0,0,0,0,0,0,1,0,0,0,0,0,0,0,0,0,0,0,0,0,0,0,0,1,0,0,0,0,0,0,0,0,1,0,0,0,0,0,0,1,0,0,0,0,0,0,0,0,0,0,0,0,0,0,0,0,0,0,0,0,0,0,0,0]
[null,"Универсальный бой","203",0,0,0,0,0,0,0,0,0,0,0,0,0,0,0,0,0,0,0,0,0,0,0,0,0,0,0,0,0,0,0,0,0,0,0,0,0,0,0,0,0,0,0,0,0,0,0,0,0,0,0,0,0,0,0,0,0,0,0,0,0,0,0,0,0,0,0,0,0,0,0,0,0,0,0,0,0,0,0,0,0,0,0,0,0,0,0,0,0,0,0,0,0,0,0,0]
[null,"Ушу","204",0,0,0,0,0,0,0,0,0,0,0,0,0,0,0,0,0,0,0,0,0,0,0,0,0,0,0,0,0,0,0,0,0,0,1,0,0,0,0,0,0,0,0,0,0,0,0,0,0,0,0,0,0,0,0,0,0,0,0,0,0,0,0,0,0,0,0,0,0,0,0,0,0,0,0,0,0,0,0,0,0,0,0,0,0,0,0,0,0,0,0,0,0,0,0,0]
[null,"Фехтование - всего","205",0,0,0,0,0,0,0,0,0,0,0,0,0,0,0,0,0,0,0,0,0,0,0,0,0,0,0,0,0,0,0,0,0,0,0,0,0,0,0,0,0,0,0,0,0,0,0,0,0,0,0,0,0,0,0,0,0,0,0,0,0,0,0,0,0,0,0,0,0,0,0,0,0,0,0,0,0,0,0,0,0,0,0,0,0,0,0,0,0,0,0,0,0,0,0,0]
[null,"в том числе:\nРапира","206",0,0,0,0,0,0,0,0,0,0,0,0,0,0,0,0,0,0,0,0,0,0,0,0,0,0,0,0,0,0,0,0,0,0,0,0,0,0,0,0,0,0,0,0,0,0,0,0,0,0,0,0,0,0,0,0,0,0,0,0,0,0,0,0,0,0,0,0,0,0,0,0,0,0,0,0,0,0,0,0,0,0,0,0,0,0,0,0,0,0,0,0,0,0,0,0]
[null,"Сабля","207",0,0,0,0,0,0,0,0,0,0,0,0,0,0,0,0,0,0,0,0,0,0,0,0,0,0,0,0,0,0,0,0,0,0,0,0,0,0,0,0,0,0,0,0,0,0,0,0,0,0,0,0,0,0,0,0,0,0,0,0,0,0,0,0,0,0,0,0,0,0,0,0,0,0,0,0,0,0,0,0,0,0,0,0,0,0,0,0,0,0,0,0,0,0,0,0]
[null,"Шпага","208",0,0,0,0,0,0,0,0,0,0,0,0,0,0,0,0,0,0,0,0,0,0,0,0,0,0,0,0,0,0,0,0,0,0,0,0,0,0,0,0,0,0,0,0,0,0,0,0,0,0,0,0,0,0,0,0,0,0,0,0,0,0,0,0,0,0,0,0,0,0,0,0,0,0,0,0,0,0,0,0,0,0,0,0,0,0,0,0,0,0,0,0,0,0,0,0]
[null,"Арт-фехтование","209",0,0,0,0,0,0,0,0,0,0,0,0,0,0,0,0,0,0,0,0,0,0,0,0,0,0,0,0,0,0,0,0,0,0,0,0,0,0,0,0,0,0,0,0,0,0,0,0,0,0,0,0,0,0,0,0,0,0,0,0,0,0,0,0,0,0,0,0,0,0,0,0,0,0,0,0,0,0,0,0,0,0,0,0,0,0,0,0,0,0,0,0,0,0,0,0]
[null,"Фигурное катание на коньках","210",0,0,0,0,0,0,0,0,0,0,0,0,0,0,0,0,0,0,0,0,0,0,0,0,0,0,0,0,0,0,0,0,0,0,0,0,0,0,0,0,0,0,0,0,0,0,0,0,0,0,0,0,0,0,0,0,0,0,0,0,0,0,0,0,0,0,0,0,0,0,0,0,0,0,0,0,0,0,0,0,0,0,0,0,0,0,0,0,0,0,0,0,0,0,0,0]
[null,"Фитнес-аэробика","211",0,0,0,0,0,0,0,0,0,0,0,0,0,0,0,0,0,0,0,0,0,0,0,0,0,0,0,0,0,0,0,0,0,0,0,0,0,0,0,0,0,0,0,0,0,0,0,0,0,0,0,0,0,0,0,0,0,0,0,0,0,0,0,0,0,0,0,0,0,0,0,0,0,0,0,0,0,0,0,0,0,0,0,0,0,0,0,0,0,0,0,0,0,0,0,0]
[null,"Флаинг диск","212",0,0,0,0,0,0,0,0,0,0,0,0,0,0,0,0,0,0,0,0,0,0,0,0,0,0,0,0,0,0,0,0,0,0,0,0,0,0,0,0,0,0,0,0,0,0,0,0,0,0,0,0,0,0,0,0,0,0,0,0,0,0,0,0,0,0,0,0,0,0,0,0,0,0,0,0,0,0,0,0,0,0,0,0,0,0,0,0,0,0,0,0,0,0,0,0]
[null,"Флорбол","213",0,0,0,0,0,0,0,0,0,0,0,0,0,0,0,0,0,0,0,0,0,0,0,0,0,0,0,0,0,0,0,0,0,0,0,0,0,0,0,0,0,0,0,0,0,0,0,0,0,0,0,0,0,0,0,0,0,0,0,0,0,0,0,0,0,0,0,0,0,0,0,0,0,0,0,0,0,0,0,0,0,0,0,0,0,0,0,0,0,0,0,0,0,0,0,0]
[null,"Фристайл - всего","214",0,0,0,0,0,0,0,0,0,0,0,0,0,0,0,0,0,0,0,0,0,0,0,0,0,0,0,0,0,0,0,0,0,0,0,0,0,0,0,0,0,0,0,0,0,0,0,0,0,0,0,0,0,0,0,0,0,0,0,0,0,0,0,0,0,0,0,0,0,0,0,0,0,0,0,0,0,0,0,0,0,0,0,0,0,0,0,0,0,0,0,0,0,0,0,0]
[null,"в том числе:\nАкробатика","215",0,0,0,0,0,0,0,0,0,0,0,0,0,0,0,0,0,0,0,0,0,0,0,0,0,0,0,0,0,0,0,0,0,0,0,0,0,0,0,0,0,0,0,0,0,0,0,0,0,0,0,0,0,0,0,0,0,0,0,0,0,0,0,0,0,0,0,0,0,0,0,0,0,0,0,0,0,0,0,0,0,0,0,0,0,0,0,0,0,0,0,0,0,0,0,0]
[null,"Могул","216",0,0,0,0,0,0,0,0,0,0,0,0,0,0,0,0,0,0,0,0,0,0,0,0,0,0,0,0,0,0,0,0,0,0,0,0,0,0,0,0,0,0,0,0,0,0,0,0,0,0,0,0,0,0,0,0,0,0,0,0,0,0,0,0,0,0,0,0,0,0,0,0,0,0,0,0,0,0,0,0,0,0,0,0,0,0,0,0,0,0,0,0,0,0,0,0]
[null,"Ски-кросс","217",0,0,0,0,0,0,0,0,0,0,0,0,0,0,0,0,0,0,0,0,0,0,0,0,0,0,0,0,0,0,0,0,0,0,0,0,0,0,0,0,0,0,0,0,0,0,0,0,0,0,0,0,0,0,0,0,0,0,0,0,0,0,0,0,0,0,0,0,0,0,0,0,0,0,0,0,0,0,0,0,0,0,0,0,0,0,0,0,0,0,0,0,0,0,0,0]
[null,"Хаф-пайп","218",0,0,0,0,0,0,0,0,0,0,0,0,0,0,0,0,0,0,0,0,0,0,0,0,0,0,0,0,0,0,0,0,0,0,0,0,0,0,0,0,0,0,0,0,0,0,0,0,0,0,0,0,0,0,0,0,0,0,0,0,0,0,0,0,0,0,0,0,0,0,0,0,0,0,0,0,0,0,0,0,0,0,0,0,0,0,0,0,0,0,0,0,0,0,0,0]
[null,"Слоуп-стайл","219",0,0,0,0,0,0,0,0,0,0,0,0,0,0,0,0,0,0,0,0,0,0,0,0,0,0,0,0,0,0,0,0,0,0,0,0,0,0,0,0,0,0,0,0,0,0,0,0,0,0,0,0,0,0,0,0,0,0,0,0,0,0,0,0,0,0,0,0,0,0,0,0,0,0,0,0,0,0,0,0,0,0,0,0,0,0,0,0,0,0,0,0,0,0,0,0]
[null,"Футбол - всего","220",0,0,0,0,0,0,2,1,0,0,0,0,0,0,0,0,0,0,0,0,0,0,2,1,0,0,0,0,0,0,0,0,0,0,0,0,0,0,0,0,0,0,0,0,0,0,0,0,0,0,0,0,0,0,2,1,0,0,0,0,0,0,0,0,0,0,0,0,0,0,2,1,0,0,0,0,0,0,0,0,0,0,0,0,0,0,0,0,0,0,0,0,0,0,0,0]
[null,"в том числе:\nФутбол (муж.)","221",0,0,0,0,0,0,2,1,0,0,0,0,0,0,0,0,0,0,0,0,0,0,2,1,0,0,0,0,0,0,0,0,0,0,0,0,0,0,0,0,0,0,0,0,0,0,0,0,0,0,0,0,0,0,2,1,0,0,0,0,0,0,0,0,0,0,0,0,0,0,2,1,0,0,0,0,0,0,0,0,0,0,0,0,0,0,0,0,0,0,0,0,0,0,0,0]
[null,"Футбол (жен.)","222",0,0,0,0,0,0,0,0,0,0,0,0,0,0,0,0,0,0,0,0,0,0,0,0,0,0,0,0,0,0,0,0,0,0,0,0,0,0,0,0,0,0,0,0,0,0,0,0,0,0,0,0,0,0,0,0,0,0,0,0,0,0,0,0,0,0,0,0,0,0,0,0,0,0,0,0,0,0,0,0,0,0,0,0,0,0,0,0,0,0,0,0,0,0,0,0]
[null,"Мини-футбол (футзал)","223",0,0,0,0,0,0,0,0,0,0,0,0,0,0,0,0,0,0,0,0,0,0,0,0,0,0,0,0,0,0,0,0,0,0,0,0,0,0,0,0,0,0,0,0,0,0,0,0,0,0,0,0,0,0,0,0,0,0,0,0,0,0,0,0,0,0,0,0,0,0,0,0,0,0,0,0,0,0,0,0,0,0,0,0,0,0,0,0,0,0,0,0,0,0,0,0]
[null,"Пляжный футбол","224",0,0,0,0,0,0,0,0,0,0,0,0,0,0,0,0,0,0,0,0,0,0,0,0,0,0,0,0,0,0,0,0,0,0,0,0,0,0,0,0,0,0,0,0,0,0,0,0,0,0,0,0,0,0,0,0,0,0,0,0,0,0,0,0,0,0,0,0,0,0,0,0,0,0,0,0,0,0,0,0,0,0,0,0,0,0,0,0,0,0,0,0,0,0,0,0]
[null,"Хапсагай","225",0,0,0,0,0,0,0,0,0,0,0,0,0,0,0,0,0,0,0,0,0,0,0,0,0,0,0,0,0,0,0,0,0,0,0,0,0,0,0,0,0,0,0,0,0,0,0,0,0,0,0,0,0,0,0,0,0,0,0,0,0,0,0,0,0,0,0,0,0,0,0,0,0,0,0,0,0,0,0,0,0,0,0,0,0,0,0,0,0,0,0,0,0,0,0,0]
[null,"Хоккей - всего","226",0,0,0,0,0,0,0,0,0,0,0,0,0,0,0,0,0,0,0,0,0,0,0,0,0,0,0,0,0,0,0,0,0,0,0,0,0,0,0,0,0,0,0,0,0,0,0,0,0,0,0,0,0,0,0,0,0,0,0,0,0,0,0,0,0,0,0,0,0,0,0,0,0,0,0,0,0,0,0,0,0,0,0,0,0,0,0,0,0,0,0,0,0,0,0,0]
[null,"в том числе:\nХоккей (муж.)","227",0,0,0,0,0,0,0,0,0,0,0,0,0,0,0,0,0,0,0,0,0,0,0,0,0,0,0,0,0,0,0,0,0,0,0,0,0,0,0,0,0,0,0,0,0,0,0,0,0,0,0,0,0,0,0,0,0,0,0,0,0,0,0,0,0,0,0,0,0,0,0,0,0,0,0,0,0,0,0,0,0,0,0,0,0,0,0,0,0,0,0,0,0,0,0,0]
[null,"Хоккей (жен.)","228",0,0,0,0,0,0,0,0,0,0,0,0,0,0,0,0,0,0,0,0,0,0,0,0,0,0,0,0,0,0,0,0,0,0,0,0,0,0,0,0,0,0,0,0,0,0,0,0,0,0,0,0,0,0,0,0,0,0,0,0,0,0,0,0,0,0,0,0,0,0,0,0,0,0,0,0,0,0,0,0,0,0,0,0,0,0,0,0,0,0,0,0,0,0,0,0]
[null,"Хоккей на траве - всего","229",0,0,0,0,0,0,0,0,0,0,0,0,0,0,0,0,0,0,0,0,0,0,0,0,0,0,0,0,0,0,0,0,0,0,0,0,0,0,0,0,0,0,0,0,0,0,0,0,0,0,0,0,0,0,0,0,0,0,0,0,0,0,0,0,0,0,0,0,0,0,0,0,0,0,0,0,0,0,0,0,0,0,0,0,0,0,0,0,0,0,0,0,0,0,0,0]
[null,"в том числе:\nХоккей на траве (муж.)","230",0,0,0,0,0,0,0,0,0,0,0,0,0,0,0,0,0,0,0,0,0,0,0,0,0,0,0,0,0,0,0,0,0,0,0,0,0,0,0,0,0,0,0,0,0,0,0,0,0,0,0,0,0,0,0,0,0,0,0,0,0,0,0,0,0,0,0,0,0,0,0,0,0,0,0,0,0,0,0,0,0,0,0,0,0,0,0,0,0,0,0,0,0,0,0,0]
[null,"Хоккей на траве (жен.)","231",0,0,0,0,0,0,0,0,0,0,0,0,0,0,0,0,0,0,0,0,0,0,0,0,0,0,0,0,0,0,0,0,0,0,0,0,0,0,0,0,0,0,0,0,0,0,0,0,0,0,0,0,0,0,0,0,0,0,0,0,0,0,0,0,0,0,0,0,0,0,0,0,0,0,0,0,0,0,0,0,0,0,0,0,0,0,0,0,0,0,0,0,0,0,0,0]
[null,"Индорхоккей","232",0,0,0,0,0,0,0,0,0,0,0,0,0,0,0,0,0,0,0,0,0,0,0,0,0,0,0,0,0,0,0,0,0,0,0,0,0,0,0,0,0,0,0,0,0,0,0,0,0,0,0,0,0,0,0,0,0,0,0,0,0,0,0,0,0,0,0,0,0,0,0,0,0,0,0,0,0,0,0,0,0,0,0,0,0,0,0,0,0,0,0,0,0,0,0,0]
[null,"Хоккей с мячом","233",0,0,0,0,0,0,0,0,0,0,0,0,0,0,0,0,0,0,0,0,0,0,0,0,0,0,0,0,0,0,0,0,0,0,0,0,0,0,0,0,0,0,0,0,0,0,0,0,0,0,0,0,0,0,0,0,0,0,0,0,0,0,0,0,0,0,0,0,0,0,0,0,0,0,0,0,0,0,0,0,0,0,0,0,0,0,0,0,0,0,0,0,0,0,0,0]
[null,"Художественная гимнастика","234",0,0,0,0,0,0,0,0,0,0,0,0,0,0,0,0,0,0,0,0,0,0,0,0,0,0,0,0,0,0,0,0,0,0,0,0,0,0,0,0,0,0,0,0,0,0,0,0,0,0,0,0,0,0,0,0,0,0,0,0,0,0,0,0,0,0,0,0,0,0,0,0,0,0,0,0,0,0,0,0,0,0,0,0,0,0,0,0,0,0,0,0,0,0,0,0]
[null,"Хуреш","235",0,0,0,0,0,0,0,0,0,0,0,0,0,0,0,0,0,0,0,0,0,0,0,0,0,0,0,0,0,0,0,0,0,0,0,0,0,0,0,0,0,0,0,0,0,0,0,0,0,0,0,0,0,0,0,0,0,0,0,0,0,0,0,0,0,0,0,0,0,0,0,0,0,0,0,0,0,0,0,0,0,0,0,0,0,0,0,0,0,0,0,0,0,0,0,0]
[null,"Черлидинг","236",0,0,0,0,0,0,0,0,0,0,0,0,0,0,0,0,0,0,0,0,0,0,0,0,0,0,0,0,0,0,0,0,0,0,0,0,0,0,0,0,0,0,0,0,0,0,0,0,0,0,0,0,0,0,0,0,0,0,0,0,0,0,0,0,0,0,0,0,0,0,0,0,0,0,0,0,0,0,0,0,0,0,0,0,0,0,0,0,0,0,0,0,0,0,0,0]
[null,"Чир спорт","237",0,0,0,0,0,0,0,0,0,0,0,0,0,0,0,0,0,0,0,0,0,0,0,0,0,0,0,0,0,0,0,0,0,0,0,0,0,0,0,0,0,0,0,0,0,0,0,0,0,0,0,0,0,0,0,0,0,0,0,0,0,0,0,0,0,0,0,0,0,0,0,0,0,0,0,0,0,0,0,0,0,0,0,0,0,0,0,0,0,0,0,0,0,0,0,0]
[null,"Шахматы","238",1,0,0,0,0,0,0,0,0,0,0,0,0,0,0,0,0,0,0,0,0,0,0,0,0,0,0,0,0,0,0,0,0,0,0,0,0,0,0,0,0,0,0,0,0,0,0,0,1,0,0,0,0,0,0,0,0,0,0,0,0,0,0,0,0,0,0,0,0,0,0,0,0,0,0,0,0,0,0,0,0,0,0,0,0,0,0,0,0,0,0,0,0,0,0,0]
[null,"Шашки","239",0,0,0,0,0,0,0,0,0,0,0,0,0,0,0,0,0,0,0,0,0,0,0,0,0,0,0,0,0,0,0,0,0,0,0,0,0,0,0,0,0,0,0,0,0,0,0,0,0,0,0,0,0,0,0,0,0,0,0,0,0,0,0,0,0,0,0,0,0,0,0,0,0,0,0,0,0,0,0,0,0,0,0,0,0,0,0,0,0,0,0,0,0,0,0,0]
[null,"Эстетическая гимнастика","240",0,0,0,0,0,0,0,0,0,0,0,0,0,0,0,0,0,0,0,0,0,0,0,0,0,0,0,0,0,0,0,0,0,0,0,0,0,0,0,0,0,0,0,0,0,0,0,0,0,0,0,0,0,0,0,0,0,0,0,0,0,0,0,0,0,0,0,0,0,0,0,0,0,0,0,0,0,0,0,0,0,0,0,0,0,0,0,0,0,0,0,0,0,0,0,0]
[null,"Якутские национальные прыжки","241",0,0,0,0,0,0,0,0,0,0,0,0,0,0,0,0,0,0,0,0,0,0,0,0,0,0,0,0,0,0,0,0,0,0,0,0,0,0,0,0,0,0,0,0,0,0,0,0,0,0,0,0,0,0,0,0,0,0,0,0,0,0,0,0,0,0,0,0,0,0,0,0,0,0,0,0,0,0,0,0,0,0,0,0,0,0,0,0,0,0,0,0,0,0,0,0]
[null,"ИТОГО","242",{"$f":"SUM(D9:D20,D23:D26,D29:D39,D42:D46,D51:D53,D57:D65,D70:D79,D82:D88,D91:D94,D102:D116,D119:D124,D127,D132,D133,D139:D142,D147:D180,D186:D191,D196,D197,D201:D207,D210:D213,D218:D222,D228,D233,D234,D237,D241:D249)","v":6},{"$f":"SUM(E9:E20,E23:E26,E29:E39,E42:E46,E51:E53,E57:E65,E70:E79,E82:E88,E91:E94,E102:E116,E119:E124,E127,E132,E133,E139:E142,E147:E180,E186:E191,E196,E197,E201:E207,E210:E213,E218:E222,E228,E233,E234,E237,E241:E249)","v":0},2,0,1,0,3,4,0,0,5,0,0,0,0,0,5,0,1,0,2,1,7,2,0,0,5,0,0,0,0,0,3,1,3,0,0,0,6,0,0,0,2,3,0,0,0,0,1,0,0,1,1,1,2,2,0,0,0,0,0,0,0,0,2,{"$f":"SUM(BQ9:BQ20,BQ23:BQ26,BQ29:BQ39,BQ42:BQ46,BQ51:BQ53,BQ57:BQ65,BQ70:BQ79,BQ82:BQ88,BQ91:BQ94,BQ102:BQ116,BQ119:BQ124,BQ127,BQ132,BQ133,BQ139:BQ142,BQ147:BQ180,BQ186:BQ191,BQ196,BQ197,BQ201:BQ207,BQ210:BQ213,BQ218:BQ222,BQ228,BQ233,BQ234,BQ237,BQ241:BQ249)","v":0},1,2,0,0,5,2,0,0,0,0,0,0,0,0,0,0,0,0,0,0,2,0,0,0,0,0,0,0,0,0]
[null,"ИТОГО по олимпийским видам спорта","243",{"$f":"D252+D253","v":3},{"$f":"E252+E253","v":0},1,0,1,0,3,4,0,0,3,0,0,0,0,0,3,0,1,0,2,1,7,2,0,0,5,0,0,0,0,0,1,1,1,0,0,0,6,0,0,0,2,3,0,0,0,0,0,0,0,1,1,1,2,2,0,0,0,0,0,0,0,0,1,{"$f":"BQ252+BQ253","v":0},0,1,0,0,5,2,0,0,0,0,0,0,0,0,0,0,0,0,0,0,2,0,0,0,0,0,0,0,0,0]
[null,"  в том числе: \n  по летним видам спорта","244",{"$f":"SUM(D19,D20,D23,D30,D33:D36,D39,D46,D53,D59,D62,D64,D65,D73,D76,D87,D94,D110,D112,D116,D124,D127,D133,D142,D156:D159,D175:D176,D180,D187,D191,D197,D205:D207,D210,D213,D228,D237,D242)","v":3},{"$f":"SUM(E19,E20,E23,E30,E33:E36,E39,E46,E53,E59,E62,E64,E65,E73,E76,E87,E94,E110,E112,E116,E124,E127,E133,E142,E156:E159,E175:E176,E180,E187,E191,E197,E205:E207,E210,E213,E228,E237,E242)","v":0},1,0,1,0,3,4,0,0,3,0,0,0,0,0,3,0,1,0,2,1,7,2,0,0,5,0,0,0,0,0,1,1,1,0,0,0,6,0,0,0,2,3,0,0,0,0,0,0,0,1,1,1,2,2,0,0,0,0,0,0,0,0,1,{"$f":"SUM(BQ19,BQ20,BQ23,BQ30,BQ33:BQ36,BQ39,BQ46,BQ53,BQ59,BQ62,BQ64,BQ65,BQ73,BQ76,BQ87,BQ94,BQ110,BQ112,BQ116,BQ124,BQ127,BQ133,BQ142,BQ156:BQ159,BQ175:BQ176,BQ180,BQ187,BQ191,BQ197,BQ205:BQ207,BQ210,BQ213,BQ228,BQ237,BQ242)","v":0},0,1,0,0,5,2,0,0,0,0,0,0,0,0,0,0,0,0,0,0,2,0,0,0,0,0,0,0,0,0]
[null,"  по зимним видам спорта","245",{"$f":"SUM(D24,D26,D60,D79,D88,D102:D103,D132,D154,D174,D218,D222,D234)","v":0},{"$f":"SUM(E24,E26,E60,E79,E88,E102:E103,E132,E154,E174,E218,E222,E234)","v":0},0,0,0,0,0,0,0,0,0,0,0,0,0,0,0,0,0,0,0,0,0,0,0,0,0,0,0,0,0,0,0,0,0,0,0,0,0,0,0,0,0,0,0,0,0,0,0,0,0,0,0,0,0,0,0,0,0,0,0,0,0,0,0,{"$f":"SUM(BQ24,BQ26,BQ60,BQ79,BQ88,BQ102:BQ103,BQ132,BQ154,BQ174,BQ218,BQ222,BQ234)","v":0},0,0,0,0,0,0,0,0,0,0,0,0,0,0,0,0,0,0,0,0,0,0,0,0,0,0,0,0,0,0]
[null,"ИТОГО по неолимпийским видам спорта","246",{"$f":"SUM(D9:D16,D18,D25,D29,D31,D32,D37,D38,D42,D45,D51,D52,D57:D58,D61,D71:D72,D74:D75,D77,D82:D84,D86,D91:D93,D108:D109,D111,D113:D115,D119:D120,D122:D123,D139:D141,D147:D153,D155,D160,D173,D177:D179,D186,D188:D190,D196,D201:D204,D211:D212,D219:D221,D241,D244:D248)","v":3},{"$f":"SUM(E9:E16,E18,E25,E29,E31,E32,E37,E38,E42,E45,E51,E52,E57:E58,E61,E71:E72,E74:E75,E77,E82:E84,E86,E91:E93,E108:E109,E111,E113:E115,E119:E120,E122:E123,E139:E141,E147:E153,E155,E160,E173,E177:E179,E186,E188:E190,E196,E201:E204,E211:E212,E219:E221,E241,E244:E248)","v":0},1,0,0,0,0,0,0,0,2,0,0,0,0,0,2,0,0,0,0,0,0,0,0,0,0,0,0,0,0,0,2,0,2,0,0,0,0,0,0,0,0,0,0,0,0,0,1,0,0,0,0,0,0,0,0,0,0,0,0,0,0,0,1,{"$f":"SUM(BQ9:BQ16,BQ18,BQ25,BQ29,BQ31,BQ32,BQ37,BQ38,BQ42,BQ45,BQ51,BQ52,BQ57:BQ58,BQ61,BQ71:BQ72,BQ74:BQ75,BQ77,BQ82:BQ84,BQ86,BQ91:BQ93,BQ108:BQ109,BQ111,BQ113:BQ115,BQ119:BQ120,BQ122:BQ123,BQ139:BQ141,BQ147:BQ153,BQ155,BQ160,BQ173,BQ177:BQ179,BQ186,BQ188:BQ190,BQ196,BQ201:BQ204,BQ211:BQ212,BQ219:BQ221,BQ241,BQ244:BQ248)","v":0},1,1,0,0,0,0,0,0,0,0,0,0,0,0,0,0,0,0,0,0,0,0,0,0,0,0,0,0,0,0]
[null,"ИТОГО по национальным видам спорта",247,{"$f":"SUM(D78,D104,D233,D243,D249)","v":0},{"$f":"SUM(E78,E104,E233,E243,E249)","v":0},0,0,0,0,0,0,0,0,0,0,0,0,0,0,0,0,0,0,0,0,0,0,0,0,0,0,0,0,0,0,0,0,0,0,0,0,0,0,0,0,0,0,0,0,0,0,0,0,0,0,0,0,0,0,0,0,0,0,0,0,0,0,0,{"$f":"SUM(BQ78,BQ104,BQ233,BQ243,BQ249)","v":0},0,0,0,0,0,0,0,0,0,0,0,0,0,0,0,0,0,0,0,0,0,0,0,0,0,0,0,0,0,0]
[null,"ИТОГО по прикладным видам спорта",248,{"$f":"SUM(D17,D43,D44,D70,D85,D105:D107,D121,D161:D172)","v":0},{"$f":"SUM(E17,E43,E44,E70,E85,E105:E107,E121,E161:E172)","v":0},0,0,0,0,0,0,0,0,0,0,0,0,0,0,0,0,0,0,0,0,0,0,0,0,0,0,0,0,0,0,0,0,0,0,0,0,0,0,0,0,0,0,0,0,0,0,0,0,0,0,0,0,0,0,0,0,0,0,0,0,0,0,0,{"$f":"SUM(BQ17,BQ43,BQ44,BQ70,BQ85,BQ105:BQ107,BQ121,BQ161:BQ172)","v":0},0,0,0,0,0,0,0,0,0,0,0,0,0,0,0,0,0,0,0,0,0,0,0,0,0,0,0,0,0,0]
[null,"По ведомственной\nпринадлежности:\n   органы управления в сфере\n   образования",249,6,0,0,0,0,0,0,0,0,0,0,0,0,0,0,0,4,0,0,0,0,0,0,0,0,0,0,0,0,0,0,0,1,0,0,0,0,0,0,0,0,0,0,0,0,0,0,0,1,0,0,0,0,0,0,0,0,0,0,0,0,0,0,0,2,0,0,0,0,0,0,0,0,0,0,0,0,0,0,0,0,0,0,0,0,0,0,0,0,0,0,0,0,0,0,0]
[null,"органы управления в сфере физической культуры и спорта",250,0,0,2,0,1,0,3,4,0,0,5,0,0,0,0,0,1,0,1,0,2,1,7,2,0,0,5,0,0,0,0,0,2,1,3,0,0,0,6,0,0,0,2,3,0,0,0,0,0,0,0,1,1,1,2,2,0,0,0,0,0,0,0,0,0,0,1,2,0,0,5,2,0,0,0,0,0,0,0,0,0,0,0,0,0,0,2,0,0,0,0,0,0,0,0,0]
[null,"другая ведомственная принадлежность",251,0,0,0,0,0,0,0,0,0,0,0,0,0,0,0,0,0,0,0,0,0,0,0,0,0,0,0,0,0,0,0,0,0,0,0,0,0,0,0,0,0,0,0,0,0,0,0,0,0,0,0,0,0,0,0,0,0,0,0,0,0,0,0,0,0,0,0,0,0,0,0,0,0,0,0,0,0,0,0,0,0,0,0,0,0,0,0,0,0,0,0,0,0,0,0,0]

{"sheet":"Раздел6","index":6,"n_rows":287,"n_cols":37,"rows_kept":287,"cut":false,"hidden":false,"merged":[[0,0,118,0],[2,1,5,1],[2,2,5,2],[2,36,5,36],[1,28,1,33],[2,3,5,3],[2,4,2,33],[0,1,0,33],[0,34,118,34],[3,4,4,8],[3,9,4,13],[3,14,4,18],[3,19,4,23],[3,24,4,28],[3,29,4,33]]}
[null,"Раздел VI. Всероссийские спортивные соревнования"]
[null,null,null,null,null,null,null,null,null,null,null,null,null,null,null,null,null,null,null,null,null,null,null,null,null,null,null,null,"Коды по ОКЕИ: человек – 792, единица - 642"]
[null,"Виды спорта","№ строки","Всего зани-маю-щихся","Результаты выступлений на соревнованиях",null,null,null,null,null,null,null,null,null,null,null,null,null,null,null,null,null,null,null,null,null,null,null,null,null,null,null,null,null,null,null,"Раздел2 графа3\nЧисло отделений"]
[null,null,null,null,"Всего",null,null,null,null,"Чемпионат России",null,null,null,null,"Первенство России среди юниоров и юниорок",null,null,null,null,"Первенство России среди юношей и девушек",null,null,null,null,"Кубок России",null,null,null,null,"Прочие официальные всероссийские соревнования"]
[]
[null,null,null,null,1,2,3,"4-6","учас-тие",1,2,3,"4-6","учас-тие",1,2,3,"4-6","учас-тие",1,2,3,"4-6","учас-тие",1,2,3,"4-6","учас-тие",1,2,3,"4-6","учас-тие"]
[null,1,2,3,4,5,6,7,8,9,10,11,12,13,14,15,16,17,18,19,20,21,22,23,24,25,26,27,28,29,30,31,32,33]
[null,"Авиамодельный спорт","01",0,0,0,0,0,0,0,0,0,0,0,0,0,0,0,0,0,0,0,0,0,0,0,0,0,0,0,0,0,0,0,null,null,{"$f":"Раздел2!#REF!","v":{"$error":"#REF!"}}]
[null,"Автомобильный спорт","02",0,0,0,0,0,0,0,0,0,0,0,0,0,0,0,0,0,0,0,0,0,0,0,0,0,0,0,0,0,0,0,null,null,{"$f":"Раздел2!#REF!","v":{"$error":"#REF!"}}]
[null,"Автомодельный спорт","03",0,0,0,0,0,0,0,0,0,0,0,0,0,0,0,0,0,0,0,0,0,0,0,0,0,0,0,0,0,0,0,null,null,{"$f":"Раздел2!#REF!","v":{"$error":"#REF!"}}]
[null,"Айкидо","04",0,0,0,0,0,0,0,0,0,0,0,0,0,0,0,0,0,0,0,0,0,0,0,0,0,0,0,0,0,0,0,null,null,{"$f":"Раздел2!#REF!","v":{"$error":"#REF!"}}]
[null,"Айсшток","05",0,0,0,0,0,0,0,0,0,0,0,0,0,0,0,0,0,0,0,0,0,0,0,0,0,0,0,0,0,0,0,null,null,{"$f":"Раздел2!#REF!","v":{"$error":"#REF!"}}]
[null,"Акробатический рок-н-ролл","06",0,0,0,0,0,0,0,0,0,0,0,0,0,0,0,0,0,0,0,0,0,0,0,0,0,0,0,0,0,0,0,null,null,{"$f":"Раздел2!#REF!","v":{"$error":"#REF!"}}]
[null,"Альпинизм","07",0,0,0,0,0,0,0,0,0,0,0,0,0,0,0,0,0,0,0,0,0,0,0,0,0,0,0,0,0,0,0,null,null,{"$f":"Раздел2!#REF!","v":{"$error":"#REF!"}}]
[null,"Американский футбол","08",0,0,0,0,0,0,0,0,0,0,0,0,0,0,0,0,0,0,0,0,0,0,0,0,0,0,0,0,0,0,0,null,null,{"$f":"Раздел2!#REF!","v":{"$error":"#REF!"}}]
[null,"Армейский рукопашный бой","09",0,0,0,0,0,0,0,0,0,0,0,0,0,0,0,0,0,0,0,0,0,0,0,0,0,0,0,0,0,0,0,null,null,{"$f":"Раздел2!#REF!","v":{"$error":"#REF!"}}]
[null,"Армрестлинг","10",0,0,0,0,0,0,0,0,0,0,0,0,0,0,0,0,0,0,0,0,0,0,0,0,0,0,0,0,0,0,0,null,null,{"$f":"Раздел2!#REF!","v":{"$error":"#REF!"}}]
[null,"Бадминтон","11",0,0,0,0,0,0,0,0,0,0,0,0,0,0,0,0,0,0,0,0,0,0,0,0,0,0,0,0,0,0,0,null,null,{"$f":"Раздел2!#REF!","v":{"$error":"#REF!"}}]
[null,"Баскетбол - всего","12",666,0,0,0,0,20,0,0,0,0,0,0,0,0,0,0,0,0,0,0,0,0,0,0,0,0,0,0,0,0,20,null,null,{"$f":"Раздел2!#REF!","v":{"$error":"#REF!"}}]
[null,"в том числе:\nБаскетбол (муж.)","13",408,0,0,0,0,10,0,0,0,0,0,0,0,0,0,0,0,0,0,0,0,0,0,0,0,0,0,0,0,0,10,null,null,{"$f":"Раздел2!#REF!","v":{"$error":"#REF!"}}]
[null,"Баскетбол (жен.)","14",258,0,0,0,0,10,0,0,0,0,0,0,0,0,0,0,0,0,0,0,0,0,0,0,0,0,0,0,0,0,10,null,null,{"$f":"Раздел2!#REF!","v":{"$error":"#REF!"}}]
[null,"Бейсбол","15",0,0,0,0,0,0,0,0,0,0,0,0,0,0,0,0,0,0,0,0,0,0,0,0,0,0,0,0,0,0,0,null,null,{"$f":"Раздел2!#REF!","v":{"$error":"#REF!"}}]
[null,"Биатлон","16",0,0,0,0,0,0,0,0,0,0,0,0,0,0,0,0,0,0,0,0,0,0,0,0,0,0,0,0,0,0,0,null,null,{"$f":"Раздел2!#REF!","v":{"$error":"#REF!"}}]
[null,"Бильярдный спорт","17",0,0,0,0,0,0,0,0,0,0,0,0,0,0,0,0,0,0,0,0,0,0,0,0,0,0,0,0,0,0,0,null,null,{"$f":"Раздел2!#REF!","v":{"$error":"#REF!"}}]
[null,"Бобслей - всего","18",0,0,0,0,0,0,0,0,0,0,0,0,0,0,0,0,0,0,0,0,0,0,0,0,0,0,0,0,0,0,0,null,null,{"$f":"Раздел2!#REF!","v":{"$error":"#REF!"}}]
[null,"в том числе:\nБобслей","19",0,0,0,0,0,0,0,0,0,0,0,0,0,0,0,0,0,0,0,0,0,0,0,0,0,0,0,0,0,0,0,null,null,{"$f":"Раздел2!#REF!","v":{"$error":"#REF!"}}]
[null,"Скелетон","20",0,0,0,0,0,0,0,0,0,0,0,0,0,0,0,0,0,0,0,0,0,0,0,0,0,0,0,0,0,0,0,null,null,{"$f":"Раздел2!#REF!","v":{"$error":"#REF!"}}]
[null,"Бодибилдинг","21",0,0,0,0,0,0,0,0,0,0,0,0,0,0,0,0,0,0,0,0,0,0,0,0,0,0,0,0,0,0,0,null,null,{"$f":"Раздел2!#REF!","v":{"$error":"#REF!"}}]
[null,"Бокс","22",243,0,1,5,2,18,0,0,0,0,0,0,0,0,0,5,0,0,0,0,12,0,0,0,0,0,0,1,5,2,1,null,null,{"$f":"Раздел2!#REF!","v":{"$error":"#REF!"}}]
[null,"Борьба на поясах","23",0,0,0,0,0,0,0,0,0,0,0,0,0,0,0,0,0,0,0,0,0,0,0,0,0,0,0,0,0,0,0,null,null,{"$f":"Раздел2!#REF!","v":{"$error":"#REF!"}}]
[null,"Боулинг","24",0,0,0,0,0,0,0,0,0,0,0,0,0,0,0,0,0,0,0,0,0,0,0,0,0,0,0,0,0,0,0,null,null,{"$f":"Раздел2!#REF!","v":{"$error":"#REF!"}}]
[null,"Велоспорт ВМХ","25",0,0,0,0,0,0,0,0,0,0,0,0,0,0,0,0,0,0,0,0,0,0,0,0,0,0,0,0,0,0,0,null,null,{"$f":"Раздел2!#REF!","v":{"$error":"#REF!"}}]
[null,"Велоспорт – маунтинбайк","26",0,0,0,0,0,0,0,0,0,0,0,0,0,0,0,0,0,0,0,0,0,0,0,0,0,0,0,0,0,0,0,null,null,{"$f":"Раздел2!#REF!","v":{"$error":"#REF!"}}]
[null,"Велоспорт – трек","27",0,0,0,0,0,0,0,0,0,0,0,0,0,0,0,0,0,0,0,0,0,0,0,0,0,0,0,0,0,0,0,null,null,{"$f":"Раздел2!#REF!","v":{"$error":"#REF!"}}]
[null,"Велоспорт – шоссе","28",428,6,3,8,12,262,3,1,0,0,46,0,0,3,0,47,0,0,1,12,62,1,0,1,0,9,2,2,3,0,98,null,null,{"$f":"Раздел2!#REF!","v":{"$error":"#REF!"}}]
[null,"Вертолетный спорт","29",0,0,0,0,0,0,0,0,0,0,0,0,0,0,0,0,0,0,0,0,0,0,0,0,0,0,0,0,0,0,0,null,null,{"$f":"Раздел2!#REF!","v":{"$error":"#REF!"}}]
[null,"Водно-моторный спорт","30",0,0,0,0,0,0,0,0,0,0,0,0,0,0,0,0,0,0,0,0,0,0,0,0,0,0,0,0,0,0,0,null,null,{"$f":"Раздел2!#REF!","v":{"$error":"#REF!"}}]
[null,"Водное поло - всего ","31",0,0,0,0,0,0,0,0,0,0,0,0,0,0,0,0,0,0,0,0,0,0,0,0,0,0,0,0,0,0,0,null,null,{"$f":"Раздел2!#REF!","v":{"$error":"#REF!"}}]
[null,"в том числе:\nВодное поло (муж.)","32",0,0,0,0,0,0,0,0,0,0,0,0,0,0,0,0,0,0,0,0,0,0,0,0,0,0,0,0,0,0,0,null,null,{"$f":"Раздел2!#REF!","v":{"$error":"#REF!"}}]
[null,"Водное поло (жен.)","33",0,0,0,0,0,0,0,0,0,0,0,0,0,0,0,0,0,0,0,0,0,0,0,0,0,0,0,0,0,0,0,null,null,{"$f":"Раздел2!#REF!","v":{"$error":"#REF!"}}]
[null,"Воднолыжный спорт","34",0,0,0,0,0,0,0,0,0,0,0,0,0,0,0,0,0,0,0,0,0,0,0,0,0,0,0,0,0,0,0,null,null,{"$f":"Раздел2!#REF!","v":{"$error":"#REF!"}}]
[null,"Военно-прикладной спорт","35",0,0,0,0,0,0,0,0,0,0,0,0,0,0,0,0,0,0,0,0,0,0,0,0,0,0,0,0,0,0,0,null,null,{"$f":"Раздел2!#REF!","v":{"$error":"#REF!"}}]
[null,"Военно-спортивное многоборье","36",0,0,0,0,0,0,0,0,0,0,0,0,0,0,0,0,0,0,0,0,0,0,0,0,0,0,0,0,0,0,0,null,null,{"$f":"Раздел2!#REF!","v":{"$error":"#REF!"}}]
[null,"Воздухоплавательный спорт","37",0,0,0,0,0,0,0,0,0,0,0,0,0,0,0,0,0,0,0,0,0,0,0,0,0,0,0,0,0,0,0,null,null,{"$f":"Раздел2!#REF!","v":{"$error":"#REF!"}}]
[null,"Волейбол - всего","38",1747,0,0,0,2,32,0,0,0,0,0,0,0,0,0,0,0,0,0,0,28,0,0,0,0,0,0,0,0,2,4,null,null,{"$f":"Раздел2!#REF!","v":{"$error":"#REF!"}}]
[null,"в том числе:\nВолейбол (муж.)","39",724,0,0,0,0,14,0,0,0,0,0,0,0,0,0,0,0,0,0,0,14,0,0,0,0,0,0,0,0,0,0,null,null,{"$f":"Раздел2!#REF!","v":{"$error":"#REF!"}}]
[null,"Волейбол (жен.)","40",948,0,0,0,0,14,0,0,0,0,0,0,0,0,0,0,0,0,0,0,14,0,0,0,0,0,0,0,0,0,0,null,null,{"$f":"Раздел2!#REF!","v":{"$error":"#REF!"}}]
[null,"Пляжный волейбол (муж.)","41",40,0,0,0,2,4,0,0,0,0,0,0,0,0,0,0,0,0,0,0,0,0,0,0,0,0,0,0,0,2,4,null,null,{"$f":"Раздел2!#REF!","v":{"$error":"#REF!"}}]
[null,"Пляжный волейбол (жен.)","42",35,0,0,0,0,0,0,0,0,0,0,0,0,0,0,0,0,0,0,0,0,0,0,0,0,0,0,0,0,0,0,null,null,{"$f":"Раздел2!#REF!","v":{"$error":"#REF!"}}]
[null,"Восточное боевое единоборство","43",0,0,0,0,0,0,0,0,0,0,0,0,0,0,0,0,0,0,0,0,0,0,0,0,0,0,0,0,0,0,0,null,null,{"$f":"Раздел2!#REF!","v":{"$error":"#REF!"}}]
[null,"Всестилевое карате","44",0,0,0,0,0,0,0,0,0,0,0,0,0,0,0,0,0,0,0,0,0,0,0,0,0,0,0,0,0,0,0,null,null,{"$f":"Раздел2!#REF!","v":{"$error":"#REF!"}}]
[null,"Гандбол - всего","45",476,0,0,16,0,36,0,0,0,0,20,0,0,0,0,0,0,0,16,0,16,0,0,0,0,0,0,0,0,0,0,null,null,{"$f":"Раздел2!#REF!","v":{"$error":"#REF!"}}]
[null,"в том числе:\nГандбол (муж.)","46",41,0,0,0,0,0,0,0,0,0,0,0,0,0,0,0,0,0,0,0,0,0,0,0,0,0,0,0,0,0,0,null,null,{"$f":"Раздел2!#REF!","v":{"$error":"#REF!"}}]
[null,"Гандбол (жен.)","47",435,0,0,16,0,36,0,0,0,0,20,0,0,0,0,0,0,0,16,0,16,0,0,0,0,0,0,0,0,0,0,null,null,{"$f":"Раздел2!#REF!","v":{"$error":"#REF!"}}]
[null,"Пляжный гандбол","48",0,0,0,0,0,0,0,0,0,0,0,0,0,0,0,0,0,0,0,0,0,0,0,0,0,0,0,0,0,0,0,null,null,{"$f":"Раздел2!#REF!","v":{"$error":"#REF!"}}]
[null,"Гиревой спорт","49",0,0,0,0,0,0,0,0,0,0,0,0,0,0,0,0,0,0,0,0,0,0,0,0,0,0,0,0,0,0,0,null,null,{"$f":"Раздел2!#REF!","v":{"$error":"#REF!"}}]
[null,"Го","50",0,0,0,0,0,0,0,0,0,0,0,0,0,0,0,0,0,0,0,0,0,0,0,0,0,0,0,0,0,0,0,null,null,{"$f":"Раздел2!#REF!","v":{"$error":"#REF!"}}]
[null,"Гольф","51",0,0,0,0,0,0,0,0,0,0,0,0,0,0,0,0,0,0,0,0,0,0,0,0,0,0,0,0,0,0,0,null,null,{"$f":"Раздел2!#REF!","v":{"$error":"#REF!"}}]
[null,"Горнолыжный спорт","52",0,0,0,0,0,0,0,0,0,0,0,0,0,0,0,0,0,0,0,0,0,0,0,0,0,0,0,0,0,0,0,null,null,{"$f":"Раздел2!#REF!","v":{"$error":"#REF!"}}]
[null,"Городошный спорт","53",0,0,0,0,0,0,0,0,0,0,0,0,0,0,0,0,0,0,0,0,0,0,0,0,0,0,0,0,0,0,0,null,null,{"$f":"Раздел2!#REF!","v":{"$error":"#REF!"}}]
[null,"Гребля на байдарках и каноэ","54",0,0,0,0,0,0,0,0,0,0,0,0,0,0,0,0,0,0,0,0,0,0,0,0,0,0,0,0,0,0,0,null,null,{"$f":"Раздел2!#REF!","v":{"$error":"#REF!"}}]
[null,"Гребля на шлюпках","55",0,0,0,0,0,0,0,0,0,0,0,0,0,0,0,0,0,0,0,0,0,0,0,0,0,0,0,0,0,0,0,null,null,{"$f":"Раздел2!#REF!","v":{"$error":"#REF!"}}]
[null,"Гребной слалом","56",0,0,0,0,0,0,0,0,0,0,0,0,0,0,0,0,0,0,0,0,0,0,0,0,0,0,0,0,0,0,0,null,null,{"$f":"Раздел2!#REF!","v":{"$error":"#REF!"}}]
[null,"Гребной спорт - всего","57",0,0,0,0,0,0,0,0,0,0,0,0,0,0,0,0,0,0,0,0,0,0,0,0,0,0,0,0,0,0,0,null,null,{"$f":"Раздел2!#REF!","v":{"$error":"#REF!"}}]
[null,"в том числе:\nАкадемическая гребля","58",0,0,0,0,0,0,0,0,0,0,0,0,0,0,0,0,0,0,0,0,0,0,0,0,0,0,0,0,0,0,0,null,null,{"$f":"Раздел2!#REF!","v":{"$error":"#REF!"}}]
[null,"Гребля-индор","59",0,0,0,0,0,0,0,0,0,0,0,0,0,0,0,0,0,0,0,0,0,0,0,0,0,0,0,0,0,0,0,null,null,{"$f":"Раздел2!#REF!","v":{"$error":"#REF!"}}]
[null,"Народная гребля","60",0,0,0,0,0,0,0,0,0,0,0,0,0,0,0,0,0,0,0,0,0,0,0,0,0,0,0,0,0,0,0,null,null,{"$f":"Раздел2!#REF!","v":{"$error":"#REF!"}}]
[null,"Прибрежная гребля","61",0,0,0,0,0,0,0,0,0,0,0,0,0,0,0,0,0,0,0,0,0,0,0,0,0,0,0,0,0,0,0,null,null,{"$f":"Раздел2!#REF!","v":{"$error":"#REF!"}}]
[null,"Гребно-парусное двоеборье","62",0,0,0,0,0,0,0,0,0,0,0,0,0,0,0,0,0,0,0,0,0,0,0,0,0,0,0,0,0,0,0,null,null,{"$f":"Раздел2!#REF!","v":{"$error":"#REF!"}}]
[null,"Дартс","63",0,0,0,0,0,0,0,0,0,0,0,0,0,0,0,0,0,0,0,0,0,0,0,0,0,0,0,0,0,0,0,null,null,{"$f":"Раздел2!#REF!","v":{"$error":"#REF!"}}]
[null,"Джиу-джитсу","64",0,0,0,0,0,0,0,0,0,0,0,0,0,0,0,0,0,0,0,0,0,0,0,0,0,0,0,0,0,0,0,null,null,{"$f":"Раздел2!#REF!","v":{"$error":"#REF!"}}]
[null,"Дзюдо","65",1342,21,6,33,19,259,0,0,0,0,9,1,1,1,0,24,1,0,1,0,10,0,0,0,0,1,19,5,31,19,215,null,null,{"$f":"Раздел2!#REF!","v":{"$error":"#REF!"}}]
[null,"Ездовой спорт","66",0,0,0,0,0,0,0,0,0,0,0,0,0,0,0,0,0,0,0,0,0,0,0,0,0,0,0,0,0,0,0,null,null,{"$f":"Раздел2!#REF!","v":{"$error":"#REF!"}}]
[null,"Капоэйра","67",0,0,0,0,0,0,0,0,0,0,0,0,0,0,0,0,0,0,0,0,0,0,0,0,0,0,0,0,0,0,0,null,null,{"$f":"Раздел2!#REF!","v":{"$error":"#REF!"}}]
[null,"Каратэ","68",99,2,2,4,1,16,0,0,0,0,0,0,0,0,0,6,1,0,0,0,0,0,0,0,0,0,1,2,4,1,10,null,null,{"$f":"Раздел2!#REF!","v":{"$error":"#REF!"}}]
[null,"Кендо","69",0,0,0,0,0,0,0,0,0,0,0,0,0,0,0,0,0,0,0,0,0,0,0,0,0,0,0,0,0,0,0,null,null,{"$f":"Раздел2!#REF!","v":{"$error":"#REF!"}}]
[null,"Керешу","70",0,0,0,0,0,0,0,0,0,0,0,0,0,0,0,0,0,0,0,0,0,0,0,0,0,0,0,0,0,0,0,null,null,{"$f":"Раздел2!#REF!","v":{"$error":"#REF!"}}]
[null,"Керлинг - всего","71",0,0,0,0,0,0,0,0,0,0,0,0,0,0,0,0,0,0,0,0,0,0,0,0,0,0,0,0,0,0,0,null,null,{"$f":"Раздел2!#REF!","v":{"$error":"#REF!"}}]
[null,"в том числе:\nКерлинг (муж.)","72",0,0,0,0,0,0,0,0,0,0,0,0,0,0,0,0,0,0,0,0,0,0,0,0,0,0,0,0,0,0,0,null,null,{"$f":"Раздел2!#REF!","v":{"$error":"#REF!"}}]
[null,"Керлинг (жен.)","73",0,0,0,0,0,0,0,0,0,0,0,0,0,0,0,0,0,0,0,0,0,0,0,0,0,0,0,0,0,0,0,null,null,{"$f":"Раздел2!#REF!","v":{"$error":"#REF!"}}]
[null,"Кикбоксинг","74",118,13,7,3,9,8,2,1,0,0,0,0,0,0,0,2,0,1,0,0,0,5,3,2,2,2,6,2,1,7,4,null,null,{"$f":"Раздел2!#REF!","v":{"$error":"#REF!"}}]
[null,"Кинологический спорт","75",0,0,0,0,0,0,0,0,0,0,0,0,0,0,0,0,0,0,0,0,0,0,0,0,0,0,0,0,0,0,0,null,null,{"$f":"Раздел2!#REF!","v":{"$error":"#REF!"}}]
[null,"Киокусинкай","76",0,0,0,0,0,0,0,0,0,0,0,0,0,0,0,0,0,0,0,0,0,0,0,0,0,0,0,0,0,0,0,null,null,{"$f":"Раздел2!#REF!","v":{"$error":"#REF!"}}]
[null,"Комплексное единоборство","77",0,0,0,0,0,0,0,0,0,0,0,0,0,0,0,0,0,0,0,0,0,0,0,0,0,0,0,0,0,0,0,null,null,{"$f":"Раздел2!#REF!","v":{"$error":"#REF!"}}]
[null,"Компьютерный спорт","78",0,0,0,0,0,0,0,0,0,0,0,0,0,0,0,0,0,0,0,0,0,0,0,0,0,0,0,0,0,0,0,null,null,{"$f":"Раздел2!#REF!","v":{"$error":"#REF!"}}]
[null,"Конный спорт","79",124,0,2,2,0,0,0,1,2,0,0,0,0,0,0,0,0,0,0,0,0,0,0,0,0,0,0,1,0,0,0,null,null,{"$f":"Раздел2!#REF!","v":{"$error":"#REF!"}}]
[null,"Конькобежный спорт - всего","80",0,0,0,0,0,0,0,0,0,0,0,0,0,0,0,0,0,0,0,0,0,0,0,0,0,0,0,0,0,0,0,null,null,{"$f":"Раздел2!#REF!","v":{"$error":"#REF!"}}]
[null,"в том числе:\nКонькобежный спорт","81",0,0,0,0,0,0,0,0,0,0,0,0,0,0,0,0,0,0,0,0,0,0,0,0,0,0,0,0,0,0,0,null,null,{"$f":"Раздел2!#REF!","v":{"$error":"#REF!"}}]
[null,"Шорт-трек","82",0,0,0,0,0,0,0,0,0,0,0,0,0,0,0,0,0,0,0,0,0,0,0,0,0,0,0,0,0,0,0,null,null,{"$f":"Раздел2!#REF!","v":{"$error":"#REF!"}}]
[null,"Корэш","83",0,0,0,0,0,0,0,0,0,0,0,0,0,0,0,0,0,0,0,0,0,0,0,0,0,0,0,0,0,0,0,null,null,{"$f":"Раздел2!#REF!","v":{"$error":"#REF!"}}]
[null,"Корфбол","84",0,0,0,0,0,0,0,0,0,0,0,0,0,0,0,0,0,0,0,0,0,0,0,0,0,0,0,0,0,0,0,null,null,{"$f":"Раздел2!#REF!","v":{"$error":"#REF!"}}]
[null,"Лапта","85",0,0,0,0,0,0,0,0,0,0,0,0,0,0,0,0,0,0,0,0,0,0,0,0,0,0,0,0,0,0,0,null,null,{"$f":"Раздел2!#REF!","v":{"$error":"#REF!"}}]
[null,"Легкая атлетика - всего","86",549,14,14,20,17,54,1,0,0,1,5,1,0,4,0,9,0,1,0,1,7,0,1,1,0,3,12,12,15,15,30,null,null,{"$f":"Раздел2!#REF!","v":{"$error":"#REF!"}}]
[null,"в том числе:\nСпринтерский и барьерный бег","87",234,9,3,12,11,29,0,0,0,0,1,1,0,1,0,4,0,0,0,0,3,0,0,1,0,0,8,3,10,11,21,null,null,{"$f":"Раздел2!#REF!","v":{"$error":"#REF!"}}]
[null,"Бег на средние дистанции и бег с препятствиями","88",107,4,7,3,4,10,0,0,0,0,0,0,0,1,0,0,0,1,0,1,3,0,0,0,0,0,4,6,2,3,7,null,null,{"$f":"Раздел2!#REF!","v":{"$error":"#REF!"}}]
[null,"Бег на длинные и сверхдлинные дистанции","89",8,0,0,0,0,0,0,0,0,0,0,0,0,0,0,0,0,0,0,0,0,0,0,0,0,0,0,0,0,0,0,null,null,{"$f":"Раздел2!#REF!","v":{"$error":"#REF!"}}]
[null,"Многоборья","90",140,1,2,3,1,10,1,0,0,1,3,0,0,2,0,3,0,0,0,0,0,0,1,0,0,3,0,1,1,0,1,null,null,{"$f":"Раздел2!#REF!","v":{"$error":"#REF!"}}]
[null,"Прыжки","91",14,0,0,0,0,0,0,0,0,0,0,0,0,0,0,0,0,0,0,0,0,0,0,0,0,0,0,0,0,0,0,null,null,{"$f":"Раздел2!#REF!","v":{"$error":"#REF!"}}]
[null,"Метания","92",46,0,2,2,1,5,0,0,0,0,1,0,0,0,0,2,0,0,0,0,1,0,0,0,0,0,0,2,2,1,1,null,null,{"$f":"Раздел2!#REF!","v":{"$error":"#REF!"}}]
[null,"Спортивная ходьба","93",0,0,0,0,0,0,0,0,0,0,0,0,0,0,0,0,0,0,0,0,0,0,0,0,0,0,0,0,0,0,0,null,null,{"$f":"Раздел2!#REF!","v":{"$error":"#REF!"}}]
[null,"Лыжное двоеборье","94",0,0,0,0,0,0,0,0,0,0,0,0,0,0,0,0,0,0,0,0,0,0,0,0,0,0,0,0,0,0,0,null,null,{"$f":"Раздел2!#REF!","v":{"$error":"#REF!"}}]
[null,"Лыжные гонки","95",0,0,0,0,0,0,0,0,0,0,0,0,0,0,0,0,0,0,0,0,0,0,0,0,0,0,0,0,0,0,0,null,null,{"$f":"Раздел2!#REF!","v":{"$error":"#REF!"}}]
[null,"Мас-рестлинг","96",0,0,0,0,0,0,0,0,0,0,0,0,0,0,0,0,0,0,0,0,0,0,0,0,0,0,0,0,0,0,0,null,null,{"$f":"Раздел2!#REF!","v":{"$error":"#REF!"}}]
[null,"Международное военно-спортивное многоборье","97",0,0,0,0,0,0,0,0,0,0,0,0,0,0,0,0,0,0,0,0,0,0,0,0,0,0,0,0,0,0,0,null,null,{"$f":"Раздел2!#REF!","v":{"$error":"#REF!"}}]
[null,"Многоборье кинологов","98",0,0,0,0,0,0,0,0,0,0,0,0,0,0,0,0,0,0,0,0,0,0,0,0,0,0,0,0,0,0,0,null,null,{"$f":"Раздел2!#REF!","v":{"$error":"#REF!"}}]
[null,"Многоборье спасателей МЧС России","99",0,0,0,0,0,0,0,0,0,0,0,0,0,0,0,0,0,0,0,0,0,0,0,0,0,0,0,0,0,0,0,null,null,{"$f":"Раздел2!#REF!","v":{"$error":"#REF!"}}]
[null,"Морское многоборье","100",0,0,0,0,0,0,0,0,0,0,0,0,0,0,0,0,0,0,0,0,0,0,0,0,0,0,0,0,0,0,0,null,null,{"$f":"Раздел2!#REF!","v":{"$error":"#REF!"}}]
[null,"Мотоциклетный спорт","101",0,0,0,0,0,0,0,0,0,0,0,0,0,0,0,0,0,0,0,0,0,0,0,0,0,0,0,0,0,0,0,null,null,{"$f":"Раздел2!#REF!","v":{"$error":"#REF!"}}]
[null,"Настольный теннис","102",689,0,0,0,0,7,0,0,0,0,0,0,0,0,0,0,0,0,0,0,0,0,0,0,0,0,0,0,0,0,7,null,null,{"$f":"Раздел2!#REF!","v":{"$error":"#REF!"}}]
[null,"Парашютный спорт","103",0,0,0,0,0,0,0,0,0,0,0,0,0,0,0,0,0,0,0,0,0,0,0,0,0,0,0,0,0,0,0,null,null,{"$f":"Раздел2!#REF!","v":{"$error":"#REF!"}}]
[null,"Парусный спорт","104",0,0,0,0,0,0,0,0,0,0,0,0,0,0,0,0,0,0,0,0,0,0,0,0,0,0,0,0,0,0,0,null,null,{"$f":"Раздел2!#REF!","v":{"$error":"#REF!"}}]
[null,"Пауэрлифтинг","105",0,0,0,0,0,0,0,0,0,0,0,0,0,0,0,0,0,0,0,0,0,0,0,0,0,0,0,0,0,0,0,null,null,{"$f":"Раздел2!#REF!","v":{"$error":"#REF!"}}]
[null,"Перетягивание каната","106",0,0,0,0,0,0,0,0,0,0,0,0,0,0,0,0,0,0,0,0,0,0,0,0,0,0,0,0,0,0,0,null,null,{"$f":"Раздел2!#REF!","v":{"$error":"#REF!"}}]
[null,"Петанк","107",0,0,0,0,0,0,0,0,0,0,0,0,0,0,0,0,0,0,0,0,0,0,0,0,0,0,0,0,0,0,0,null,null,{"$f":"Раздел2!#REF!","v":{"$error":"#REF!"}}]
[null,"Плавание - всего","108",0,0,0,0,0,0,0,0,0,0,0,0,0,0,0,0,0,0,0,0,0,0,0,0,0,0,0,0,0,0,0,null,null,{"$f":"Раздел2!#REF!","v":{"$error":"#REF!"}}]
[null,"в том числе:\nПлавание ","109",0,0,0,0,0,0,0,0,0,0,0,0,0,0,0,0,0,0,0,0,0,0,0,0,0,0,0,0,0,0,0,null,null,{"$f":"Раздел2!#REF!","v":{"$error":"#REF!"}}]
[null,"Открытая вода","110",0,0,0,0,0,0,0,0,0,0,0,0,0,0,0,0,0,0,0,0,0,0,0,0,0,0,0,0,0,0,0,null,null,{"$f":"Раздел2!#REF!","v":{"$error":"#REF!"}}]
[null,"Планерный спорт","111",0,0,0,0,0,0,0,0,0,0,0,0,0,0,0,0,0,0,0,0,0,0,0,0,0,0,0,0,0,0,0,null,null,{"$f":"Раздел2!#REF!","v":{"$error":"#REF!"}}]
[null,"Подводный спорт","112",0,0,0,0,0,0,0,0,0,0,0,0,0,0,0,0,0,0,0,0,0,0,0,0,0,0,0,0,0,0,0]
[null,"Пожарно-прикладной спорт","113",0,0,0,0,0,0,0,0,0,0,0,0,0,0,0,0,0,0,0,0,0,0,0,0,0,0,0,0,0,0,0]
[null,"Полиатлон","114",0,0,0,0,0,0,0,0,0,0,0,0,0,0,0,0,0,0,0,0,0,0,0,0,0,0,0,0,0,0,0]
[null,"Практическая стрельба","115",0,0,0,0,0,0,0,0,0,0,0,0,0,0,0,0,0,0,0,0,0,0,0,0,0,0,0,0,0,0,0]
[null,"Прыжки в воду - всего","116",0,0,0,0,0,0,0,0,0,0,0,0,0,0,0,0,0,0,0,0,0,0,0,0,0,0,0,0,0,0,0]
[null,"в том числе:\nПрыжки в воду","117",0,0,0,0,0,0,0,0,0,0,0,0,0,0,0,0,0,0,0,0,0,0,0,0,0,0,0,0,0,0,0]
[null,"Прыжки в открытый водоем","118",0,0,0,0,0,0,0,0,0,0,0,0,0,0,0,0,0,0,0,0,0,0,0,0,0,0,0,0,0,0,0]
[null,"Прыжки на батуте - всего","119",94,1,1,1,3,31,0,0,0,0,0,0,0,0,1,2,0,0,0,0,5,0,0,0,0,0,1,1,1,2,24]
[null,"в том числе:\nАкробатическая дорожка","120",0,0,0,0,0,0,0,0,0,0,0,0,0,0,0,0,0,0,0,0,0,0,0,0,0,0,0,0,0,0,0]
[null,"Двойной минитрамп","121",0,0,0,0,0,0,0,0,0,0,0,0,0,0,0,0,0,0,0,0,0,0,0,0,0,0,0,0,0,0,0]
[null,"Индивидуальные прыжки","122",94,1,1,1,1,30,0,0,0,0,0,0,0,0,0,2,0,0,0,0,5,0,0,0,0,0,1,1,1,1,23]
[null,"Синхронные прыжки","123",0,0,0,0,2,1,0,0,0,0,0,0,0,0,1,0,0,0,0,0,0,0,0,0,0,0,0,0,0,1,1]
[null,"Прыжки на лыжах с трамплина","124",0,0,0,0,0,0,0,0,0,0,0,0,0,0,0,0,0,0,0,0,0,0,0,0,0,0,0,0,0,0,0]
[null,"Пулевая стрельба - всего","125",129,0,8,3,5,115,0,0,0,0,14,0,3,0,1,28,0,1,3,0,20,0,0,0,1,3,0,4,0,3,50]
[null,"в том числе:\nПневматическая винтовка","126",0,0,0,0,0,5,0,0,0,0,0,0,0,0,0,1,0,0,0,0,1,0,0,0,0,0,0,0,0,0,3]
[null,"Пневматический пистолет","127",106,0,4,0,2,66,0,0,0,0,3,0,0,0,1,17,0,1,0,0,13,0,0,0,0,2,0,3,0,1,31]
[null,"Малокалиберная винтовка","128",7,0,0,0,0,10,0,0,0,0,1,0,0,0,0,4,0,0,0,0,0,0,0,0,0,0,0,0,0,0,5]
[null,"Малокалиберный пистолет","129",16,0,4,3,3,34,0,0,0,0,10,0,3,0,0,6,0,0,3,0,6,0,0,0,1,1,0,1,0,2,11]
[null,"Движущаяся мишень","130",0,0,0,0,0,0,0,0,0,0,0,0,0,0,0,0,0,0,0,0,0,0,0,0,0,0,0,0,0,0,0]
[null,"Пэйнтбол","131",0,0,0,0,0,0,0,0,0,0,0,0,0,0,0,0,0,0,0,0,0,0,0,0,0,0,0,0,0,0,0]
[null,"Радиоспорт","132",0,0,0,0,0,0,0,0,0,0,0,0,0,0,0,0,0,0,0,0,0,0,0,0,0,0,0,0,0,0,0]
[null,"Рафтинг","133",0,0,0,0,0,0,0,0,0,0,0,0,0,0,0,0,0,0,0,0,0,0,0,0,0,0,0,0,0,0,0]
[null,"Регби - всего","134",0,0,0,0,0,0,0,0,0,0,0,0,0,0,0,0,0,0,0,0,0,0,0,0,0,0,0,0,0,0,0]
[null,"в том числе:\nРегби","135",0,0,0,0,0,0,0,0,0,0,0,0,0,0,0,0,0,0,0,0,0,0,0,0,0,0,0,0,0,0,0]
[null,"Регби 7 (муж.)","136",0,0,0,0,0,0,0,0,0,0,0,0,0,0,0,0,0,0,0,0,0,0,0,0,0,0,0,0,0,0,0]
[null,"Регби 7 (жен.)","137",0,0,0,0,0,0,0,0,0,0,0,0,0,0,0,0,0,0,0,0,0,0,0,0,0,0,0,0,0,0,0]
[null,"Регби - пляжное","138",0,0,0,0,0,0,0,0,0,0,0,0,0,0,0,0,0,0,0,0,0,0,0,0,0,0,0,0,0,0,0]
[null,"Регбол","139",0,0,0,0,0,0,0,0,0,0,0,0,0,0,0,0,0,0,0,0,0,0,0,0,0,0,0,0,0,0,0]
[null,"Роллер спорт","140",0,0,0,0,0,0,0,0,0,0,0,0,0,0,0,0,0,0,0,0,0,0,0,0,0,0,0,0,0,0,0]
[null,"Рукопашный бой","141",0,0,0,0,0,0,0,0,0,0,0,0,0,0,0,0,0,0,0,0,0,0,0,0,0,0,0,0,0,0,0]
[null,"Рыболовный спорт","142",0,0,0,0,0,0,0,0,0,0,0,0,0,0,0,0,0,0,0,0,0,0,0,0,0,0,0,0,0,0,0]
[null,"Сават","143",0,0,0,0,0,0,0,0,0,0,0,0,0,0,0,0,0,0,0,0,0,0,0,0,0,0,0,0,0,0,0]
[null,"Самбо","144",1473,20,20,22,9,125,0,0,0,0,2,0,1,0,0,4,2,0,0,4,40,0,0,0,0,0,18,19,22,5,79]
[null,"Самолетный спорт","145",0,0,0,0,0,0,0,0,0,0,0,0,0,0,0,0,0,0,0,0,0,0,0,0,0,0,0,0,0,0,0]
[null,"Санный спорт","146",0,0,0,0,0,0,0,0,0,0,0,0,0,0,0,0,0,0,0,0,0,0,0,0,0,0,0,0,0,0,0]
[null,"Северное многоборье","147",0,0,0,0,0,0,0,0,0,0,0,0,0,0,0,0,0,0,0,0,0,0,0,0,0,0,0,0,0,0,0]
[null,"Серфинг","148",0,0,0,0,0,0,0,0,0,0,0,0,0,0,0,0,0,0,0,0,0,0,0,0,0,0,0,0,0,0,0]
[null,"Синхронное плавание","149",0,0,0,0,0,0,0,0,0,0,0,0,0,0,0,0,0,0,0,0,0,0,0,0,0,0,0,0,0,0,0]
[null,"Скалолазание","150",44,0,0,0,4,14,0,0,0,0,0,0,0,0,0,0,0,0,0,0,0,0,0,0,0,0,0,0,0,4,14]
[null,"Скейтбординг","151",0,0,0,0,0,0,0,0,0,0,0,0,0,0,0,0,0,0,0,0,0,0,0,0,0,0,0,0,0,0,0]
[null,"Сквош","152",0,0,0,0,0,0,0,0,0,0,0,0,0,0,0,0,0,0,0,0,0,0,0,0,0,0,0,0,0,0,0]
[null,"Служебно-прикладной спорт ФСО России","153",0,0,0,0,0,0,0,0,0,0,0,0,0,0,0,0,0,0,0,0,0,0,0,0,0,0,0,0,0,0,0]
[null,"Служебно-прикладной спорт ГФС России","154",0,0,0,0,0,0,0,0,0,0,0,0,0,0,0,0,0,0,0,0,0,0,0,0,0,0,0,0,0,0,0]
[null,"Служебно-прикладной спорт ФСКН России","155",0,0,0,0,0,0,0,0,0,0,0,0,0,0,0,0,0,0,0,0,0,0,0,0,0,0,0,0,0,0,0]
[null,"Служебно-прикладной спорт ФТС России","156",0,0,0,0,0,0,0,0,0,0,0,0,0,0,0,0,0,0,0,0,0,0,0,0,0,0,0,0,0,0,0]
[null,"Служебное двоеборье","157",0,0,0,0,0,0,0,0,0,0,0,0,0,0,0,0,0,0,0,0,0,0,0,0,0,0,0,0,0,0,0]
[null,"Служебное единоборство","158",0,0,0,0,0,0,0,0,0,0,0,0,0,0,0,0,0,0,0,0,0,0,0,0,0,0,0,0,0,0,0]
[null,"Служебное многоборье","159",0,0,0,0,0,0,0,0,0,0,0,0,0,0,0,0,0,0,0,0,0,0,0,0,0,0,0,0,0,0,0]
[null,"Служебное собаководство","160",0,0,0,0,0,0,0,0,0,0,0,0,0,0,0,0,0,0,0,0,0,0,0,0,0,0,0,0,0,0,0]
[null,"Служебный биатлон","161",0,0,0,0,0,0,0,0,0,0,0,0,0,0,0,0,0,0,0,0,0,0,0,0,0,0,0,0,0,0,0]
[null,"Спасательный спорт","162",0,0,0,0,0,0,0,0,0,0,0,0,0,0,0,0,0,0,0,0,0,0,0,0,0,0,0,0,0,0,0]
[null,"Стрельба из боевого ручного стрелкового оружия","163",0,0,0,0,0,0,0,0,0,0,0,0,0,0,0,0,0,0,0,0,0,0,0,0,0,0,0,0,0,0,0]
[null,"Стрельба из штатного или табельного оружия","164",0,0,0,0,0,0,0,0,0,0,0,0,0,0,0,0,0,0,0,0,0,0,0,0,0,0,0,0,0,0,0]
[null,"Смешанное боевое единоборство (ММА)","165",0,0,0,0,0,0,0,0,0,0,0,0,0,0,0,0,0,0,0,0,0,0,0,0,0,0,0,0,0,0,0]
[null,"Сноуборд","166",0,0,0,0,0,0,0,0,0,0,0,0,0,0,0,0,0,0,0,0,0,0,0,0,0,0,0,0,0,0,0]
[null,"Современное пятиборье","167",0,0,0,0,0,0,0,0,0,0,0,0,0,0,0,0,0,0,0,0,0,0,0,0,0,0,0,0,0,0,0]
[null,"Софтбол","168",0,0,0,0,0,0,0,0,0,0,0,0,0,0,0,0,0,0,0,0,0,0,0,0,0,0,0,0,0,0,0]
[null,"Спорт сверхлегкой авиации","169",0,0,0,0,0,0,0,0,0,0,0,0,0,0,0,0,0,0,0,0,0,0,0,0,0,0,0,0,0,0,0]
[null,"Спортивная акробатика","170",132,0,0,0,0,9,0,0,0,0,0,0,0,0,0,0,0,0,0,0,0,0,0,0,0,0,0,0,0,0,9]
[null,"Спортивная аэробика","171",0,0,0,0,0,0,0,0,0,0,0,0,0,0,0,0,0,0,0,0,0,0,0,0,0,0,0,0,0,0,0]
[null,"Спортивная борьба - всего","172",417,15,12,16,8,47,0,1,0,0,2,0,0,0,0,0,1,0,2,0,9,0,0,0,0,0,14,11,14,8,36]
[null,"в том числе:\nВольная борьба","173",81,0,0,1,0,5,0,0,0,0,0,0,0,0,0,0,0,0,0,0,0,0,0,0,0,0,0,0,1,0,5]
[null,"Греко-римская борьба","174",336,15,12,15,8,42,0,1,0,0,2,0,0,0,0,0,1,0,2,0,9,0,0,0,0,0,14,11,13,8,31]
[null,"Грэпплинг","175",0,0,0,0,0,0,0,0,0,0,0,0,0,0,0,0,0,0,0,0,0,0,0,0,0,0,0,0,0,0,0]
[null,"Грэпплинг-ги","176",0,0,0,0,0,0,0,0,0,0,0,0,0,0,0,0,0,0,0,0,0,0,0,0,0,0,0,0,0,0,0]
[null,"Панкратион","177",0,0,0,0,0,0,0,0,0,0,0,0,0,0,0,0,0,0,0,0,0,0,0,0,0,0,0,0,0,0,0]
[null,"Спортивно-прикладное собаководство","178",0,0,0,0,0,0,0,0,0,0,0,0,0,0,0,0,0,0,0,0,0,0,0,0,0,0,0,0,0,0,0]
[null,"Спортивная гимнастика","179",302,4,4,1,3,3,0,0,0,0,0,0,0,0,0,0,0,0,0,0,0,0,0,0,0,0,4,4,1,3,3]
[null,"Спортивное ориентирование","180",234,0,0,0,0,0,0,0,0,0,0,0,0,0,0,0,0,0,0,0,0,0,0,0,0,0,0,0,0,0,0]
[null,"Спортивный бридж","181",0,0,0,0,0,0,0,0,0,0,0,0,0,0,0,0,0,0,0,0,0,0,0,0,0,0,0,0,0,0,0]
[null,"Спортивный туризм","182",50,0,0,0,0,0,0,0,0,0,0,0,0,0,0,0,0,0,0,0,0,0,0,0,0,0,0,0,0,0,0]
[null,"Стендовая стрельба - всего","183",0,0,0,0,0,0,0,0,0,0,0,0,0,0,0,0,0,0,0,0,0,0,0,0,0,0,0,0,0,0,0]
[null,"в том числе:\nТрап","184",0,0,0,0,0,0,0,0,0,0,0,0,0,0,0,0,0,0,0,0,0,0,0,0,0,0,0,0,0,0,0]
[null,"Скит","185",0,0,0,0,0,0,0,0,0,0,0,0,0,0,0,0,0,0,0,0,0,0,0,0,0,0,0,0,0,0,0]
[null,"Дубль-трап","186",0,0,0,0,0,0,0,0,0,0,0,0,0,0,0,0,0,0,0,0,0,0,0,0,0,0,0,0,0,0,0]
[null,"Спортинг","187",0,0,0,0,0,0,0,0,0,0,0,0,0,0,0,0,0,0,0,0,0,0,0,0,0,0,0,0,0,0,0]
[null,"Стрельба из арбалета","188",0,0,0,0,0,0,0,0,0,0,0,0,0,0,0,0,0,0,0,0,0,0,0,0,0,0,0,0,0,0,0]
[null,"Стрельба из лука - всего","189",0,0,0,0,0,0,0,0,0,0,0,0,0,0,0,0,0,0,0,0,0,0,0,0,0,0,0,0,0,0,0]
[null,"в том числе:\nКлассический лук","190",0,0,0,0,0,0,0,0,0,0,0,0,0,0,0,0,0,0,0,0,0,0,0,0,0,0,0,0,0,0,0]
[null,"   Блочный лук","191",0,0,0,0,0,0,0,0,0,0,0,0,0,0,0,0,0,0,0,0,0,0,0,0,0,0,0,0,0,0,0]
[null,"   Ачери ","192",0,0,0,0,0,0,0,0,0,0,0,0,0,0,0,0,0,0,0,0,0,0,0,0,0,0,0,0,0,0,0]
[null,"Судомодельный спорт","193",0,0,0,0,0,0,0,0,0,0,0,0,0,0,0,0,0,0,0,0,0,0,0,0,0,0,0,0,0,0,0]
[null,"Сумо","194",0,0,0,0,0,0,0,0,0,0,0,0,0,0,0,0,0,0,0,0,0,0,0,0,0,0,0,0,0,0,0]
[null,"Тайский бокс","195",0,0,0,0,0,0,0,0,0,0,0,0,0,0,0,0,0,0,0,0,0,0,0,0,0,0,0,0,0,0,0]
[null,"Танцевальный спорт","196",0,0,0,0,0,0,0,0,0,0,0,0,0,0,0,0,0,0,0,0,0,0,0,0,0,0,0,0,0,0,0]
[null,"Теннис","197",22,0,0,0,0,0,0,0,0,0,0,0,0,0,0,0,0,0,0,0,0,0,0,0,0,0,0,0,0,0,0]
[null,"Триатлон","198",0,0,0,0,0,0,0,0,0,0,0,0,0,0,0,0,0,0,0,0,0,0,0,0,0,0,0,0,0,0,0]
[null,"Тхэквондо - всего","199",250,6,5,1,2,25,0,0,0,0,0,2,0,1,0,1,0,0,0,0,6,2,1,0,0,0,2,4,0,2,18]
[null,"в том числе:\nТхэквондо (ГТФ, ИТФ, МФТ)","200",0,0,0,0,0,0,0,0,0,0,0,0,0,0,0,0,0,0,0,0,0,0,0,0,0,0,0,0,0,0,0]
[null,"Тхэквондо (ВТФ)","201",250,6,5,1,2,25,0,0,0,0,0,2,0,1,0,1,0,0,0,0,6,2,1,0,0,0,2,4,0,2,18]
[null,"Тяжелая атлетика","202",580,5,4,5,10,28,0,0,0,0,0,0,2,2,0,3,0,0,0,1,6,0,0,1,1,2,5,2,2,8,17]
[null,"Универсальный бой","203",0,0,0,0,0,0,0,0,0,0,0,0,0,0,0,0,0,0,0,0,0,0,0,0,0,0,0,0,0,0,0]
[null,"Ушу","204",91,8,1,1,0,3,1,0,0,0,0,0,0,0,0,1,0,0,0,0,1,1,0,0,0,0,6,1,1,0,1]
[null,"Фехтование - всего","205",0,0,0,0,0,0,0,0,0,0,0,0,0,0,0,0,0,0,0,0,0,0,0,0,0,0,0,0,0,0,0]
[null,"в том числе:\nРапира","206",0,0,0,0,0,0,0,0,0,0,0,0,0,0,0,0,0,0,0,0,0,0,0,0,0,0,0,0,0,0,0]
[null,"Сабля","207",0,0,0,0,0,0,0,0,0,0,0,0,0,0,0,0,0,0,0,0,0,0,0,0,0,0,0,0,0,0,0]
[null,"Шпага","208",0,0,0,0,0,0,0,0,0,0,0,0,0,0,0,0,0,0,0,0,0,0,0,0,0,0,0,0,0,0,0]
[null,"Арт-фехтование","209",0,0,0,0,0,0,0,0,0,0,0,0,0,0,0,0,0,0,0,0,0,0,0,0,0,0,0,0,0,0,0]
[null,"Фигурное катание на коньках","210",0,0,0,0,0,0,0,0,0,0,0,0,0,0,0,0,0,0,0,0,0,0,0,0,0,0,0,0,0,0,0]
[null,"Фитнес-аэробика","211",59,0,7,0,0,8,0,0,0,0,0,0,0,0,0,0,0,0,0,0,0,0,0,0,0,0,0,7,0,0,8]
[null,"Флаинг диск","212",0,0,0,0,0,0,0,0,0,0,0,0,0,0,0,0,0,0,0,0,0,0,0,0,0,0,0,0,0,0,0]
[null,"Флорбол","213",0,0,0,0,0,0,0,0,0,0,0,0,0,0,0,0,0,0,0,0,0,0,0,0,0,0,0,0,0,0,0]
[null,"Фристайл - всего","214",0,0,0,0,0,0,0,0,0,0,0,0,0,0,0,0,0,0,0,0,0,0,0,0,0,0,0,0,0,0,0]
[null,"в том числе:\nАкробатика","215",0,0,0,0,0,0,0,0,0,0,0,0,0,0,0,0,0,0,0,0,0,0,0,0,0,0,0,0,0,0,0]
[null,"Могул","216",0,0,0,0,0,0,0,0,0,0,0,0,0,0,0,0,0,0,0,0,0,0,0,0,0,0,0,0,0,0,0]
[null,"Ски-кросс","217",0,0,0,0,0,0,0,0,0,0,0,0,0,0,0,0,0,0,0,0,0,0,0,0,0,0,0,0,0,0,0]
[null,"Хаф-пайп","218",0,0,0,0,0,0,0,0,0,0,0,0,0,0,0,0,0,0,0,0,0,0,0,0,0,0,0,0,0,0,0]
[null,"Слоуп-стайл","219",0,0,0,0,0,0,0,0,0,0,0,0,0,0,0,0,0,0,0,0,0,0,0,0,0,0,0,0,0,0,0]
[null,"Футбол - всего","220",2096,1,1,0,0,7,0,0,0,0,0,0,0,0,0,4,1,1,0,0,0,0,0,0,0,1,0,0,0,0,2]
[null,"в том числе:\nФутбол (муж.)","221",2096,1,1,0,0,7,0,0,0,0,0,0,0,0,0,4,1,1,0,0,0,0,0,0,0,1,0,0,0,0,2]
[null,"Футбол (жен.)","222",0,0,0,0,0,0,0,0,0,0,0,0,0,0,0,0,0,0,0,0,0,0,0,0,0,0,0,0,0,0,0]
[null,"Мини-футбол (футзал)","223",0,0,0,0,0,0,0,0,0,0,0,0,0,0,0,0,0,0,0,0,0,0,0,0,0,0,0,0,0,0,0]
[null,"Пляжный футбол","224",0,0,0,0,0,0,0,0,0,0,0,0,0,0,0,0,0,0,0,0,0,0,0,0,0,0,0,0,0,0,0]
[null,"Хапсагай","225",0,0,0,0,0,0,0,0,0,0,0,0,0,0,0,0,0,0,0,0,0,0,0,0,0,0,0,0,0,0,0]
[null,"Хоккей - всего","226",0,0,0,0,0,0,0,0,0,0,0,0,0,0,0,0,0,0,0,0,0,0,0,0,0,0,0,0,0,0,0]
[null,"в том числе:\nХоккей (муж.)","227",0,0,0,0,0,0,0,0,0,0,0,0,0,0,0,0,0,0,0,0,0,0,0,0,0,0,0,0,0,0,0]
[null,"Хоккей (жен.)","228",0,0,0,0,0,0,0,0,0,0,0,0,0,0,0,0,0,0,0,0,0,0,0,0,0,0,0,0,0,0,0]
[null,"Хоккей на траве - всего","229",0,0,0,0,0,0,0,0,0,0,0,0,0,0,0,0,0,0,0,0,0,0,0,0,0,0,0,0,0,0,0]
[null,"в том числе:\nХоккей на траве (муж.)","230",0,0,0,0,0,0,0,0,0,0,0,0,0,0,0,0,0,0,0,0,0,0,0,0,0,0,0,0,0,0,0]
[null,"Хоккей на траве (жен.)","231",0,0,0,0,0,0,0,0,0,0,0,0,0,0,0,0,0,0,0,0,0,0,0,0,0,0,0,0,0,0,0]
[null,"Индорхоккей","232",0,0,0,0,0,0,0,0,0,0,0,0,0,0,0,0,0,0,0,0,0,0,0,0,0,0,0,0,0,0,0]
[null,"Хоккей с мячом","233",0,0,0,0,0,0,0,0,0,0,0,0,0,0,0,0,0,0,0,0,0,0,0,0,0,0,0,0,0,0,0]
[null,"Художественная гимнастика","234",92,0,0,0,0,0,0,0,0,0,0,0,0,0,0,0,0,0,0,0,0,0,0,0,0,0,0,0,0,0,0]
[null,"Хуреш","235",0,0,0,0,0,0,0,0,0,0,0,0,0,0,0,0,0,0,0,0,0,0,0,0,0,0,0,0,0,0,0]
[null,"Черлидинг","236",0,0,0,0,0,0,0,0,0,0,0,0,0,0,0,0,0,0,0,0,0,0,0,0,0,0,0,0,0,0,0]
[null,"Чир спорт","237",0,0,0,0,0,0,0,0,0,0,0,0,0,0,0,0,0,0,0,0,0,0,0,0,0,0,0,0,0,0,0]
[null,"Шахматы","238",501,0,0,0,1,9,0,0,0,0,0,0,0,0,0,0,0,0,0,0,1,0,0,0,1,1,0,0,0,0,7]
[null,"Шашки","239",0,0,0,0,0,0,0,0,0,0,0,0,0,0,0,0,0,0,0,0,0,0,0,0,0,0,0,0,0,0,0]
[null,"Эстетическая гимнастика","240",0,0,0,0,0,0,0,0,0,0,0,0,0,0,0,0,0,0,0,0,0,0,0,0,0,0,0,0,0,0,0]
[null,"Якутские национальные прыжки","241",0,0,0,0,0,0,0,0,0,0,0,0,0,0,0,0,0,0,0,0,0,0,0,0,0,0,0,0,0,0,0]
[null,"ИТОГО","242",13047,116,98,141,107,1136,7,4,2,1,98,4,7,11,2,136,6,4,23,18,223,9,5,5,5,22,90,78,100,81,657]
[null,"ИТОГО по олимпийским видам спорта","243",10389,75,63,115,88,974,4,3,2,1,96,4,6,11,2,129,4,3,23,14,181,3,2,3,2,19,60,49,76,69,549]
[null,"  в том числе: \n  по летним видам спорта","244",10389,75,63,115,88,974,4,3,2,1,96,4,6,11,2,129,4,3,23,14,181,3,2,3,2,19,60,49,76,69,549]
[null,"  по зимним видам спорта","245",0,0,0,0,0,0,0,0,0,0,0,0,0,0,0,0,0,0,0,0,0,0,0,0,0,0,0,0,0,0,0]
[null,"ИТОГО по неолимпийским видам спорта","246",2658,41,35,26,19,162,3,1,0,0,2,0,1,0,0,7,2,1,0,4,42,6,3,2,3,3,30,29,24,12,108]
[null,"ИТОГО по национальным видам спорта","247",0,0,0,0,0,0,0,0,0,0,0,0,0,0,0,0,0,0,0,0,0,0,0,0,0,0,0,0,0,0,0]
[null,"ИТОГО по прикладным видам спорта","248",0,0,0,0,0,0,0,0,0,0,0,0,0,0,0,0,0,0,0,0,0,0,0,0,0,0,0,0,0,0,0]
[null,"        По виду организации: \nДЮСШ - отделения, не соответствующие Перечню \"Олимпийский\"","249",8778,53,38,41,35,223,1,1,0,0,4,0,0,0,0,5,2,0,3,2,58,5,3,2,3,4,45,34,36,30,152]
[null,"     из них по \n     ведомственной\n     принадлежности: \nорганы управления в сфере образования","250",5931,12,5,12,13,59,0,0,0,0,0,0,0,0,0,0,1,0,1,1,4,0,0,0,1,0,11,5,11,11,55]
[null,"органы управления в сфере физической культуры и \nспорта","251",2847,41,33,29,22,164,1,1,0,0,4,0,0,0,0,5,1,0,2,1,54,5,3,2,2,4,34,29,25,19,97]
[null,"другая ведомственная принадлежность","252",0,0,0,0,0,0,0,0,0,0,0,0,0,0,0,0,0,0,0,0,0,0,0,0,0,0,0,0,0,0,0]
[null,"СШ - отделения, не соответствующие Перечню \"Олимпийский\"","253",619,17,15,11,12,93,2,1,0,0,1,0,0,0,0,12,1,2,0,1,9,1,0,0,0,1,13,12,11,11,70]
[null,"     из них по \n     ведомственной\n     принадлежности: \nорганы управления в сфере образования","254",0,0,0,0,0,0,0,0,0,0,0,0,0,0,0,0,0,0,0,0,0,0,0,0,0,0,0,0,0,0,0]
[null,"органы управления в сфере физической культуры и \nспорта","255",619,17,15,11,12,93,2,1,0,0,1,0,0,0,0,12,1,2,0,1,9,1,0,0,0,1,13,12,11,11,70]
[null,"другая ведомственная принадлежность","256",0,0,0,0,0,0,0,0,0,0,0,0,0,0,0,0,0,0,0,0,0,0,0,0,0,0,0,0,0,0,0]
[null,"СДЮСШОР - отделения, соответствующие Перечню \"Олимпийский\"","257",515,0,4,16,0,48,0,0,0,0,0,0,0,0,0,12,0,1,16,0,27,0,0,0,0,0,0,3,0,0,9]
[null,"     из них по \n     ведомственной\n     принадлежности:\nорганы управления в сфере образования","258",0,0,0,0,0,0,0,0,0,0,0,0,0,0,0,0,0,0,0,0,0,0,0,0,0,0,0,0,0,0,0]
[null,"органы управления в сфере физической культуры и спорта","259",515,0,4,16,0,48,0,0,0,0,0,0,0,0,0,12,0,1,16,0,27,0,0,0,0,0,0,3,0,0,9]
[null,"другая ведомственная принадлежность","260",0,0,0,0,0,0,0,0,0,0,0,0,0,0,0,0,0,0,0,0,0,0,0,0,0,0,0,0,0,0,0]
[null,"СШОР - отделения, соответствующие Перечню \"Олимпийский\"","261",2159,30,18,42,40,505,3,1,0,0,51,2,3,8,0,68,2,1,1,13,86,2,1,3,1,12,21,12,30,26,288]
[null,"     из них по \n     ведомственной\n     принадлежности:\nорганы управления в сфере образования","262",0,0,0,0,0,0,0,0,0,0,0,0,0,0,0,0,0,0,0,0,0,0,0,0,0,0,0,0,0,0,0]
[null,"органы управления в сфере физической культуры и спорта","263",2159,30,18,42,40,505,3,1,0,0,51,2,3,8,0,68,2,1,1,13,86,2,1,3,1,12,21,12,30,26,288]
[null,"другая ведомственная принадлежность","264",0,0,0,0,0,0,0,0,0,0,0,0,0,0,0,0,0,0,0,0,0,0,0,0,0,0,0,0,0,0,0]
[null,"УОР","265",0,0,0,0,0,0,0,0,0,0,0,0,0,0,0,0,0,0,0,0,0,0,0,0,0,0,0,0,0,0,0]
[null,"     из них по\n     ведомственной\n     принадлежности:\nорганы управления в сфере образования","266",0,0,0,0,0,0,0,0,0,0,0,0,0,0,0,0,0,0,0,0,0,0,0,0,0,0,0,0,0,0,0]
[null,"органы управления в сфере физической культуры и спорта","267",0,0,0,0,0,0,0,0,0,0,0,0,0,0,0,0,0,0,0,0,0,0,0,0,0,0,0,0,0,0,0]
[null,"другая ведомственная принадлежность","268",0,0,0,0,0,0,0,0,0,0,0,0,0,0,0,0,0,0,0,0,0,0,0,0,0,0,0,0,0,0,0]
[null,"ЦСП","269",976,16,23,31,20,267,1,1,2,1,42,2,4,3,2,39,1,0,3,2,43,1,1,0,1,5,11,17,23,14,138]
[null,"     из них по\n     ведомственной\n     принадлежности:\nорганы управления в сфере образования","270",0,0,0,0,0,0,0,0,0,0,0,0,0,0,0,0,0,0,0,0,0,0,0,0,0,0,0,0,0,0,0]
[null,"органы управления в сфере физической культуры и спорта","271",976,16,23,31,20,267,1,1,2,1,42,2,4,3,2,39,1,0,3,2,43,1,1,0,1,5,11,17,23,14,138]
[null,"другая ведомственная принадлежность","272",0,0,0,0,0,0,0,0,0,0,0,0,0,0,0,0,0,0,0,0,0,0,0,0,0,0,0,0,0,0,0]
[null,"ЦОП","273",0,0,0,0,0,0,0,0,0,0,0,0,0,0,0,0,0,0,0,0,0,0,0,0,0,0,0,0,0,0,0]
[null,"     из них по\n     ведомственной\n     принадлежности:\nорганы управления в сфере образования","274",0,0,0,0,0,0,0,0,0,0,0,0,0,0,0,0,0,0,0,0,0,0,0,0,0,0,0,0,0,0,0]
[null,"органы управления в сфере физической культуры и спорта","275",0,0,0,0,0,0,0,0,0,0,0,0,0,0,0,0,0,0,0,0,0,0,0,0,0,0,0,0,0,0,0]
[null,"другая ведомственная принадлежность","276",0,0,0,0,0,0,0,0,0,0,0,0,0,0,0,0,0,0,0,0,0,0,0,0,0,0,0,0,0,0,0]
[null,"Другие организации","277",0,0,0,0,0,0,0,0,0,0,0,0,0,0,0,0,0,0,0,0,0,0,0,0,0,0,0,0,0,0,0]
[null,"     из них по\n     ведомственной\n     принадлежности:\nорганы управления в сфере образования","278",0,0,0,0,0,0,0,0,0,0,0,0,0,0,0,0,0,0,0,0,0,0,0,0,0,0,0,0,0,0,0]
[null,"органы управления в сфере физической культуры и спорта","279",0,0,0,0,0,0,0,0,0,0,0,0,0,0,0,0,0,0,0,0,0,0,0,0,0,0,0,0,0,0,0]
[null,"другая ведомственная принадлежность","280",0,0,0,0,0,0,0,0,0,0,0,0,0,0,0,0,0,0,0,0,0,0,0,0,0,0,0,0,0,0,0]

{"sheet":"Раздел7","index":7,"n_rows":287,"n_cols":62,"rows_kept":287,"cut":false,"hidden":false,"merged":[[0,59,118,59],[2,61,5,61],[3,4,4,8],[3,9,4,13],[3,19,4,23],[3,24,4,28],[3,29,4,33],[3,34,4,38],[3,39,4,43],[3,44,4,48],[3,49,4,53],[3,54,4,58],[1,51,1,58],[2,34,2,58],[0,0,118,0],[2,1,5,1],[2,2,5,2],[0,1,0,33],[2,3,5,3],[2,4,2,33],[1,24,1,33],[3,14,4,18]]}
[null,"Раздел VII. Международные спортивные соревнования"]
[null,null,null,null,null,null,null,null,null,null,null,null,null,null,null,null,null,null,null,null,null,null,null,null,"Коды по ОКЕИ: человек - 792, единица - 642"]
[null,"Виды спорта","№ строки","Всего зани-маю-щихся","Результаты выступлений на соревнованиях",null,null,null,null,null,null,null,null,null,null,null,null,null,null,null,null,null,null,null,null,null,null,null,null,null,null,null,null,null,"Результаты выступлений на соревнованиях",null,null,null,null,null,null,null,null,null,null,null,null,null,null,null,null,null,null,null,null,null,null,null,null,null,null,"Раздел2 графа3\nЧисло отделений"]
[null,null,null,null,"Всего",null,null,null,null,"Олимпийские игры",null,null,null,null,"Чемпионат мира",null,null,null,null,"Юношеские Олимпийские игры",null,null,null,null,"Первенство мира",null,null,null,null,"Кубок мира",null,null,null,null,"Этапы Кубка мира",null,null,null,null,"Чемпионат Европы",null,null,null,null,"Первенство Европы",null,null,null,null,"Кубок Европы",null,null,null,null,"Прочие официальные между-народные соревнования"]
[]
[null,null,null,null,1,2,3,"4-6","учас-тие",1,2,3,"4-6","учас-тие",1,2,3,"4-6","учас-тие",1,2,3,"4-6","учас-тие",1,2,3,"4-6","учас-тие",1,2,3,"4-6","учас-тие",1,2,3,"4-6","учас-тие",1,2,3,"4-6","учас-тие",1,2,3,"4-6","учас-тие",1,2,3,"4-6","учас-тие",1,2,3,"4-6","учас-тие"]
[null,1,2,3,4,5,6,7,8,9,10,11,12,13,14,15,16,17,18,19,20,21,22,23,24,25,26,27,28,29,30,31,32,33,34,35,36,37,38,39,40,41,42,43,44,45,46,47,48,49,50,51,52,53,54,55,56,57,58]
[null,"Авиамодельный спорт","01",0,0,0,0,0,0,0,0,0,0,0,0,0,0,0,0,0,0,0,0,0,0,0,0,0,0,0,0,0,0,0,0,0,0,0,0,0,0,0,0,0,0,0,0,0,0,0,0,0,0,0,0,0,0,0,0,null,null,{"$f":"Раздел2!#REF!","v":{"$error":"#REF!"}}]
[null,"Автомобильный спорт","02",0,0,0,0,0,0,0,0,0,0,0,0,0,0,0,0,0,0,0,0,0,0,0,0,0,0,0,0,0,0,0,0,0,0,0,0,0,0,0,0,0,0,0,0,0,0,0,0,0,0,0,0,0,0,0,0,null,null,{"$f":"Раздел2!#REF!","v":{"$error":"#REF!"}}]
[null,"Автомодельный спорт","03",0,0,0,0,0,0,0,0,0,0,0,0,0,0,0,0,0,0,0,0,0,0,0,0,0,0,0,0,0,0,0,0,0,0,0,0,0,0,0,0,0,0,0,0,0,0,0,0,0,0,0,0,0,0,0,0,null,null,{"$f":"Раздел2!#REF!","v":{"$error":"#REF!"}}]
[null,"Айкидо","04",0,0,0,0,0,0,0,0,0,0,0,0,0,0,0,0,0,0,0,0,0,0,0,0,0,0,0,0,0,0,0,0,0,0,0,0,0,0,0,0,0,0,0,0,0,0,0,0,0,0,0,0,0,0,0,0,null,null,{"$f":"Раздел2!#REF!","v":{"$error":"#REF!"}}]
[null,"Айсшток","05",0,0,0,0,0,0,0,0,0,0,0,0,0,0,0,0,0,0,0,0,0,0,0,0,0,0,0,0,0,0,0,0,0,0,0,0,0,0,0,0,0,0,0,0,0,0,0,0,0,0,0,0,0,0,0,0,null,null,{"$f":"Раздел2!#REF!","v":{"$error":"#REF!"}}]
[null,"Акробатический рок-н-ролл","06",0,0,0,0,0,0,0,0,0,0,0,0,0,0,0,0,0,0,0,0,0,0,0,0,0,0,0,0,0,0,0,0,0,0,0,0,0,0,0,0,0,0,0,0,0,0,0,0,0,0,0,0,0,0,0,0,null,null,{"$f":"Раздел2!#REF!","v":{"$error":"#REF!"}}]
[null,"Альпинизм","07",0,0,0,0,0,0,0,0,0,0,0,0,0,0,0,0,0,0,0,0,0,0,0,0,0,0,0,0,0,0,0,0,0,0,0,0,0,0,0,0,0,0,0,0,0,0,0,0,0,0,0,0,0,0,0,0,null,null,{"$f":"Раздел2!#REF!","v":{"$error":"#REF!"}}]
[null,"Американский футбол","08",0,0,0,0,0,0,0,0,0,0,0,0,0,0,0,0,0,0,0,0,0,0,0,0,0,0,0,0,0,0,0,0,0,0,0,0,0,0,0,0,0,0,0,0,0,0,0,0,0,0,0,0,0,0,0,0,null,null,{"$f":"Раздел2!#REF!","v":{"$error":"#REF!"}}]
[null,"Армейский рукопашный бой","09",0,0,0,0,0,0,0,0,0,0,0,0,0,0,0,0,0,0,0,0,0,0,0,0,0,0,0,0,0,0,0,0,0,0,0,0,0,0,0,0,0,0,0,0,0,0,0,0,0,0,0,0,0,0,0,0,null,null,{"$f":"Раздел2!#REF!","v":{"$error":"#REF!"}}]
[null,"Армрестлинг","10",0,0,0,0,0,0,0,0,0,0,0,0,0,0,0,0,0,0,0,0,0,0,0,0,0,0,0,0,0,0,0,0,0,0,0,0,0,0,0,0,0,0,0,0,0,0,0,0,0,0,0,0,0,0,0,0,null,null,{"$f":"Раздел2!#REF!","v":{"$error":"#REF!"}}]
[null,"Бадминтон","11",0,0,0,0,0,0,0,0,0,0,0,0,0,0,0,0,0,0,0,0,0,0,0,0,0,0,0,0,0,0,0,0,0,0,0,0,0,0,0,0,0,0,0,0,0,0,0,0,0,0,0,0,0,0,0,0,null,null,{"$f":"Раздел2!#REF!","v":{"$error":"#REF!"}}]
[null,"Баскетбол - всего","12",666,0,0,0,0,0,0,0,0,0,0,0,0,0,0,0,0,0,0,0,0,0,0,0,0,0,0,0,0,0,0,0,0,0,0,0,0,0,0,0,0,0,0,0,0,0,0,0,0,0,0,0,0,0,0,0,null,null,{"$f":"Раздел2!#REF!","v":{"$error":"#REF!"}}]
[null,"в том числе:\nБаскетбол (муж.)","13",408,0,0,0,0,0,0,0,0,0,0,0,0,0,0,0,0,0,0,0,0,0,0,0,0,0,0,0,0,0,0,0,0,0,0,0,0,0,0,0,0,0,0,0,0,0,0,0,0,0,0,0,0,0,0,0,null,null,{"$f":"Раздел2!#REF!","v":{"$error":"#REF!"}}]
[null,"Баскетбол (жен.)","14",258,0,0,0,0,0,0,0,0,0,0,0,0,0,0,0,0,0,0,0,0,0,0,0,0,0,0,0,0,0,0,0,0,0,0,0,0,0,0,0,0,0,0,0,0,0,0,0,0,0,0,0,0,0,0,0,null,null,{"$f":"Раздел2!#REF!","v":{"$error":"#REF!"}}]
[null,"Бейсбол","15",0,0,0,0,0,0,0,0,0,0,0,0,0,0,0,0,0,0,0,0,0,0,0,0,0,0,0,0,0,0,0,0,0,0,0,0,0,0,0,0,0,0,0,0,0,0,0,0,0,0,0,0,0,0,0,0,null,null,{"$f":"Раздел2!#REF!","v":{"$error":"#REF!"}}]
[null,"Биатлон","16",0,0,0,0,0,0,0,0,0,0,0,0,0,0,0,0,0,0,0,0,0,0,0,0,0,0,0,0,0,0,0,0,0,0,0,0,0,0,0,0,0,0,0,0,0,0,0,0,0,0,0,0,0,0,0,0,null,null,{"$f":"Раздел2!#REF!","v":{"$error":"#REF!"}}]
[null,"Бильярдный спорт","17",0,0,0,0,0,0,0,0,0,0,0,0,0,0,0,0,0,0,0,0,0,0,0,0,0,0,0,0,0,0,0,0,0,0,0,0,0,0,0,0,0,0,0,0,0,0,0,0,0,0,0,0,0,0,0,0,null,null,{"$f":"Раздел2!#REF!","v":{"$error":"#REF!"}}]
[null,"Бобслей - всего","18",0,0,0,0,0,0,0,0,0,0,0,0,0,0,0,0,0,0,0,0,0,0,0,0,0,0,0,0,0,0,0,0,0,0,0,0,0,0,0,0,0,0,0,0,0,0,0,0,0,0,0,0,0,0,0,0,null,null,{"$f":"Раздел2!#REF!","v":{"$error":"#REF!"}}]
[null,"в том числе:\nБобслей","19",0,0,0,0,0,0,0,0,0,0,0,0,0,0,0,0,0,0,0,0,0,0,0,0,0,0,0,0,0,0,0,0,0,0,0,0,0,0,0,0,0,0,0,0,0,0,0,0,0,0,0,0,0,0,0,0,null,null,{"$f":"Раздел2!#REF!","v":{"$error":"#REF!"}}]
[null,"Скелетон","20",0,0,0,0,0,0,0,0,0,0,0,0,0,0,0,0,0,0,0,0,0,0,0,0,0,0,0,0,0,0,0,0,0,0,0,0,0,0,0,0,0,0,0,0,0,0,0,0,0,0,0,0,0,0,0,0,null,null,{"$f":"Раздел2!#REF!","v":{"$error":"#REF!"}}]
[null,"Бодибилдинг","21",0,0,0,0,0,0,0,0,0,0,0,0,0,0,0,0,0,0,0,0,0,0,0,0,0,0,0,0,0,0,0,0,0,0,0,0,0,0,0,0,0,0,0,0,0,0,0,0,0,0,0,0,0,0,0,0,null,null,{"$f":"Раздел2!#REF!","v":{"$error":"#REF!"}}]
[null,"Бокс","22",243,0,0,0,0,0,0,0,0,0,0,0,0,0,0,0,0,0,0,0,0,0,0,0,0,0,0,0,0,0,0,0,0,0,0,0,0,0,0,0,0,0,0,0,0,0,0,0,0,0,0,0,0,0,0,0,null,null,{"$f":"Раздел2!#REF!","v":{"$error":"#REF!"}}]
[null,"Борьба на поясах","23",0,0,0,0,0,0,0,0,0,0,0,0,0,0,0,0,0,0,0,0,0,0,0,0,0,0,0,0,0,0,0,0,0,0,0,0,0,0,0,0,0,0,0,0,0,0,0,0,0,0,0,0,0,0,0,0,null,null,{"$f":"Раздел2!#REF!","v":{"$error":"#REF!"}}]
[null,"Боулинг","24",0,0,0,0,0,0,0,0,0,0,0,0,0,0,0,0,0,0,0,0,0,0,0,0,0,0,0,0,0,0,0,0,0,0,0,0,0,0,0,0,0,0,0,0,0,0,0,0,0,0,0,0,0,0,0,0,null,null,{"$f":"Раздел2!#REF!","v":{"$error":"#REF!"}}]
[null,"Велоспорт ВМХ","25",0,0,0,0,0,0,0,0,0,0,0,0,0,0,0,0,0,0,0,0,0,0,0,0,0,0,0,0,0,0,0,0,0,0,0,0,0,0,0,0,0,0,0,0,0,0,0,0,0,0,0,0,0,0,0,0,null,null,{"$f":"Раздел2!#REF!","v":{"$error":"#REF!"}}]
[null,"Велоспорт – маунтинбайк","26",0,0,0,0,0,0,0,0,0,0,0,0,0,0,0,0,0,0,0,0,0,0,0,0,0,0,0,0,0,0,0,0,0,0,0,0,0,0,0,0,0,0,0,0,0,0,0,0,0,0,0,0,0,0,0,0,null,null,{"$f":"Раздел2!#REF!","v":{"$error":"#REF!"}}]
[null,"Велоспорт – трек","27",0,0,0,0,0,0,0,0,0,0,0,0,0,0,0,0,0,0,0,0,0,0,0,0,0,0,0,0,0,0,0,0,0,0,0,0,0,0,0,0,0,0,0,0,0,0,0,0,0,0,0,0,0,0,0,0,null,null,{"$f":"Раздел2!#REF!","v":{"$error":"#REF!"}}]
[null,"Велоспорт – шоссе","28",428,2,3,0,0,18,0,0,0,0,0,0,0,0,0,2,0,0,0,0,0,0,0,0,0,0,0,0,0,0,0,1,0,0,0,1,0,0,0,0,2,0,0,0,0,1,0,0,0,0,0,1,3,0,0,12,null,null,{"$f":"Раздел2!#REF!","v":{"$error":"#REF!"}}]
[null,"Вертолетный спорт","29",0,0,0,0,0,0,0,0,0,0,0,0,0,0,0,0,0,0,0,0,0,0,0,0,0,0,0,0,0,0,0,0,0,0,0,0,0,0,0,0,0,0,0,0,0,0,0,0,0,0,0,0,0,0,0,0,null,null,{"$f":"Раздел2!#REF!","v":{"$error":"#REF!"}}]
[null,"Водно-моторный спорт","30",0,0,0,0,0,0,0,0,0,0,0,0,0,0,0,0,0,0,0,0,0,0,0,0,0,0,0,0,0,0,0,0,0,0,0,0,0,0,0,0,0,0,0,0,0,0,0,0,0,0,0,0,0,0,0,0,null,null,{"$f":"Раздел2!#REF!","v":{"$error":"#REF!"}}]
[null,"Водное поло - всего ","31",0,0,0,0,0,0,0,0,0,0,0,0,0,0,0,0,0,0,0,0,0,0,0,0,0,0,0,0,0,0,0,0,0,0,0,0,0,0,0,0,0,0,0,0,0,0,0,0,0,0,0,0,0,0,0,0,null,null,{"$f":"Раздел2!#REF!","v":{"$error":"#REF!"}}]
[null,"в том числе:\nВодное поло (муж.)","32",0,0,0,0,0,0,0,0,0,0,0,0,0,0,0,0,0,0,0,0,0,0,0,0,0,0,0,0,0,0,0,0,0,0,0,0,0,0,0,0,0,0,0,0,0,0,0,0,0,0,0,0,0,0,0,0,null,null,{"$f":"Раздел2!#REF!","v":{"$error":"#REF!"}}]
[null,"Водное поло (жен.)","33",0,0,0,0,0,0,0,0,0,0,0,0,0,0,0,0,0,0,0,0,0,0,0,0,0,0,0,0,0,0,0,0,0,0,0,0,0,0,0,0,0,0,0,0,0,0,0,0,0,0,0,0,0,0,0,0,null,null,{"$f":"Раздел2!#REF!","v":{"$error":"#REF!"}}]
[null,"Воднолыжный спорт","34",0,0,0,0,0,0,0,0,0,0,0,0,0,0,0,0,0,0,0,0,0,0,0,0,0,0,0,0,0,0,0,0,0,0,0,0,0,0,0,0,0,0,0,0,0,0,0,0,0,0,0,0,0,0,0,0,null,null,{"$f":"Раздел2!#REF!","v":{"$error":"#REF!"}}]
[null,"Военно-прикладной спорт","35",0,0,0,0,0,0,0,0,0,0,0,0,0,0,0,0,0,0,0,0,0,0,0,0,0,0,0,0,0,0,0,0,0,0,0,0,0,0,0,0,0,0,0,0,0,0,0,0,0,0,0,0,0,0,0,0,null,null,{"$f":"Раздел2!#REF!","v":{"$error":"#REF!"}}]
[null,"Военно-спортивное многоборье","36",0,0,0,0,0,0,0,0,0,0,0,0,0,0,0,0,0,0,0,0,0,0,0,0,0,0,0,0,0,0,0,0,0,0,0,0,0,0,0,0,0,0,0,0,0,0,0,0,0,0,0,0,0,0,0,0,null,null,{"$f":"Раздел2!#REF!","v":{"$error":"#REF!"}}]
[null,"Воздухоплавательный спорт","37",0,0,0,0,0,0,0,0,0,0,0,0,0,0,0,0,0,0,0,0,0,0,0,0,0,0,0,0,0,0,0,0,0,0,0,0,0,0,0,0,0,0,0,0,0,0,0,0,0,0,0,0,0,0,0,0,null,null,{"$f":"Раздел2!#REF!","v":{"$error":"#REF!"}}]
[null,"Волейбол - всего","38",1747,0,0,0,0,0,0,0,0,0,0,0,0,0,0,0,0,0,0,0,0,0,0,0,0,0,0,0,0,0,0,0,0,0,0,0,0,0,0,0,0,0,0,0,0,0,0,0,0,0,0,0,0,0,0,0,null,null,{"$f":"Раздел2!#REF!","v":{"$error":"#REF!"}}]
[null,"в том числе:\nВолейбол (муж.)","39",724,0,0,0,0,0,0,0,0,0,0,0,0,0,0,0,0,0,0,0,0,0,0,0,0,0,0,0,0,0,0,0,0,0,0,0,0,0,0,0,0,0,0,0,0,0,0,0,0,0,0,0,0,0,0,0,null,null,{"$f":"Раздел2!#REF!","v":{"$error":"#REF!"}}]
[null,"Волейбол (жен.)","40",948,0,0,0,0,0,0,0,0,0,0,0,0,0,0,0,0,0,0,0,0,0,0,0,0,0,0,0,0,0,0,0,0,0,0,0,0,0,0,0,0,0,0,0,0,0,0,0,0,0,0,0,0,0,0,0,null,null,{"$f":"Раздел2!#REF!","v":{"$error":"#REF!"}}]
[null,"Пляжный волейбол (муж.)","41",40,0,0,0,0,0,0,0,0,0,0,0,0,0,0,0,0,0,0,0,0,0,0,0,0,0,0,0,0,0,0,0,0,0,0,0,0,0,0,0,0,0,0,0,0,0,0,0,0,0,0,0,0,0,0,0,null,null,{"$f":"Раздел2!#REF!","v":{"$error":"#REF!"}}]
[null,"Пляжный волейбол (жен.)","42",35,0,0,0,0,0,0,0,0,0,0,0,0,0,0,0,0,0,0,0,0,0,0,0,0,0,0,0,0,0,0,0,0,0,0,0,0,0,0,0,0,0,0,0,0,0,0,0,0,0,0,0,0,0,0,0,null,null,{"$f":"Раздел2!#REF!","v":{"$error":"#REF!"}}]
[null,"Восточное боевое единоборство","43",0,0,0,0,0,0,0,0,0,0,0,0,0,0,0,0,0,0,0,0,0,0,0,0,0,0,0,0,0,0,0,0,0,0,0,0,0,0,0,0,0,0,0,0,0,0,0,0,0,0,0,0,0,0,0,0,null,null,{"$f":"Раздел2!#REF!","v":{"$error":"#REF!"}}]
[null,"Всестилевое карате","44",0,0,0,0,0,0,0,0,0,0,0,0,0,0,0,0,0,0,0,0,0,0,0,0,0,0,0,0,0,0,0,0,0,0,0,0,0,0,0,0,0,0,0,0,0,0,0,0,0,0,0,0,0,0,0,0,null,null,{"$f":"Раздел2!#REF!","v":{"$error":"#REF!"}}]
[null,"Гандбол - всего","45",476,2,5,0,0,0,0,0,0,0,0,0,0,0,0,0,0,0,0,0,0,2,5,0,0,0,0,0,0,0,0,0,0,0,0,0,0,0,0,0,0,0,0,0,0,0,0,0,0,0,0,0,0,0,0,0,null,null,{"$f":"Раздел2!#REF!","v":{"$error":"#REF!"}}]
[null,"в том числе:\nГандбол (муж.)","46",41,0,0,0,0,0,0,0,0,0,0,0,0,0,0,0,0,0,0,0,0,0,0,0,0,0,0,0,0,0,0,0,0,0,0,0,0,0,0,0,0,0,0,0,0,0,0,0,0,0,0,0,0,0,0,0,null,null,{"$f":"Раздел2!#REF!","v":{"$error":"#REF!"}}]
[null,"Гандбол (жен.)","47",435,2,5,0,0,0,0,0,0,0,0,0,0,0,0,0,0,0,0,0,0,2,5,0,0,0,0,0,0,0,0,0,0,0,0,0,0,0,0,0,0,0,0,0,0,0,0,0,0,0,0,0,0,0,0,0,null,null,{"$f":"Раздел2!#REF!","v":{"$error":"#REF!"}}]
[null,"Пляжный гандбол","48",0,0,0,0,0,0,0,0,0,0,0,0,0,0,0,0,0,0,0,0,0,0,0,0,0,0,0,0,0,0,0,0,0,0,0,0,0,0,0,0,0,0,0,0,0,0,0,0,0,0,0,0,0,0,0,0,null,null,{"$f":"Раздел2!#REF!","v":{"$error":"#REF!"}}]
[null,"Гиревой спорт","49",0,0,0,0,0,0,0,0,0,0,0,0,0,0,0,0,0,0,0,0,0,0,0,0,0,0,0,0,0,0,0,0,0,0,0,0,0,0,0,0,0,0,0,0,0,0,0,0,0,0,0,0,0,0,0,0,null,null,{"$f":"Раздел2!#REF!","v":{"$error":"#REF!"}}]
[null,"Го","50",0,0,0,0,0,0,0,0,0,0,0,0,0,0,0,0,0,0,0,0,0,0,0,0,0,0,0,0,0,0,0,0,0,0,0,0,0,0,0,0,0,0,0,0,0,0,0,0,0,0,0,0,0,0,0,0,null,null,{"$f":"Раздел2!#REF!","v":{"$error":"#REF!"}}]
[null,"Гольф","51",0,0,0,0,0,0,0,0,0,0,0,0,0,0,0,0,0,0,0,0,0,0,0,0,0,0,0,0,0,0,0,0,0,0,0,0,0,0,0,0,0,0,0,0,0,0,0,0,0,0,0,0,0,0,0,0,null,null,{"$f":"Раздел2!#REF!","v":{"$error":"#REF!"}}]
[null,"Горнолыжный спорт","52",0,0,0,0,0,0,0,0,0,0,0,0,0,0,0,0,0,0,0,0,0,0,0,0,0,0,0,0,0,0,0,0,0,0,0,0,0,0,0,0,0,0,0,0,0,0,0,0,0,0,0,0,0,0,0,0,null,null,{"$f":"Раздел2!#REF!","v":{"$error":"#REF!"}}]
[null,"Городошный спорт","53",0,0,0,0,0,0,0,0,0,0,0,0,0,0,0,0,0,0,0,0,0,0,0,0,0,0,0,0,0,0,0,0,0,0,0,0,0,0,0,0,0,0,0,0,0,0,0,0,0,0,0,0,0,0,0,0,null,null,{"$f":"Раздел2!#REF!","v":{"$error":"#REF!"}}]
[null,"Гребля на байдарках и каноэ","54",0,0,0,0,0,0,0,0,0,0,0,0,0,0,0,0,0,0,0,0,0,0,0,0,0,0,0,0,0,0,0,0,0,0,0,0,0,0,0,0,0,0,0,0,0,0,0,0,0,0,0,0,0,0,0,0,null,null,{"$f":"Раздел2!#REF!","v":{"$error":"#REF!"}}]
[null,"Гребля на шлюпках","55",0,0,0,0,0,0,0,0,0,0,0,0,0,0,0,0,0,0,0,0,0,0,0,0,0,0,0,0,0,0,0,0,0,0,0,0,0,0,0,0,0,0,0,0,0,0,0,0,0,0,0,0,0,0,0,0,null,null,{"$f":"Раздел2!#REF!","v":{"$error":"#REF!"}}]
[null,"Гребной слалом","56",0,0,0,0,0,0,0,0,0,0,0,0,0,0,0,0,0,0,0,0,0,0,0,0,0,0,0,0,0,0,0,0,0,0,0,0,0,0,0,0,0,0,0,0,0,0,0,0,0,0,0,0,0,0,0,0,null,null,{"$f":"Раздел2!#REF!","v":{"$error":"#REF!"}}]
[null,"Гребной спорт - всего","57",0,0,0,0,0,0,0,0,0,0,0,0,0,0,0,0,0,0,0,0,0,0,0,0,0,0,0,0,0,0,0,0,0,0,0,0,0,0,0,0,0,0,0,0,0,0,0,0,0,0,0,0,0,0,0,0,null,null,{"$f":"Раздел2!#REF!","v":{"$error":"#REF!"}}]
[null,"в том числе:\nАкадемическая гребля","58",0,0,0,0,0,0,0,0,0,0,0,0,0,0,0,0,0,0,0,0,0,0,0,0,0,0,0,0,0,0,0,0,0,0,0,0,0,0,0,0,0,0,0,0,0,0,0,0,0,0,0,0,0,0,0,0,null,null,{"$f":"Раздел2!#REF!","v":{"$error":"#REF!"}}]
[null,"Гребля-индор","59",0,0,0,0,0,0,0,0,0,0,0,0,0,0,0,0,0,0,0,0,0,0,0,0,0,0,0,0,0,0,0,0,0,0,0,0,0,0,0,0,0,0,0,0,0,0,0,0,0,0,0,0,0,0,0,0,null,null,{"$f":"Раздел2!#REF!","v":{"$error":"#REF!"}}]
[null,"Народная гребля","60",0,0,0,0,0,0,0,0,0,0,0,0,0,0,0,0,0,0,0,0,0,0,0,0,0,0,0,0,0,0,0,0,0,0,0,0,0,0,0,0,0,0,0,0,0,0,0,0,0,0,0,0,0,0,0,0,null,null,{"$f":"Раздел2!#REF!","v":{"$error":"#REF!"}}]
[null,"Прибрежная гребля","61",0,0,0,0,0,0,0,0,0,0,0,0,0,0,0,0,0,0,0,0,0,0,0,0,0,0,0,0,0,0,0,0,0,0,0,0,0,0,0,0,0,0,0,0,0,0,0,0,0,0,0,0,0,0,0,0,null,null,{"$f":"Раздел2!#REF!","v":{"$error":"#REF!"}}]
[null,"Гребно-парусное двоеборье","62",0,0,0,0,0,0,0,0,0,0,0,0,0,0,0,0,0,0,0,0,0,0,0,0,0,0,0,0,0,0,0,0,0,0,0,0,0,0,0,0,0,0,0,0,0,0,0,0,0,0,0,0,0,0,0,0,null,null,{"$f":"Раздел2!#REF!","v":{"$error":"#REF!"}}]
[null,"Дартс","63",0,0,0,0,0,0,0,0,0,0,0,0,0,0,0,0,0,0,0,0,0,0,0,0,0,0,0,0,0,0,0,0,0,0,0,0,0,0,0,0,0,0,0,0,0,0,0,0,0,0,0,0,0,0,0,0,null,null,{"$f":"Раздел2!#REF!","v":{"$error":"#REF!"}}]
[null,"Джиу-джитсу","64",0,0,0,0,0,0,0,0,0,0,0,0,0,0,0,0,0,0,0,0,0,0,0,0,0,0,0,0,0,0,0,0,0,0,0,0,0,0,0,0,0,0,0,0,0,0,0,0,0,0,0,0,0,0,0,0,null,null,{"$f":"Раздел2!#REF!","v":{"$error":"#REF!"}}]
[null,"Дзюдо","65",1342,4,9,7,5,24,0,0,0,0,0,0,0,0,0,0,0,0,0,0,0,0,0,0,0,0,0,0,0,0,0,0,0,0,0,0,0,2,0,0,1,0,1,1,0,1,0,2,5,2,10,4,4,1,3,12,null,null,{"$f":"Раздел2!#REF!","v":{"$error":"#REF!"}}]
[null,"Ездовой спорт","66",0,0,0,0,0,0,0,0,0,0,0,0,0,0,0,0,0,0,0,0,0,0,0,0,0,0,0,0,0,0,0,0,0,0,0,0,0,0,0,0,0,0,0,0,0,0,0,0,0,0,0,0,0,0,0,0,null,null,{"$f":"Раздел2!#REF!","v":{"$error":"#REF!"}}]
[null,"Капоэйра","67",0,0,0,0,0,0,0,0,0,0,0,0,0,0,0,0,0,0,0,0,0,0,0,0,0,0,0,0,0,0,0,0,0,0,0,0,0,0,0,0,0,0,0,0,0,0,0,0,0,0,0,0,0,0,0,0,null,null,{"$f":"Раздел2!#REF!","v":{"$error":"#REF!"}}]
[null,"Каратэ","68",99,1,0,2,0,0,0,0,0,0,0,0,0,0,0,0,0,0,0,0,0,0,0,0,0,0,0,0,0,0,0,0,0,0,0,0,0,0,1,0,0,1,0,1,0,0,0,0,0,0,0,0,0,0,0,0,null,null,{"$f":"Раздел2!#REF!","v":{"$error":"#REF!"}}]
[null,"Кендо","69",0,0,0,0,0,0,0,0,0,0,0,0,0,0,0,0,0,0,0,0,0,0,0,0,0,0,0,0,0,0,0,0,0,0,0,0,0,0,0,0,0,0,0,0,0,0,0,0,0,0,0,0,0,0,0,0,null,null,{"$f":"Раздел2!#REF!","v":{"$error":"#REF!"}}]
[null,"Керешу","70",0,0,0,0,0,0,0,0,0,0,0,0,0,0,0,0,0,0,0,0,0,0,0,0,0,0,0,0,0,0,0,0,0,0,0,0,0,0,0,0,0,0,0,0,0,0,0,0,0,0,0,0,0,0,0,0,null,null,{"$f":"Раздел2!#REF!","v":{"$error":"#REF!"}}]
[null,"Керлинг - всего","71",0,0,0,0,0,0,0,0,0,0,0,0,0,0,0,0,0,0,0,0,0,0,0,0,0,0,0,0,0,0,0,0,0,0,0,0,0,0,0,0,0,0,0,0,0,0,0,0,0,0,0,0,0,0,0,0,null,null,{"$f":"Раздел2!#REF!","v":{"$error":"#REF!"}}]
[null,"в том числе:\nКерлинг (муж.)","72",0,0,0,0,0,0,0,0,0,0,0,0,0,0,0,0,0,0,0,0,0,0,0,0,0,0,0,0,0,0,0,0,0,0,0,0,0,0,0,0,0,0,0,0,0,0,0,0,0,0,0,0,0,0,0,0,null,null,{"$f":"Раздел2!#REF!","v":{"$error":"#REF!"}}]
[null,"Керлинг (жен.)","73",0,0,0,0,0,0,0,0,0,0,0,0,0,0,0,0,0,0,0,0,0,0,0,0,0,0,0,0,0,0,0,0,0,0,0,0,0,0,0,0,0,0,0,0,0,0,0,0,0,0,0,0,0,0,0,0,null,null,{"$f":"Раздел2!#REF!","v":{"$error":"#REF!"}}]
[null,"Кикбоксинг","74",118,5,3,6,0,7,0,0,0,0,0,0,0,0,0,0,0,0,0,0,0,0,0,0,0,0,4,2,6,0,7,0,0,0,0,0,1,1,0,0,0,0,0,0,0,0,0,0,0,0,0,0,0,0,0,0,null,null,{"$f":"Раздел2!#REF!","v":{"$error":"#REF!"}}]
[null,"Кинологический спорт","75",0,0,0,0,0,0,0,0,0,0,0,0,0,0,0,0,0,0,0,0,0,0,0,0,0,0,0,0,0,0,0,0,0,0,0,0,0,0,0,0,0,0,0,0,0,0,0,0,0,0,0,0,0,0,0,0,null,null,{"$f":"Раздел2!#REF!","v":{"$error":"#REF!"}}]
[null,"Киокусинкай","76",0,0,0,0,0,0,0,0,0,0,0,0,0,0,0,0,0,0,0,0,0,0,0,0,0,0,0,0,0,0,0,0,0,0,0,0,0,0,0,0,0,0,0,0,0,0,0,0,0,0,0,0,0,0,0,0,null,null,{"$f":"Раздел2!#REF!","v":{"$error":"#REF!"}}]
[null,"Комплексное единоборство","77",0,0,0,0,0,0,0,0,0,0,0,0,0,0,0,0,0,0,0,0,0,0,0,0,0,0,0,0,0,0,0,0,0,0,0,0,0,0,0,0,0,0,0,0,0,0,0,0,0,0,0,0,0,0,0,0,null,null,{"$f":"Раздел2!#REF!","v":{"$error":"#REF!"}}]
[null,"Компьютерный спорт","78",0,0,0,0,0,0,0,0,0,0,0,0,0,0,0,0,0,0,0,0,0,0,0,0,0,0,0,0,0,0,0,0,0,0,0,0,0,0,0,0,0,0,0,0,0,0,0,0,0,0,0,0,0,0,0,0,null,null,{"$f":"Раздел2!#REF!","v":{"$error":"#REF!"}}]
[null,"Конный спорт","79",124,0,0,0,0,0,0,0,0,0,0,0,0,0,0,0,0,0,0,0,0,0,0,0,0,0,0,0,0,0,0,0,0,0,0,0,0,0,0,0,0,0,0,0,0,0,0,0,0,0,0,0,0,0,0,0,null,null,{"$f":"Раздел2!#REF!","v":{"$error":"#REF!"}}]
[null,"Конькобежный спорт - всего","80",0,0,0,0,0,0,0,0,0,0,0,0,0,0,0,0,0,0,0,0,0,0,0,0,0,0,0,0,0,0,0,0,0,0,0,0,0,0,0,0,0,0,0,0,0,0,0,0,0,0,0,0,0,0,0,0,null,null,{"$f":"Раздел2!#REF!","v":{"$error":"#REF!"}}]
[null,"в том числе:\nКонькобежный спорт","81",0,0,0,0,0,0,0,0,0,0,0,0,0,0,0,0,0,0,0,0,0,0,0,0,0,0,0,0,0,0,0,0,0,0,0,0,0,0,0,0,0,0,0,0,0,0,0,0,0,0,0,0,0,0,0,0,null,null,{"$f":"Раздел2!#REF!","v":{"$error":"#REF!"}}]
[null,"Шорт-трек","82",0,0,0,0,0,0,0,0,0,0,0,0,0,0,0,0,0,0,0,0,0,0,0,0,0,0,0,0,0,0,0,0,0,0,0,0,0,0,0,0,0,0,0,0,0,0,0,0,0,0,0,0,0,0,0,0,null,null,{"$f":"Раздел2!#REF!","v":{"$error":"#REF!"}}]
[null,"Корэш","83",0,0,0,0,0,0,0,0,0,0,0,0,0,0,0,0,0,0,0,0,0,0,0,0,0,0,0,0,0,0,0,0,0,0,0,0,0,0,0,0,0,0,0,0,0,0,0,0,0,0,0,0,0,0,0,0,null,null,{"$f":"Раздел2!#REF!","v":{"$error":"#REF!"}}]
[null,"Корфбол","84",0,0,0,0,0,0,0,0,0,0,0,0,0,0,0,0,0,0,0,0,0,0,0,0,0,0,0,0,0,0,0,0,0,0,0,0,0,0,0,0,0,0,0,0,0,0,0,0,0,0,0,0,0,0,0,0,null,null,{"$f":"Раздел2!#REF!","v":{"$error":"#REF!"}}]
[null,"Лапта","85",0,0,0,0,0,0,0,0,0,0,0,0,0,0,0,0,0,0,0,0,0,0,0,0,0,0,0,0,0,0,0,0,0,0,0,0,0,0,0,0,0,0,0,0,0,0,0,0,0,0,0,0,0,0,0,0,null,null,{"$f":"Раздел2!#REF!","v":{"$error":"#REF!"}}]
[null,"Легкая атлетика - всего","86",549,0,0,0,0,0,0,0,0,0,0,0,0,0,0,0,0,0,0,0,0,0,0,0,0,0,0,0,0,0,0,0,0,0,0,0,0,0,0,0,0,0,0,0,0,0,0,0,0,0,0,0,0,0,0,0,null,null,{"$f":"Раздел2!#REF!","v":{"$error":"#REF!"}}]
[null,"в том числе:\nСпринтерский и барьерный бег","87",234,0,0,0,0,0,0,0,0,0,0,0,0,0,0,0,0,0,0,0,0,0,0,0,0,0,0,0,0,0,0,0,0,0,0,0,0,0,0,0,0,0,0,0,0,0,0,0,0,0,0,0,0,0,0,0,null,null,{"$f":"Раздел2!#REF!","v":{"$error":"#REF!"}}]
[null,"Бег на средние дистанции и бег с препятствиями","88",107,0,0,0,0,0,0,0,0,0,0,0,0,0,0,0,0,0,0,0,0,0,0,0,0,0,0,0,0,0,0,0,0,0,0,0,0,0,0,0,0,0,0,0,0,0,0,0,0,0,0,0,0,0,0,0,null,null,{"$f":"Раздел2!#REF!","v":{"$error":"#REF!"}}]
[null,"Бег на длинные и сверхдлинные дистанции","89",8,0,0,0,0,0,0,0,0,0,0,0,0,0,0,0,0,0,0,0,0,0,0,0,0,0,0,0,0,0,0,0,0,0,0,0,0,0,0,0,0,0,0,0,0,0,0,0,0,0,0,0,0,0,0,0,null,null,{"$f":"Раздел2!#REF!","v":{"$error":"#REF!"}}]
[null,"Многоборья","90",140,0,0,0,0,0,0,0,0,0,0,0,0,0,0,0,0,0,0,0,0,0,0,0,0,0,0,0,0,0,0,0,0,0,0,0,0,0,0,0,0,0,0,0,0,0,0,0,0,0,0,0,0,0,0,0,null,null,{"$f":"Раздел2!#REF!","v":{"$error":"#REF!"}}]
[null,"Прыжки","91",14,0,0,0,0,0,0,0,0,0,0,0,0,0,0,0,0,0,0,0,0,0,0,0,0,0,0,0,0,0,0,0,0,0,0,0,0,0,0,0,0,0,0,0,0,0,0,0,0,0,0,0,0,0,0,0,null,null,{"$f":"Раздел2!#REF!","v":{"$error":"#REF!"}}]
[null,"Метания","92",46,0,0,0,0,0,0,0,0,0,0,0,0,0,0,0,0,0,0,0,0,0,0,0,0,0,0,0,0,0,0,0,0,0,0,0,0,0,0,0,0,0,0,0,0,0,0,0,0,0,0,0,0,0,0,0,null,null,{"$f":"Раздел2!#REF!","v":{"$error":"#REF!"}}]
[null,"Спортивная ходьба","93",0,0,0,0,0,0,0,0,0,0,0,0,0,0,0,0,0,0,0,0,0,0,0,0,0,0,0,0,0,0,0,0,0,0,0,0,0,0,0,0,0,0,0,0,0,0,0,0,0,0,0,0,0,0,0,0,null,null,{"$f":"Раздел2!#REF!","v":{"$error":"#REF!"}}]
[null,"Лыжное двоеборье","94",0,0,0,0,0,0,0,0,0,0,0,0,0,0,0,0,0,0,0,0,0,0,0,0,0,0,0,0,0,0,0,0,0,0,0,0,0,0,0,0,0,0,0,0,0,0,0,0,0,0,0,0,0,0,0,0,null,null,{"$f":"Раздел2!#REF!","v":{"$error":"#REF!"}}]
[null,"Лыжные гонки","95",0,0,0,0,0,0,0,0,0,0,0,0,0,0,0,0,0,0,0,0,0,0,0,0,0,0,0,0,0,0,0,0,0,0,0,0,0,0,0,0,0,0,0,0,0,0,0,0,0,0,0,0,0,0,0,0,null,null,{"$f":"Раздел2!#REF!","v":{"$error":"#REF!"}}]
[null,"Мас-рестлинг","96",0,0,0,0,0,0,0,0,0,0,0,0,0,0,0,0,0,0,0,0,0,0,0,0,0,0,0,0,0,0,0,0,0,0,0,0,0,0,0,0,0,0,0,0,0,0,0,0,0,0,0,0,0,0,0,0,null,null,{"$f":"Раздел2!#REF!","v":{"$error":"#REF!"}}]
[null,"Международное военно-спортивное многоборье","97",0,0,0,0,0,0,0,0,0,0,0,0,0,0,0,0,0,0,0,0,0,0,0,0,0,0,0,0,0,0,0,0,0,0,0,0,0,0,0,0,0,0,0,0,0,0,0,0,0,0,0,0,0,0,0,0,null,null,{"$f":"Раздел2!#REF!","v":{"$error":"#REF!"}}]
[null,"Многоборье кинологов","98",0,0,0,0,0,0,0,0,0,0,0,0,0,0,0,0,0,0,0,0,0,0,0,0,0,0,0,0,0,0,0,0,0,0,0,0,0,0,0,0,0,0,0,0,0,0,0,0,0,0,0,0,0,0,0,0,null,null,{"$f":"Раздел2!#REF!","v":{"$error":"#REF!"}}]
[null,"Многоборье спасателей МЧС России","99",0,0,0,0,0,0,0,0,0,0,0,0,0,0,0,0,0,0,0,0,0,0,0,0,0,0,0,0,0,0,0,0,0,0,0,0,0,0,0,0,0,0,0,0,0,0,0,0,0,0,0,0,0,0,0,0,null,null,{"$f":"Раздел2!#REF!","v":{"$error":"#REF!"}}]
[null,"Морское многоборье","100",0,0,0,0,0,0,0,0,0,0,0,0,0,0,0,0,0,0,0,0,0,0,0,0,0,0,0,0,0,0,0,0,0,0,0,0,0,0,0,0,0,0,0,0,0,0,0,0,0,0,0,0,0,0,0,0,null,null,{"$f":"Раздел2!#REF!","v":{"$error":"#REF!"}}]
[null,"Мотоциклетный спорт","101",0,0,0,0,0,0,0,0,0,0,0,0,0,0,0,0,0,0,0,0,0,0,0,0,0,0,0,0,0,0,0,0,0,0,0,0,0,0,0,0,0,0,0,0,0,0,0,0,0,0,0,0,0,0,0,0,null,null,{"$f":"Раздел2!#REF!","v":{"$error":"#REF!"}}]
[null,"Настольный теннис","102",689,0,0,0,0,0,0,0,0,0,0,0,0,0,0,0,0,0,0,0,0,0,0,0,0,0,0,0,0,0,0,0,0,0,0,0,0,0,0,0,0,0,0,0,0,0,0,0,0,0,0,0,0,0,0,0,null,null,{"$f":"Раздел2!#REF!","v":{"$error":"#REF!"}}]
[null,"Парашютный спорт","103",0,0,0,0,0,0,0,0,0,0,0,0,0,0,0,0,0,0,0,0,0,0,0,0,0,0,0,0,0,0,0,0,0,0,0,0,0,0,0,0,0,0,0,0,0,0,0,0,0,0,0,0,0,0,0,0,null,null,{"$f":"Раздел2!#REF!","v":{"$error":"#REF!"}}]
[null,"Парусный спорт","104",0,0,0,0,0,0,0,0,0,0,0,0,0,0,0,0,0,0,0,0,0,0,0,0,0,0,0,0,0,0,0,0,0,0,0,0,0,0,0,0,0,0,0,0,0,0,0,0,0,0,0,0,0,0,0,0,null,null,{"$f":"Раздел2!#REF!","v":{"$error":"#REF!"}}]
[null,"Пауэрлифтинг","105",0,0,0,0,0,0,0,0,0,0,0,0,0,0,0,0,0,0,0,0,0,0,0,0,0,0,0,0,0,0,0,0,0,0,0,0,0,0,0,0,0,0,0,0,0,0,0,0,0,0,0,0,0,0,0,0,null,null,{"$f":"Раздел2!#REF!","v":{"$error":"#REF!"}}]
[null,"Перетягивание каната","106",0,0,0,0,0,0,0,0,0,0,0,0,0,0,0,0,0,0,0,0,0,0,0,0,0,0,0,0,0,0,0,0,0,0,0,0,0,0,0,0,0,0,0,0,0,0,0,0,0,0,0,0,0,0,0,0,null,null,{"$f":"Раздел2!#REF!","v":{"$error":"#REF!"}}]
[null,"Петанк","107",0,0,0,0,0,0,0,0,0,0,0,0,0,0,0,0,0,0,0,0,0,0,0,0,0,0,0,0,0,0,0,0,0,0,0,0,0,0,0,0,0,0,0,0,0,0,0,0,0,0,0,0,0,0,0,0,null,null,{"$f":"Раздел2!#REF!","v":{"$error":"#REF!"}}]
[null,"Плавание - всего","108",0,0,0,0,0,0,0,0,0,0,0,0,0,0,0,0,0,0,0,0,0,0,0,0,0,0,0,0,0,0,0,0,0,0,0,0,0,0,0,0,0,0,0,0,0,0,0,0,0,0,0,0,0,0,0,0,null,null,{"$f":"Раздел2!#REF!","v":{"$error":"#REF!"}}]
[null,"в том числе:\nПлавание ","109",0,0,0,0,0,0,0,0,0,0,0,0,0,0,0,0,0,0,0,0,0,0,0,0,0,0,0,0,0,0,0,0,0,0,0,0,0,0,0,0,0,0,0,0,0,0,0,0,0,0,0,0,0,0,0,0,null,null,{"$f":"Раздел2!#REF!","v":{"$error":"#REF!"}}]
[null,"Открытая вода","110",0,0,0,0,0,0,0,0,0,0,0,0,0,0,0,0,0,0,0,0,0,0,0,0,0,0,0,0,0,0,0,0,0,0,0,0,0,0,0,0,0,0,0,0,0,0,0,0,0,0,0,0,0,0,0,0,null,null,{"$f":"Раздел2!#REF!","v":{"$error":"#REF!"}}]
[null,"Планерный спорт","111",0,0,0,0,0,0,0,0,0,0,0,0,0,0,0,0,0,0,0,0,0,0,0,0,0,0,0,0,0,0,0,0,0,0,0,0,0,0,0,0,0,0,0,0,0,0,0,0,0,0,0,0,0,0,0,0,null,null,{"$f":"Раздел2!#REF!","v":{"$error":"#REF!"}}]
[null,"Подводный спорт","112",0,0,0,0,0,0,0,0,0,0,0,0,0,0,0,0,0,0,0,0,0,0,0,0,0,0,0,0,0,0,0,0,0,0,0,0,0,0,0,0,0,0,0,0,0,0,0,0,0,0,0,0,0,0,0,0]
[null,"Пожарно-прикладной спорт","113",0,0,0,0,0,0,0,0,0,0,0,0,0,0,0,0,0,0,0,0,0,0,0,0,0,0,0,0,0,0,0,0,0,0,0,0,0,0,0,0,0,0,0,0,0,0,0,0,0,0,0,0,0,0,0,0]
[null,"Полиатлон","114",0,0,0,0,0,0,0,0,0,0,0,0,0,0,0,0,0,0,0,0,0,0,0,0,0,0,0,0,0,0,0,0,0,0,0,0,0,0,0,0,0,0,0,0,0,0,0,0,0,0,0,0,0,0,0,0]
[null,"Практическая стрельба","115",0,0,0,0,0,0,0,0,0,0,0,0,0,0,0,0,0,0,0,0,0,0,0,0,0,0,0,0,0,0,0,0,0,0,0,0,0,0,0,0,0,0,0,0,0,0,0,0,0,0,0,0,0,0,0,0]
[null,"Прыжки в воду - всего","116",0,0,0,0,0,0,0,0,0,0,0,0,0,0,0,0,0,0,0,0,0,0,0,0,0,0,0,0,0,0,0,0,0,0,0,0,0,0,0,0,0,0,0,0,0,0,0,0,0,0,0,0,0,0,0,0]
[null,"в том числе:\nПрыжки в воду","117",0,0,0,0,0,0,0,0,0,0,0,0,0,0,0,0,0,0,0,0,0,0,0,0,0,0,0,0,0,0,0,0,0,0,0,0,0,0,0,0,0,0,0,0,0,0,0,0,0,0,0,0,0,0,0,0]
[null,"Прыжки в открытый водоем","118",0,0,0,0,0,0,0,0,0,0,0,0,0,0,0,0,0,0,0,0,0,0,0,0,0,0,0,0,0,0,0,0,0,0,0,0,0,0,0,0,0,0,0,0,0,0,0,0,0,0,0,0,0,0,0,0]
[null,"Прыжки на батуте - всего","119",94,0,0,0,0,0,0,0,0,0,0,0,0,0,0,0,0,0,0,0,0,0,0,0,0,0,0,0,0,0,0,0,0,0,0,0,0,0,0,0,0,0,0,0,0,0,0,0,0,0,0,0,0,0,0,0]
[null,"в том числе:\nАкробатическая дорожка","120",0,0,0,0,0,0,0,0,0,0,0,0,0,0,0,0,0,0,0,0,0,0,0,0,0,0,0,0,0,0,0,0,0,0,0,0,0,0,0,0,0,0,0,0,0,0,0,0,0,0,0,0,0,0,0,0]
[null,"Двойной минитрамп","121",0,0,0,0,0,0,0,0,0,0,0,0,0,0,0,0,0,0,0,0,0,0,0,0,0,0,0,0,0,0,0,0,0,0,0,0,0,0,0,0,0,0,0,0,0,0,0,0,0,0,0,0,0,0,0,0]
[null,"Индивидуальные прыжки","122",94,0,0,0,0,0,0,0,0,0,0,0,0,0,0,0,0,0,0,0,0,0,0,0,0,0,0,0,0,0,0,0,0,0,0,0,0,0,0,0,0,0,0,0,0,0,0,0,0,0,0,0,0,0,0,0]
[null,"Синхронные прыжки","123",0,0,0,0,0,0,0,0,0,0,0,0,0,0,0,0,0,0,0,0,0,0,0,0,0,0,0,0,0,0,0,0,0,0,0,0,0,0,0,0,0,0,0,0,0,0,0,0,0,0,0,0,0,0,0,0]
[null,"Прыжки на лыжах с трамплина","124",0,0,0,0,0,0,0,0,0,0,0,0,0,0,0,0,0,0,0,0,0,0,0,0,0,0,0,0,0,0,0,0,0,0,0,0,0,0,0,0,0,0,0,0,0,0,0,0,0,0,0,0,0,0,0,0]
[null,"Пулевая стрельба - всего","125",129,4,1,1,1,0,0,0,0,0,0,0,0,0,0,0,0,0,0,0,0,0,0,0,0,0,1,0,1,0,0,0,0,0,0,0,0,0,0,0,0,0,1,0,0,0,0,0,0,0,0,3,0,0,1,0]
[null,"в том числе:\nПневматическая винтовка","126",0,0,0,0,0,0,0,0,0,0,0,0,0,0,0,0,0,0,0,0,0,0,0,0,0,0,0,0,0,0,0,0,0,0,0,0,0,0,0,0,0,0,0,0,0,0,0,0,0,0,0,0,0,0,0,0]
[null,"Пневматический пистолет","127",106,0,0,1,1,0,0,0,0,0,0,0,0,0,0,0,0,0,0,0,0,0,0,0,0,0,0,0,1,0,0,0,0,0,0,0,0,0,0,0,0,0,0,0,0,0,0,0,0,0,0,0,0,0,1,0]
[null,"Малокалиберная винтовка","128",7,0,0,0,0,0,0,0,0,0,0,0,0,0,0,0,0,0,0,0,0,0,0,0,0,0,0,0,0,0,0,0,0,0,0,0,0,0,0,0,0,0,0,0,0,0,0,0,0,0,0,0,0,0,0,0]
[null,"Малокалиберный пистолет","129",16,4,1,0,0,0,0,0,0,0,0,0,0,0,0,0,0,0,0,0,0,0,0,0,0,0,1,0,0,0,0,0,0,0,0,0,0,0,0,0,0,0,1,0,0,0,0,0,0,0,0,3,0,0,0,0]
[null,"Движущаяся мишень","130",0,0,0,0,0,0,0,0,0,0,0,0,0,0,0,0,0,0,0,0,0,0,0,0,0,0,0,0,0,0,0,0,0,0,0,0,0,0,0,0,0,0,0,0,0,0,0,0,0,0,0,0,0,0,0,0]
[null,"Пэйнтбол","131",0,0,0,0,0,0,0,0,0,0,0,0,0,0,0,0,0,0,0,0,0,0,0,0,0,0,0,0,0,0,0,0,0,0,0,0,0,0,0,0,0,0,0,0,0,0,0,0,0,0,0,0,0,0,0,0]
[null,"Радиоспорт","132",0,0,0,0,0,0,0,0,0,0,0,0,0,0,0,0,0,0,0,0,0,0,0,0,0,0,0,0,0,0,0,0,0,0,0,0,0,0,0,0,0,0,0,0,0,0,0,0,0,0,0,0,0,0,0,0]
[null,"Рафтинг","133",0,0,0,0,0,0,0,0,0,0,0,0,0,0,0,0,0,0,0,0,0,0,0,0,0,0,0,0,0,0,0,0,0,0,0,0,0,0,0,0,0,0,0,0,0,0,0,0,0,0,0,0,0,0,0,0]
[null,"Регби - всего","134",0,0,0,0,0,0,0,0,0,0,0,0,0,0,0,0,0,0,0,0,0,0,0,0,0,0,0,0,0,0,0,0,0,0,0,0,0,0,0,0,0,0,0,0,0,0,0,0,0,0,0,0,0,0,0,0]
[null,"в том числе:\nРегби","135",0,0,0,0,0,0,0,0,0,0,0,0,0,0,0,0,0,0,0,0,0,0,0,0,0,0,0,0,0,0,0,0,0,0,0,0,0,0,0,0,0,0,0,0,0,0,0,0,0,0,0,0,0,0,0,0]
[null,"Регби 7 (муж.)","136",0,0,0,0,0,0,0,0,0,0,0,0,0,0,0,0,0,0,0,0,0,0,0,0,0,0,0,0,0,0,0,0,0,0,0,0,0,0,0,0,0,0,0,0,0,0,0,0,0,0,0,0,0,0,0,0]
[null,"Регби 7 (жен.)","137",0,0,0,0,0,0,0,0,0,0,0,0,0,0,0,0,0,0,0,0,0,0,0,0,0,0,0,0,0,0,0,0,0,0,0,0,0,0,0,0,0,0,0,0,0,0,0,0,0,0,0,0,0,0,0,0]
[null,"Регби - пляжное","138",0,0,0,0,0,0,0,0,0,0,0,0,0,0,0,0,0,0,0,0,0,0,0,0,0,0,0,0,0,0,0,0,0,0,0,0,0,0,0,0,0,0,0,0,0,0,0,0,0,0,0,0,0,0,0,0]
[null,"Регбол","139",0,0,0,0,0,0,0,0,0,0,0,0,0,0,0,0,0,0,0,0,0,0,0,0,0,0,0,0,0,0,0,0,0,0,0,0,0,0,0,0,0,0,0,0,0,0,0,0,0,0,0,0,0,0,0,0]
[null,"Роллер спорт","140",0,0,0,0,0,0,0,0,0,0,0,0,0,0,0,0,0,0,0,0,0,0,0,0,0,0,0,0,0,0,0,0,0,0,0,0,0,0,0,0,0,0,0,0,0,0,0,0,0,0,0,0,0,0,0,0]
[null,"Рукопашный бой","141",0,0,0,0,0,0,0,0,0,0,0,0,0,0,0,0,0,0,0,0,0,0,0,0,0,0,0,0,0,0,0,0,0,0,0,0,0,0,0,0,0,0,0,0,0,0,0,0,0,0,0,0,0,0,0,0]
[null,"Рыболовный спорт","142",0,0,0,0,0,0,0,0,0,0,0,0,0,0,0,0,0,0,0,0,0,0,0,0,0,0,0,0,0,0,0,0,0,0,0,0,0,0,0,0,0,0,0,0,0,0,0,0,0,0,0,0,0,0,0,0]
[null,"Сават","143",0,0,0,0,0,0,0,0,0,0,0,0,0,0,0,0,0,0,0,0,0,0,0,0,0,0,0,0,0,0,0,0,0,0,0,0,0,0,0,0,0,0,0,0,0,0,0,0,0,0,0,0,0,0,0,0]
[null,"Самбо","144",1473,0,5,0,0,0,0,0,0,0,0,0,0,0,0,0,0,0,0,0,0,0,2,0,0,0,0,0,0,0,0,0,0,0,0,0,0,0,0,0,0,0,0,0,0,0,0,0,0,0,0,0,3,0,0,0]
[null,"Самолетный спорт","145",0,0,0,0,0,0,0,0,0,0,0,0,0,0,0,0,0,0,0,0,0,0,0,0,0,0,0,0,0,0,0,0,0,0,0,0,0,0,0,0,0,0,0,0,0,0,0,0,0,0,0,0,0,0,0,0]
[null,"Санный спорт","146",0,0,0,0,0,0,0,0,0,0,0,0,0,0,0,0,0,0,0,0,0,0,0,0,0,0,0,0,0,0,0,0,0,0,0,0,0,0,0,0,0,0,0,0,0,0,0,0,0,0,0,0,0,0,0,0]
[null,"Северное многоборье","147",0,0,0,0,0,0,0,0,0,0,0,0,0,0,0,0,0,0,0,0,0,0,0,0,0,0,0,0,0,0,0,0,0,0,0,0,0,0,0,0,0,0,0,0,0,0,0,0,0,0,0,0,0,0,0,0]
[null,"Серфинг","148",0,0,0,0,0,0,0,0,0,0,0,0,0,0,0,0,0,0,0,0,0,0,0,0,0,0,0,0,0,0,0,0,0,0,0,0,0,0,0,0,0,0,0,0,0,0,0,0,0,0,0,0,0,0,0,0]
[null,"Синхронное плавание","149",0,0,0,0,0,0,0,0,0,0,0,0,0,0,0,0,0,0,0,0,0,0,0,0,0,0,0,0,0,0,0,0,0,0,0,0,0,0,0,0,0,0,0,0,0,0,0,0,0,0,0,0,0,0,0,0]
[null,"Скалолазание","150",44,0,0,0,0,0,0,0,0,0,0,0,0,0,0,0,0,0,0,0,0,0,0,0,0,0,0,0,0,0,0,0,0,0,0,0,0,0,0,0,0,0,0,0,0,0,0,0,0,0,0,0,0,0,0,0]
[null,"Скейтбординг","151",0,0,0,0,0,0,0,0,0,0,0,0,0,0,0,0,0,0,0,0,0,0,0,0,0,0,0,0,0,0,0,0,0,0,0,0,0,0,0,0,0,0,0,0,0,0,0,0,0,0,0,0,0,0,0,0]
[null,"Сквош","152",0,0,0,0,0,0,0,0,0,0,0,0,0,0,0,0,0,0,0,0,0,0,0,0,0,0,0,0,0,0,0,0,0,0,0,0,0,0,0,0,0,0,0,0,0,0,0,0,0,0,0,0,0,0,0,0]
[null,"Служебно-прикладной спорт ФСО России","153",0,0,0,0,0,0,0,0,0,0,0,0,0,0,0,0,0,0,0,0,0,0,0,0,0,0,0,0,0,0,0,0,0,0,0,0,0,0,0,0,0,0,0,0,0,0,0,0,0,0,0,0,0,0,0,0]
[null,"Служебно-прикладной спорт ГФС России","154",0,0,0,0,0,0,0,0,0,0,0,0,0,0,0,0,0,0,0,0,0,0,0,0,0,0,0,0,0,0,0,0,0,0,0,0,0,0,0,0,0,0,0,0,0,0,0,0,0,0,0,0,0,0,0,0]
[null,"Служебно-прикладной спорт ФСКН России","155",0,0,0,0,0,0,0,0,0,0,0,0,0,0,0,0,0,0,0,0,0,0,0,0,0,0,0,0,0,0,0,0,0,0,0,0,0,0,0,0,0,0,0,0,0,0,0,0,0,0,0,0,0,0,0,0]
[null,"Служебно-прикладной спорт ФТС России","156",0,0,0,0,0,0,0,0,0,0,0,0,0,0,0,0,0,0,0,0,0,0,0,0,0,0,0,0,0,0,0,0,0,0,0,0,0,0,0,0,0,0,0,0,0,0,0,0,0,0,0,0,0,0,0,0]
[null,"Служебное двоеборье","157",0,0,0,0,0,0,0,0,0,0,0,0,0,0,0,0,0,0,0,0,0,0,0,0,0,0,0,0,0,0,0,0,0,0,0,0,0,0,0,0,0,0,0,0,0,0,0,0,0,0,0,0,0,0,0,0]
[null,"Служебное единоборство","158",0,0,0,0,0,0,0,0,0,0,0,0,0,0,0,0,0,0,0,0,0,0,0,0,0,0,0,0,0,0,0,0,0,0,0,0,0,0,0,0,0,0,0,0,0,0,0,0,0,0,0,0,0,0,0,0]
[null,"Служебное многоборье","159",0,0,0,0,0,0,0,0,0,0,0,0,0,0,0,0,0,0,0,0,0,0,0,0,0,0,0,0,0,0,0,0,0,0,0,0,0,0,0,0,0,0,0,0,0,0,0,0,0,0,0,0,0,0,0,0]
[null,"Служебное собаководство","160",0,0,0,0,0,0,0,0,0,0,0,0,0,0,0,0,0,0,0,0,0,0,0,0,0,0,0,0,0,0,0,0,0,0,0,0,0,0,0,0,0,0,0,0,0,0,0,0,0,0,0,0,0,0,0,0]
[null,"Служебный биатлон","161",0,0,0,0,0,0,0,0,0,0,0,0,0,0,0,0,0,0,0,0,0,0,0,0,0,0,0,0,0,0,0,0,0,0,0,0,0,0,0,0,0,0,0,0,0,0,0,0,0,0,0,0,0,0,0,0]
[null,"Спасательный спорт","162",0,0,0,0,0,0,0,0,0,0,0,0,0,0,0,0,0,0,0,0,0,0,0,0,0,0,0,0,0,0,0,0,0,0,0,0,0,0,0,0,0,0,0,0,0,0,0,0,0,0,0,0,0,0,0,0]
[null,"Стрельба из боевого ручного стрелкового оружия","163",0,0,0,0,0,0,0,0,0,0,0,0,0,0,0,0,0,0,0,0,0,0,0,0,0,0,0,0,0,0,0,0,0,0,0,0,0,0,0,0,0,0,0,0,0,0,0,0,0,0,0,0,0,0,0,0]
[null,"Стрельба из штатного или табельного оружия","164",0,0,0,0,0,0,0,0,0,0,0,0,0,0,0,0,0,0,0,0,0,0,0,0,0,0,0,0,0,0,0,0,0,0,0,0,0,0,0,0,0,0,0,0,0,0,0,0,0,0,0,0,0,0,0,0]
[null,"Смешанное боевое единоборство (ММА)","165",0,0,0,0,0,0,0,0,0,0,0,0,0,0,0,0,0,0,0,0,0,0,0,0,0,0,0,0,0,0,0,0,0,0,0,0,0,0,0,0,0,0,0,0,0,0,0,0,0,0,0,0,0,0,0,0]
[null,"Сноуборд","166",0,0,0,0,0,0,0,0,0,0,0,0,0,0,0,0,0,0,0,0,0,0,0,0,0,0,0,0,0,0,0,0,0,0,0,0,0,0,0,0,0,0,0,0,0,0,0,0,0,0,0,0,0,0,0,0]
[null,"Современное пятиборье","167",0,0,0,0,0,0,0,0,0,0,0,0,0,0,0,0,0,0,0,0,0,0,0,0,0,0,0,0,0,0,0,0,0,0,0,0,0,0,0,0,0,0,0,0,0,0,0,0,0,0,0,0,0,0,0,0]
[null,"Софтбол","168",0,0,0,0,0,0,0,0,0,0,0,0,0,0,0,0,0,0,0,0,0,0,0,0,0,0,0,0,0,0,0,0,0,0,0,0,0,0,0,0,0,0,0,0,0,0,0,0,0,0,0,0,0,0,0,0]
[null,"Спорт сверхлегкой авиации","169",0,0,0,0,0,0,0,0,0,0,0,0,0,0,0,0,0,0,0,0,0,0,0,0,0,0,0,0,0,0,0,0,0,0,0,0,0,0,0,0,0,0,0,0,0,0,0,0,0,0,0,0,0,0,0,0]
[null,"Спортивная акробатика","170",132,0,0,0,0,0,0,0,0,0,0,0,0,0,0,0,0,0,0,0,0,0,0,0,0,0,0,0,0,0,0,0,0,0,0,0,0,0,0,0,0,0,0,0,0,0,0,0,0,0,0,0,0,0,0,0]
[null,"Спортивная аэробика","171",0,0,0,0,0,0,0,0,0,0,0,0,0,0,0,0,0,0,0,0,0,0,0,0,0,0,0,0,0,0,0,0,0,0,0,0,0,0,0,0,0,0,0,0,0,0,0,0,0,0,0,0,0,0,0,0]
[null,"Спортивная борьба - всего","172",417,0,0,1,0,0,0,0,0,0,0,0,0,1,0,0,0,0,0,0,0,0,0,0,0,0,0,0,0,0,0,0,0,0,0,0,0,0,0,0,0,0,0,0,0,0,0,0,0,0,0,0,0,0,0,0]
[null,"в том числе:\nВольная борьба","173",81,0,0,0,0,0,0,0,0,0,0,0,0,0,0,0,0,0,0,0,0,0,0,0,0,0,0,0,0,0,0,0,0,0,0,0,0,0,0,0,0,0,0,0,0,0,0,0,0,0,0,0,0,0,0,0]
[null,"Греко-римская борьба","174",336,0,0,1,0,0,0,0,0,0,0,0,0,1,0,0,0,0,0,0,0,0,0,0,0,0,0,0,0,0,0,0,0,0,0,0,0,0,0,0,0,0,0,0,0,0,0,0,0,0,0,0,0,0,0,0]
[null,"Грэпплинг","175",0,0,0,0,0,0,0,0,0,0,0,0,0,0,0,0,0,0,0,0,0,0,0,0,0,0,0,0,0,0,0,0,0,0,0,0,0,0,0,0,0,0,0,0,0,0,0,0,0,0,0,0,0,0,0,0]
[null,"Грэпплинг-ги","176",0,0,0,0,0,0,0,0,0,0,0,0,0,0,0,0,0,0,0,0,0,0,0,0,0,0,0,0,0,0,0,0,0,0,0,0,0,0,0,0,0,0,0,0,0,0,0,0,0,0,0,0,0,0,0,0]
[null,"Панкратион","177",0,0,0,0,0,0,0,0,0,0,0,0,0,0,0,0,0,0,0,0,0,0,0,0,0,0,0,0,0,0,0,0,0,0,0,0,0,0,0,0,0,0,0,0,0,0,0,0,0,0,0,0,0,0,0,0]
[null,"Спортивно-прикладное собаководство","178",0,0,0,0,0,0,0,0,0,0,0,0,0,0,0,0,0,0,0,0,0,0,0,0,0,0,0,0,0,0,0,0,0,0,0,0,0,0,0,0,0,0,0,0,0,0,0,0,0,0,0,0,0,0,0,0]
[null,"Спортивная гимнастика","179",302,0,0,0,0,0,0,0,0,0,0,0,0,0,0,0,0,0,0,0,0,0,0,0,0,0,0,0,0,0,0,0,0,0,0,0,0,0,0,0,0,0,0,0,0,0,0,0,0,0,0,0,0,0,0,0]
[null,"Спортивное ориентирование","180",234,0,0,0,0,0,0,0,0,0,0,0,0,0,0,0,0,0,0,0,0,0,0,0,0,0,0,0,0,0,0,0,0,0,0,0,0,0,0,0,0,0,0,0,0,0,0,0,0,0,0,0,0,0,0,0]
[null,"Спортивный бридж","181",0,0,0,0,0,0,0,0,0,0,0,0,0,0,0,0,0,0,0,0,0,0,0,0,0,0,0,0,0,0,0,0,0,0,0,0,0,0,0,0,0,0,0,0,0,0,0,0,0,0,0,0,0,0,0,0]
[null,"Спортивный туризм","182",50,0,0,0,0,0,0,0,0,0,0,0,0,0,0,0,0,0,0,0,0,0,0,0,0,0,0,0,0,0,0,0,0,0,0,0,0,0,0,0,0,0,0,0,0,0,0,0,0,0,0,0,0,0,0,0]
[null,"Стендовая стрельба - всего","183",0,0,0,0,0,0,0,0,0,0,0,0,0,0,0,0,0,0,0,0,0,0,0,0,0,0,0,0,0,0,0,0,0,0,0,0,0,0,0,0,0,0,0,0,0,0,0,0,0,0,0,0,0,0,0,0]
[null,"в том числе:\nТрап","184",0,0,0,0,0,0,0,0,0,0,0,0,0,0,0,0,0,0,0,0,0,0,0,0,0,0,0,0,0,0,0,0,0,0,0,0,0,0,0,0,0,0,0,0,0,0,0,0,0,0,0,0,0,0,0,0]
[null,"Скит","185",0,0,0,0,0,0,0,0,0,0,0,0,0,0,0,0,0,0,0,0,0,0,0,0,0,0,0,0,0,0,0,0,0,0,0,0,0,0,0,0,0,0,0,0,0,0,0,0,0,0,0,0,0,0,0,0]
[null,"Дубль-трап","186",0,0,0,0,0,0,0,0,0,0,0,0,0,0,0,0,0,0,0,0,0,0,0,0,0,0,0,0,0,0,0,0,0,0,0,0,0,0,0,0,0,0,0,0,0,0,0,0,0,0,0,0,0,0,0,0]
[null,"Спортинг","187",0,0,0,0,0,0,0,0,0,0,0,0,0,0,0,0,0,0,0,0,0,0,0,0,0,0,0,0,0,0,0,0,0,0,0,0,0,0,0,0,0,0,0,0,0,0,0,0,0,0,0,0,0,0,0,0]
[null,"Стрельба из арбалета","188",0,0,0,0,0,0,0,0,0,0,0,0,0,0,0,0,0,0,0,0,0,0,0,0,0,0,0,0,0,0,0,0,0,0,0,0,0,0,0,0,0,0,0,0,0,0,0,0,0,0,0,0,0,0,0,0]
[null,"Стрельба из лука - всего","189",0,0,0,0,0,0,0,0,0,0,0,0,0,0,0,0,0,0,0,0,0,0,0,0,0,0,0,0,0,0,0,0,0,0,0,0,0,0,0,0,0,0,0,0,0,0,0,0,0,0,0,0,0,0,0,0]
[null,"в том числе:\nКлассический лук","190",0,0,0,0,0,0,0,0,0,0,0,0,0,0,0,0,0,0,0,0,0,0,0,0,0,0,0,0,0,0,0,0,0,0,0,0,0,0,0,0,0,0,0,0,0,0,0,0,0,0,0,0,0,0,0,0]
[null,"   Блочный лук","191",0,0,0,0,0,0,0,0,0,0,0,0,0,0,0,0,0,0,0,0,0,0,0,0,0,0,0,0,0,0,0,0,0,0,0,0,0,0,0,0,0,0,0,0,0,0,0,0,0,0,0,0,0,0,0,0]
[null,"   Ачери ","192",0,0,0,0,0,0,0,0,0,0,0,0,0,0,0,0,0,0,0,0,0,0,0,0,0,0,0,0,0,0,0,0,0,0,0,0,0,0,0,0,0,0,0,0,0,0,0,0,0,0,0,0,0,0,0,0]
[null,"Судомодельный спорт","193",0,0,0,0,0,0,0,0,0,0,0,0,0,0,0,0,0,0,0,0,0,0,0,0,0,0,0,0,0,0,0,0,0,0,0,0,0,0,0,0,0,0,0,0,0,0,0,0,0,0,0,0,0,0,0,0]
[null,"Сумо","194",0,0,0,0,0,0,0,0,0,0,0,0,0,0,0,0,0,0,0,0,0,0,0,0,0,0,0,0,0,0,0,0,0,0,0,0,0,0,0,0,0,0,0,0,0,0,0,0,0,0,0,0,0,0,0,0]
[null,"Тайский бокс","195",0,0,0,0,0,0,0,0,0,0,0,0,0,0,0,0,0,0,0,0,0,0,0,0,0,0,0,0,0,0,0,0,0,0,0,0,0,0,0,0,0,0,0,0,0,0,0,0,0,0,0,0,0,0,0,0]
[null,"Танцевальный спорт","196",0,0,0,0,0,0,0,0,0,0,0,0,0,0,0,0,0,0,0,0,0,0,0,0,0,0,0,0,0,0,0,0,0,0,0,0,0,0,0,0,0,0,0,0,0,0,0,0,0,0,0,0,0,0,0,0]
[null,"Теннис","197",22,0,0,0,0,0,0,0,0,0,0,0,0,0,0,0,0,0,0,0,0,0,0,0,0,0,0,0,0,0,0,0,0,0,0,0,0,0,0,0,0,0,0,0,0,0,0,0,0,0,0,0,0,0,0,0]
[null,"Триатлон","198",0,0,0,0,0,0,0,0,0,0,0,0,0,0,0,0,0,0,0,0,0,0,0,0,0,0,0,0,0,0,0,0,0,0,0,0,0,0,0,0,0,0,0,0,0,0,0,0,0,0,0,0,0,0,0,0]
[null,"Тхэквондо - всего","199",250,0,1,5,0,2,0,0,0,0,0,0,0,0,0,0,0,0,0,0,0,0,0,0,0,0,0,0,0,0,0,0,0,0,0,0,0,0,0,0,0,0,0,2,0,0,0,0,0,0,0,0,1,3,0,2]
[null,"в том числе:\nТхэквондо (ГТФ, ИТФ, МФТ)","200",0,0,0,0,0,0,0,0,0,0,0,0,0,0,0,0,0,0,0,0,0,0,0,0,0,0,0,0,0,0,0,0,0,0,0,0,0,0,0,0,0,0,0,0,0,0,0,0,0,0,0,0,0,0,0,0]
[null,"Тхэквондо (ВТФ)","201",250,0,1,5,0,2,0,0,0,0,0,0,0,0,0,0,0,0,0,0,0,0,0,0,0,0,0,0,0,0,0,0,0,0,0,0,0,0,0,0,0,0,0,2,0,0,0,0,0,0,0,0,1,3,0,2]
[null,"Тяжелая атлетика","202",580,0,0,0,2,0,0,0,0,0,0,0,0,0,0,0,0,0,0,0,0,0,0,0,0,0,0,0,0,0,0,0,0,0,0,0,0,0,0,2,0,0,0,0,0,0,0,0,0,0,0,0,0,0,0,0]
[null,"Универсальный бой","203",0,0,0,0,0,0,0,0,0,0,0,0,0,0,0,0,0,0,0,0,0,0,0,0,0,0,0,0,0,0,0,0,0,0,0,0,0,0,0,0,0,0,0,0,0,0,0,0,0,0,0,0,0,0,0,0]
[null,"Ушу","204",91,0,1,1,0,0,0,0,0,0,0,0,0,0,0,0,0,0,0,0,0,0,0,0,0,0,0,0,1,0,0,0,0,0,0,0,0,1,0,0,0,0,0,0,0,0,0,0,0,0,0,0,0,0,0,0]
[null,"Фехтование - всего","205",0,0,0,0,0,0,0,0,0,0,0,0,0,0,0,0,0,0,0,0,0,0,0,0,0,0,0,0,0,0,0,0,0,0,0,0,0,0,0,0,0,0,0,0,0,0,0,0,0,0,0,0,0,0,0,0]
[null,"в том числе:\nРапира","206",0,0,0,0,0,0,0,0,0,0,0,0,0,0,0,0,0,0,0,0,0,0,0,0,0,0,0,0,0,0,0,0,0,0,0,0,0,0,0,0,0,0,0,0,0,0,0,0,0,0,0,0,0,0,0,0]
[null,"Сабля","207",0,0,0,0,0,0,0,0,0,0,0,0,0,0,0,0,0,0,0,0,0,0,0,0,0,0,0,0,0,0,0,0,0,0,0,0,0,0,0,0,0,0,0,0,0,0,0,0,0,0,0,0,0,0,0,0]
[null,"Шпага","208",0,0,0,0,0,0,0,0,0,0,0,0,0,0,0,0,0,0,0,0,0,0,0,0,0,0,0,0,0,0,0,0,0,0,0,0,0,0,0,0,0,0,0,0,0,0,0,0,0,0,0,0,0,0,0,0]
[null,"Арт-фехтование","209",0,0,0,0,0,0,0,0,0,0,0,0,0,0,0,0,0,0,0,0,0,0,0,0,0,0,0,0,0,0,0,0,0,0,0,0,0,0,0,0,0,0,0,0,0,0,0,0,0,0,0,0,0,0,0,0]
[null,"Фигурное катание на коньках","210",0,0,0,0,0,0,0,0,0,0,0,0,0,0,0,0,0,0,0,0,0,0,0,0,0,0,0,0,0,0,0,0,0,0,0,0,0,0,0,0,0,0,0,0,0,0,0,0,0,0,0,0,0,0,0,0]
[null,"Фитнес-аэробика","211",59,0,0,0,0,0,0,0,0,0,0,0,0,0,0,0,0,0,0,0,0,0,0,0,0,0,0,0,0,0,0,0,0,0,0,0,0,0,0,0,0,0,0,0,0,0,0,0,0,0,0,0,0,0,0,0]
[null,"Флаинг диск","212",0,0,0,0,0,0,0,0,0,0,0,0,0,0,0,0,0,0,0,0,0,0,0,0,0,0,0,0,0,0,0,0,0,0,0,0,0,0,0,0,0,0,0,0,0,0,0,0,0,0,0,0,0,0,0,0]
[null,"Флорбол","213",0,0,0,0,0,0,0,0,0,0,0,0,0,0,0,0,0,0,0,0,0,0,0,0,0,0,0,0,0,0,0,0,0,0,0,0,0,0,0,0,0,0,0,0,0,0,0,0,0,0,0,0,0,0,0,0]
[null,"Фристайл - всего","214",0,0,0,0,0,0,0,0,0,0,0,0,0,0,0,0,0,0,0,0,0,0,0,0,0,0,0,0,0,0,0,0,0,0,0,0,0,0,0,0,0,0,0,0,0,0,0,0,0,0,0,0,0,0,0,0]
[null,"в том числе:\nАкробатика","215",0,0,0,0,0,0,0,0,0,0,0,0,0,0,0,0,0,0,0,0,0,0,0,0,0,0,0,0,0,0,0,0,0,0,0,0,0,0,0,0,0,0,0,0,0,0,0,0,0,0,0,0,0,0,0,0]
[null,"Могул","216",0,0,0,0,0,0,0,0,0,0,0,0,0,0,0,0,0,0,0,0,0,0,0,0,0,0,0,0,0,0,0,0,0,0,0,0,0,0,0,0,0,0,0,0,0,0,0,0,0,0,0,0,0,0,0,0]
[null,"Ски-кросс","217",0,0,0,0,0,0,0,0,0,0,0,0,0,0,0,0,0,0,0,0,0,0,0,0,0,0,0,0,0,0,0,0,0,0,0,0,0,0,0,0,0,0,0,0,0,0,0,0,0,0,0,0,0,0,0,0]
[null,"Хаф-пайп","218",0,0,0,0,0,0,0,0,0,0,0,0,0,0,0,0,0,0,0,0,0,0,0,0,0,0,0,0,0,0,0,0,0,0,0,0,0,0,0,0,0,0,0,0,0,0,0,0,0,0,0,0,0,0,0,0]
[null,"Слоуп-стайл","219",0,0,0,0,0,0,0,0,0,0,0,0,0,0,0,0,0,0,0,0,0,0,0,0,0,0,0,0,0,0,0,0,0,0,0,0,0,0,0,0,0,0,0,0,0,0,0,0,0,0,0,0,0,0,0,0]
[null,"Футбол - всего","220",2096,0,0,0,0,0,0,0,0,0,0,0,0,0,0,0,0,0,0,0,0,0,0,0,0,0,0,0,0,0,0,0,0,0,0,0,0,0,0,0,0,0,0,0,0,0,0,0,0,0,0,0,0,0,0,0]
[null,"в том числе:\nФутбол (муж.)","221",2096,0,0,0,0,0,0,0,0,0,0,0,0,0,0,0,0,0,0,0,0,0,0,0,0,0,0,0,0,0,0,0,0,0,0,0,0,0,0,0,0,0,0,0,0,0,0,0,0,0,0,0,0,0,0,0]
[null,"Футбол (жен.)","222",0,0,0,0,0,0,0,0,0,0,0,0,0,0,0,0,0,0,0,0,0,0,0,0,0,0,0,0,0,0,0,0,0,0,0,0,0,0,0,0,0,0,0,0,0,0,0,0,0,0,0,0,0,0,0,0]
[null,"Мини-футбол (футзал)","223",0,0,0,0,0,0,0,0,0,0,0,0,0,0,0,0,0,0,0,0,0,0,0,0,0,0,0,0,0,0,0,0,0,0,0,0,0,0,0,0,0,0,0,0,0,0,0,0,0,0,0,0,0,0,0,0]
[null,"Пляжный футбол","224",0,0,0,0,0,0,0,0,0,0,0,0,0,0,0,0,0,0,0,0,0,0,0,0,0,0,0,0,0,0,0,0,0,0,0,0,0,0,0,0,0,0,0,0,0,0,0,0,0,0,0,0,0,0,0,0]
[null,"Хапсагай","225",0,0,0,0,0,0,0,0,0,0,0,0,0,0,0,0,0,0,0,0,0,0,0,0,0,0,0,0,0,0,0,0,0,0,0,0,0,0,0,0,0,0,0,0,0,0,0,0,0,0,0,0,0,0,0,0]
[null,"Хоккей - всего","226",0,0,0,0,0,0,0,0,0,0,0,0,0,0,0,0,0,0,0,0,0,0,0,0,0,0,0,0,0,0,0,0,0,0,0,0,0,0,0,0,0,0,0,0,0,0,0,0,0,0,0,0,0,0,0,0]
[null,"в том числе:\nХоккей (муж.)","227",0,0,0,0,0,0,0,0,0,0,0,0,0,0,0,0,0,0,0,0,0,0,0,0,0,0,0,0,0,0,0,0,0,0,0,0,0,0,0,0,0,0,0,0,0,0,0,0,0,0,0,0,0,0,0,0]
[null,"Хоккей (жен.)","228",0,0,0,0,0,0,0,0,0,0,0,0,0,0,0,0,0,0,0,0,0,0,0,0,0,0,0,0,0,0,0,0,0,0,0,0,0,0,0,0,0,0,0,0,0,0,0,0,0,0,0,0,0,0,0,0]
[null,"Хоккей на траве - всего","229",0,0,0,0,0,0,0,0,0,0,0,0,0,0,0,0,0,0,0,0,0,0,0,0,0,0,0,0,0,0,0,0,0,0,0,0,0,0,0,0,0,0,0,0,0,0,0,0,0,0,0,0,0,0,0,0]
[null,"в том числе:\nХоккей на траве (муж.)","230",0,0,0,0,0,0,0,0,0,0,0,0,0,0,0,0,0,0,0,0,0,0,0,0,0,0,0,0,0,0,0,0,0,0,0,0,0,0,0,0,0,0,0,0,0,0,0,0,0,0,0,0,0,0,0,0]
[null,"Хоккей на траве (жен.)","231",0,0,0,0,0,0,0,0,0,0,0,0,0,0,0,0,0,0,0,0,0,0,0,0,0,0,0,0,0,0,0,0,0,0,0,0,0,0,0,0,0,0,0,0,0,0,0,0,0,0,0,0,0,0,0,0]
[null,"Индорхоккей","232",0,0,0,0,0,0,0,0,0,0,0,0,0,0,0,0,0,0,0,0,0,0,0,0,0,0,0,0,0,0,0,0,0,0,0,0,0,0,0,0,0,0,0,0,0,0,0,0,0,0,0,0,0,0,0,0]
[null,"Хоккей с мячом","233",0,0,0,0,0,0,0,0,0,0,0,0,0,0,0,0,0,0,0,0,0,0,0,0,0,0,0,0,0,0,0,0,0,0,0,0,0,0,0,0,0,0,0,0,0,0,0,0,0,0,0,0,0,0,0,0]
[null,"Художественная гимнастика","234",92,0,0,0,0,0,0,0,0,0,0,0,0,0,0,0,0,0,0,0,0,0,0,0,0,0,0,0,0,0,0,0,0,0,0,0,0,0,0,0,0,0,0,0,0,0,0,0,0,0,0,0,0,0,0,0]
[null,"Хуреш","235",0,0,0,0,0,0,0,0,0,0,0,0,0,0,0,0,0,0,0,0,0,0,0,0,0,0,0,0,0,0,0,0,0,0,0,0,0,0,0,0,0,0,0,0,0,0,0,0,0,0,0,0,0,0,0,0]
[null,"Черлидинг","236",0,0,0,0,0,0,0,0,0,0,0,0,0,0,0,0,0,0,0,0,0,0,0,0,0,0,0,0,0,0,0,0,0,0,0,0,0,0,0,0,0,0,0,0,0,0,0,0,0,0,0,0,0,0,0,0]
[null,"Чир спорт","237",0,0,0,0,0,0,0,0,0,0,0,0,0,0,0,0,0,0,0,0,0,0,0,0,0,0,0,0,0,0,0,0,0,0,0,0,0,0,0,0,0,0,0,0,0,0,0,0,0,0,0,0,0,0,0,0]
[null,"Шахматы","238",501,0,0,0,0,1,0,0,0,0,0,0,0,0,0,0,0,0,0,0,0,0,0,0,0,1,0,0,0,0,0,0,0,0,0,0,0,0,0,0,0,0,0,0,0,0,0,0,0,0,0,0,0,0,0,0]
[null,"Шашки","239",0,0,0,0,0,0,0,0,0,0,0,0,0,0,0,0,0,0,0,0,0,0,0,0,0,0,0,0,0,0,0,0,0,0,0,0,0,0,0,0,0,0,0,0,0,0,0,0,0,0,0,0,0,0,0,0]
[null,"Эстетическая гимнастика","240",0,0,0,0,0,0,0,0,0,0,0,0,0,0,0,0,0,0,0,0,0,0,0,0,0,0,0,0,0,0,0,0,0,0,0,0,0,0,0,0,0,0,0,0,0,0,0,0,0,0,0,0,0,0,0,0]
[null,"Якутские национальные прыжки","241",0,0,0,0,0,0,0,0,0,0,0,0,0,0,0,0,0,0,0,0,0,0,0,0,0,0,0,0,0,0,0,0,0,0,0,0,0,0,0,0,0,0,0,0,0,0,0,0,0,0,0,0,0,0,0,0]
[null,"ИТОГО","242",13047,18,28,23,8,52,0,0,0,0,0,0,0,1,0,2,0,0,0,0,0,2,7,0,0,1,5,2,8,0,7,1,0,0,0,1,1,4,1,2,3,1,2,4,0,2,0,2,5,2,10,8,11,4,4,26]
[null,"ИТОГО по олимпийским видам спорта","243",10389,13,19,16,8,44,0,0,0,0,0,0,0,1,0,2,0,0,0,0,0,2,5,0,0,0,1,0,1,0,0,1,0,0,0,1,0,2,1,2,3,1,2,4,0,2,0,2,5,2,10,8,8,4,4,26]
[null,"  в том числе: \n  по летним видам спорта","244",10389,13,19,16,8,44,0,0,0,0,0,0,0,1,0,2,0,0,0,0,0,2,5,0,0,0,1,0,1,0,0,1,0,0,0,1,0,2,1,2,3,1,2,4,0,2,0,2,5,2,10,8,8,4,4,26]
[null,"  по зимним видам спорта","245",0,0,0,0,0,0,0,0,0,0,0,0,0,0,0,0,0,0,0,0,0,0,0,0,0,0,0,0,0,0,0,0,0,0,0,0,0,0,0,0,0,0,0,0,0,0,0,0,0,0,0,0,0,0,0,0]
[null,"ИТОГО по неолимпийским видам спорта","246",2658,5,9,7,0,8,0,0,0,0,0,0,0,0,0,0,0,0,0,0,0,0,2,0,0,1,4,2,7,0,7,0,0,0,0,0,1,2,0,0,0,0,0,0,0,0,0,0,0,0,0,0,3,0,0,0]
[null,"ИТОГО по национальным видам спорта","247",0,0,0,0,0,0,0,0,0,0,0,0,0,0,0,0,0,0,0,0,0,0,0,0,0,0,0,0,0,0,0,0,0,0,0,0,0,0,0,0,0,0,0,0,0,0,0,0,0,0,0,0,0,0,0,0]
[null,"ИТОГО по прикладным видам спорта","248",0,0,0,0,0,0,0,0,0,0,0,0,0,0,0,0,0,0,0,0,0,0,0,0,0,0,0,0,0,0,0,0,0,0,0,0,0,0,0,0,0,0,0,0,0,0,0,0,0,0,0,0,0,0,0,0]
[null,"        По виду организации: \nДЮСШ - отделения, не соответствующие Перечню \"Олимпийский\"","249",8778,7,5,7,4,8,0,0,0,0,0,0,0,1,0,0,0,0,0,0,0,0,1,0,0,1,3,2,4,0,5,0,0,0,0,0,1,0,0,1,0,0,0,0,0,0,0,0,2,0,0,3,2,0,3,2]
[null,"     из них по \n     ведомственной\n     принадлежности: \nорганы управления в сфере образования","250",5931,2,3,2,3,3,0,0,0,0,0,0,0,0,0,0,0,0,0,0,0,0,1,0,0,1,0,0,0,0,0,0,0,0,0,0,0,0,0,0,0,0,0,0,0,0,0,0,2,0,0,2,2,0,3,2]
[null,"органы управления в сфере физической культуры и \nспорта","251",2847,5,2,5,1,5,0,0,0,0,0,0,0,1,0,0,0,0,0,0,0,0,0,0,0,0,3,2,4,0,5,0,0,0,0,0,1,0,0,1,0,0,0,0,0,0,0,0,0,0,0,1,0,0,0,0]
[null,"другая ведомственная принадлежность","252",0,0,0,0,0,0,0,0,0,0,0,0,0,0,0,0,0,0,0,0,0,0,0,0,0,0,0,0,0,0,0,0,0,0,0,0,0,0,0,0,0,0,0,0,0,0,0,0,0,0,0,0,0,0,0,0]
[null,"СШ - отделения, не соответствующие Перечню \"Олимпийский\"","253",619,2,2,5,0,2,0,0,0,0,0,0,0,0,0,0,0,0,0,0,0,0,0,0,0,0,1,0,3,0,2,0,0,0,0,0,0,2,1,0,0,1,0,1,0,0,0,0,0,0,0,0,0,0,0,0]
[null,"     из них по \n     ведомственной\n     принадлежности: \nорганы управления в сфере образования","254",0,0,0,0,0,0,0,0,0,0,0,0,0,0,0,0,0,0,0,0,0,0,0,0,0,0,0,0,0,0,0,0,0,0,0,0,0,0,0,0,0,0,0,0,0,0,0,0,0,0,0,0,0,0,0,0]
[null,"органы управления в сфере физической культуры и \nспорта","255",619,2,2,5,0,2,0,0,0,0,0,0,0,0,0,0,0,0,0,0,0,0,0,0,0,0,1,0,3,0,2,0,0,0,0,0,0,2,1,0,0,1,0,1,0,0,0,0,0,0,0,0,0,0,0,0]
[null,"другая ведомственная принадлежность","256",0,0,0,0,0,0,0,0,0,0,0,0,0,0,0,0,0,0,0,0,0,0,0,0,0,0,0,0,0,0,0,0,0,0,0,0,0,0,0,0,0,0,0,0,0,0,0,0,0,0,0,0,0,0,0,0]
[null,"СДЮСШОР - отделения, соответствующие Перечню \"Олимпийский\"","257",515,2,2,0,0,0,0,0,0,0,0,0,0,0,0,0,0,0,0,0,0,2,2,0,0,0,0,0,0,0,0,0,0,0,0,0,0,0,0,0,0,0,0,0,0,0,0,0,0,0,0,0,0,0,0,0]
[null,"     из них по \n     ведомственной\n     принадлежности:\nорганы управления в сфере образования","258",0,0,0,0,0,0,0,0,0,0,0,0,0,0,0,0,0,0,0,0,0,0,0,0,0,0,0,0,0,0,0,0,0,0,0,0,0,0,0,0,0,0,0,0,0,0,0,0,0,0,0,0,0,0,0,0]
[null,"органы управления в сфере физической культуры и спорта","259",515,2,2,0,0,0,0,0,0,0,0,0,0,0,0,0,0,0,0,0,0,2,2,0,0,0,0,0,0,0,0,0,0,0,0,0,0,0,0,0,0,0,0,0,0,0,0,0,0,0,0,0,0,0,0,0]
[null,"другая ведомственная принадлежность","260",0,0,0,0,0,0,0,0,0,0,0,0,0,0,0,0,0,0,0,0,0,0,0,0,0,0,0,0,0,0,0,0,0,0,0,0,0,0,0,0,0,0,0,0,0,0,0,0,0,0,0,0,0,0,0,0]
[null,"СШОР - отделения, соответствующие Перечню \"Олимпийский\"","261",2159,3,9,6,3,40,0,0,0,0,0,0,0,0,0,2,0,0,0,0,0,0,0,0,0,0,0,0,0,0,0,1,0,0,0,1,0,2,0,1,3,0,0,2,0,2,0,1,2,2,10,2,6,2,0,22]
[null,"     из них по \n     ведомственной\n     принадлежности:\nорганы управления в сфере образования","262",0,0,0,0,0,0,0,0,0,0,0,0,0,0,0,0,0,0,0,0,0,0,0,0,0,0,0,0,0,0,0,0,0,0,0,0,0,0,0,0,0,0,0,0,0,0,0,0,0,0,0,0,0,0,0,0]
[null,"органы управления в сфере физической культуры и спорта","263",2159,3,9,6,3,40,0,0,0,0,0,0,0,0,0,2,0,0,0,0,0,0,0,0,0,0,0,0,0,0,0,1,0,0,0,1,0,2,0,1,3,0,0,2,0,2,0,1,2,2,10,2,6,2,0,22]
[null,"другая ведомственная принадлежность","264",0,0,0,0,0,0,0,0,0,0,0,0,0,0,0,0,0,0,0,0,0,0,0,0,0,0,0,0,0,0,0,0,0,0,0,0,0,0,0,0,0,0,0,0,0,0,0,0,0,0,0,0,0,0,0,0]
[null,"УОР","265",0,0,0,0,0,0,0,0,0,0,0,0,0,0,0,0,0,0,0,0,0,0,0,0,0,0,0,0,0,0,0,0,0,0,0,0,0,0,0,0,0,0,0,0,0,0,0,0,0,0,0,0,0,0,0,0]
[null,"     из них по\n     ведомственной\n     принадлежности:\nорганы управления в сфере образования","266",0,0,0,0,0,0,0,0,0,0,0,0,0,0,0,0,0,0,0,0,0,0,0,0,0,0,0,0,0,0,0,0,0,0,0,0,0,0,0,0,0,0,0,0,0,0,0,0,0,0,0,0,0,0,0,0]
[null,"органы управления в сфере физической культуры и спорта","267",0,0,0,0,0,0,0,0,0,0,0,0,0,0,0,0,0,0,0,0,0,0,0,0,0,0,0,0,0,0,0,0,0,0,0,0,0,0,0,0,0,0,0,0,0,0,0,0,0,0,0,0,0,0,0,0]
[null,"другая ведомственная принадлежность","268",0,0,0,0,0,0,0,0,0,0,0,0,0,0,0,0,0,0,0,0,0,0,0,0,0,0,0,0,0,0,0,0,0,0,0,0,0,0,0,0,0,0,0,0,0,0,0,0,0,0,0,0,0,0,0,0]
[null,"ЦСП","269",976,4,10,5,1,2,0,0,0,0,0,0,0,0,0,0,0,0,0,0,0,0,4,0,0,0,1,0,1,0,0,0,0,0,0,0,0,0,0,0,0,0,2,1,0,0,0,1,1,0,0,3,3,2,1,2]
[null,"     из них по\n     ведомственной\n     принадлежности:\nорганы управления в сфере образования","270",0,0,0,0,0,0,0,0,0,0,0,0,0,0,0,0,0,0,0,0,0,0,0,0,0,0,0,0,0,0,0,0,0,0,0,0,0,0,0,0,0,0,0,0,0,0,0,0,0,0,0,0,0,0,0,0]
[null,"органы управления в сфере физической культуры и спорта","271",976,4,10,5,1,2,0,0,0,0,0,0,0,0,0,0,0,0,0,0,0,0,4,0,0,0,1,0,1,0,0,0,0,0,0,0,0,0,0,0,0,0,2,1,0,0,0,1,1,0,0,3,3,2,1,2]
[null,"другая ведомственная принадлежность","272",0,0,0,0,0,0,0,0,0,0,0,0,0,0,0,0,0,0,0,0,0,0,0,0,0,0,0,0,0,0,0,0,0,0,0,0,0,0,0,0,0,0,0,0,0,0,0,0,0,0,0,0,0,0,0,0]
[null,"ЦОП","273",0,0,0,0,0,0,0,0,0,0,0,0,0,0,0,0,0,0,0,0,0,0,0,0,0,0,0,0,0,0,0,0,0,0,0,0,0,0,0,0,0,0,0,0,0,0,0,0,0,0,0,0,0,0,0,0]
[null,"     из них по\n     ведомственной\n     принадлежности:\nорганы управления в сфере образования","274",0,0,0,0,0,0,0,0,0,0,0,0,0,0,0,0,0,0,0,0,0,0,0,0,0,0,0,0,0,0,0,0,0,0,0,0,0,0,0,0,0,0,0,0,0,0,0,0,0,0,0,0,0,0,0,0]
[null,"органы управления в сфере физической культуры и спорта","275",0,0,0,0,0,0,0,0,0,0,0,0,0,0,0,0,0,0,0,0,0,0,0,0,0,0,0,0,0,0,0,0,0,0,0,0,0,0,0,0,0,0,0,0,0,0,0,0,0,0,0,0,0,0,0,0]
[null,"другая ведомственная принадлежность","276",0,0,0,0,0,0,0,0,0,0,0,0,0,0,0,0,0,0,0,0,0,0,0,0,0,0,0,0,0,0,0,0,0,0,0,0,0,0,0,0,0,0,0,0,0,0,0,0,0,0,0,0,0,0,0,0]
[null,"Другие организации","277",0,0,0,0,0,0,0,0,0,0,0,0,0,0,0,0,0,0,0,0,0,0,0,0,0,0,0,0,0,0,0,0,0,0,0,0,0,0,0,0,0,0,0,0,0,0,0,0,0,0,0,0,0,0,0,0]
[null,"     из них по\n     ведомственной\n     принадлежности:\nорганы управления в сфере образования","278",0,0,0,0,0,0,0,0,0,0,0,0,0,0,0,0,0,0,0,0,0,0,0,0,0,0,0,0,0,0,0,0,0,0,0,0,0,0,0,0,0,0,0,0,0,0,0,0,0,0,0,0,0,0,0,0]
[null,"органы управления в сфере физической культуры и спорта","279",0,0,0,0,0,0,0,0,0,0,0,0,0,0,0,0,0,0,0,0,0,0,0,0,0,0,0,0,0,0,0,0,0,0,0,0,0,0,0,0,0,0,0,0,0,0,0,0,0,0,0,0,0,0,0,0]
[null,"другая ведомственная принадлежность","280",0,0,0,0,0,0,0,0,0,0,0,0,0,0,0,0,0,0,0,0,0,0,0,0,0,0,0,0,0,0,0,0,0,0,0,0,0,0,0,0,0,0,0,0,0,0,0,0,0,0,0,0,0,0,0,0]

{"sheet":"Раздел8","index":8,"n_rows":287,"n_cols":20,"rows_kept":287,"cut":false,"hidden":false,"merged":[[0,0,118,0],[0,1,0,16],[2,1,5,1],[2,2,5,2],[2,3,3,4],[3,16,5,16],[4,3,5,3],[4,4,5,4],[4,14,5,14],[2,19,5,19],[0,17,118,17],[1,12,1,16],[3,9,3,11],[2,5,2,16],[3,12,3,15],[3,5,3,8],[4,6,5,6],[4,10,5,10],[4,11,5,11],[4,15,5,15],[4,13,5,13],[4,5,5,5],[4,12,5,12],[4,7,4,8],[4,9,5,9]]}
[null,"Раздел VIII. Тренерский состав"]
[null,null,null,null,null,null,null,null,null,null,null,null,"Код по ОКЕИ: человек – 792"]
[null,"Виды спорта","№ строки","Число тренеров",null,"из них (гр. 4) имеют:",null,null,null,null,null,null,null,null,null,null,null,null,null,"Раздел2 графа3\nЧисло отделений"]
[null,null,null,null,null,"профессиональное образование",null,null,null,"квалификационную категорию",null,null,"в возрасте:",null,null,null,"Звание «Заслуженный тренер России»"]
[null,null,null,"Всего","в том числе штатных","высшее","среднее","в том числе\nфизкультурное",null,"высшую","первую","вторую","до 30 лет","31-45 лет","46-60 лет","старше 60 лет"]
[null,null,null,null,null,null,null,"высшее","среднее"]
[null,1,2,3,4,5,6,7,8,9,10,11,12,13,14,15,16]
[null,"Авиамодельный спорт","01",0,0,0,0,0,0,0,0,0,0,0,0,0,0,null,null,{"$f":"Раздел2!F8","v":0}]
[null,"Автомобильный спорт","02",0,0,0,0,0,0,0,0,0,0,0,0,0,0,null,null,{"$f":"Раздел2!F9","v":0}]
[null,"Автомодельный спорт","03",0,0,0,0,0,0,0,0,0,0,0,0,0,0,null,null,{"$f":"Раздел2!F11","v":0}]
[null,"Айкидо","04",0,0,0,0,0,0,0,0,0,0,0,0,0,0,null,null,{"$f":"Раздел2!F13","v":0}]
[null,"Айсшток","05",0,0,0,0,0,0,0,0,0,0,0,0,0,0,null,null,{"$f":"Раздел2!F14","v":0}]
[null,"Акробатический рок-н-ролл","06",0,0,0,0,0,0,0,0,0,0,0,0,0,0,null,null,{"$f":"Раздел2!F15","v":0}]
[null,"Альпинизм","07",0,0,0,0,0,0,0,0,0,0,0,0,0,0,null,null,{"$f":"Раздел2!F17","v":0}]
[null,"Американский футбол","08",0,0,0,0,0,0,0,0,0,0,0,0,0,0,null,null,{"$f":"Раздел2!F18","v":0}]
[null,"Армейский рукопашный бой","09",0,0,0,0,0,0,0,0,0,0,0,0,0,0,null,null,{"$f":"Раздел2!F19","v":666}]
[null,"Армрестлинг","10",0,0,0,0,0,0,0,0,0,0,0,0,0,0,null,null,{"$f":"Раздел2!F20","v":408}]
[null,"Бадминтон","11",0,0,0,0,0,0,0,0,0,0,0,0,0,0,null,null,{"$f":"Раздел2!F21","v":258}]
[null,"Баскетбол - всего","12",32,16,15,1,11,0,7,1,3,1,3,7,5,0,null,null,{"$f":"Раздел2!F22","v":0}]
[null,"в том числе:\nБаскетбол (муж.)","13",24,14,14,0,11,0,7,1,2,1,3,6,4,0,null,null,{"$f":"Раздел2!F23","v":0}]
[null,"Баскетбол (жен.)","14",8,2,1,1,0,0,0,0,1,0,0,1,1,0,null,null,{"$f":"Раздел2!F24","v":0}]
[null,"Бейсбол","15",0,0,0,0,0,0,0,0,0,0,0,0,0,0,null,null,{"$f":"Раздел2!F25","v":0}]
[null,"Биатлон","16",0,0,0,0,0,0,0,0,0,0,0,0,0,0,null,null,{"$f":"Раздел2!F26","v":0}]
[null,"Бильярдный спорт","17",0,0,0,0,0,0,0,0,0,0,0,0,0,0,null,null,{"$f":"Раздел2!F27","v":0}]
[null,"Бобслей - всего","18",0,0,0,0,0,0,0,0,0,0,0,0,0,0,null,null,{"$f":"Раздел2!F28","v":0}]
[null,"в том числе:\nБобслей","19",0,0,0,0,0,0,0,0,0,0,0,0,0,0,null,null,{"$f":"Раздел2!F29","v":243}]
[null,"Скелетон","20",0,0,0,0,0,0,0,0,0,0,0,0,0,0,null,null,{"$f":"Раздел2!F30","v":0}]
[null,"Бодибилдинг","21",0,0,0,0,0,0,0,0,0,0,0,0,0,0,null,null,{"$f":"Раздел2!F31","v":0}]
[null,"Бокс","22",9,5,5,0,5,0,1,3,0,0,3,1,1,1,null,null,{"$f":"Раздел2!F32","v":0}]
[null,"Борьба на поясах","23",0,0,0,0,0,0,0,0,0,0,0,0,0,0,null,null,{"$f":"Раздел2!F33","v":0}]
[null,"Боулинг","24",0,0,0,0,0,0,0,0,0,0,0,0,0,0,null,null,{"$f":"Раздел2!F34","v":0}]
[null,"Велоспорт ВМХ","25",0,0,0,0,0,0,0,0,0,0,0,0,0,0,null,null,{"$f":"Раздел2!F35","v":428}]
[null,"Велоспорт – маунтинбайк","26",0,0,0,0,0,0,0,0,0,0,0,0,0,0,null,null,{"$f":"Раздел2!F36","v":0}]
[null,"Велоспорт – трек","27",0,0,0,0,0,0,0,0,0,0,0,0,0,0,null,null,{"$f":"Раздел2!F37","v":0}]
[null,"Велоспорт – шоссе","28",21,21,16,5,16,5,5,1,7,12,4,3,2,1,null,null,{"$f":"Раздел2!F38","v":0}]
[null,"Вертолетный спорт","29",0,0,0,0,0,0,0,0,0,0,0,0,0,0,null,null,{"$f":"Раздел2!F39","v":0}]
[null,"Водно-моторный спорт","30",0,0,0,0,0,0,0,0,0,0,0,0,0,0,null,null,{"$f":"Раздел2!F40","v":0}]
[null,"Водное поло - всего ","31",0,0,0,0,0,0,0,0,0,0,0,0,0,0,null,null,{"$f":"Раздел2!F41","v":0}]
[null,"в том числе:\nВодное поло (муж.)","32",0,0,0,0,0,0,0,0,0,0,0,0,0,0,null,null,{"$f":"Раздел2!F44","v":0}]
[null,"Водное поло (жен.)","33",0,0,0,0,0,0,0,0,0,0,0,0,0,0,null,null,{"$f":"Раздел2!F45","v":1747}]
[null,"Воднолыжный спорт","34",0,0,0,0,0,0,0,0,0,0,0,0,0,0,null,null,{"$f":"Раздел2!F46","v":724}]
[null,"Военно-прикладной спорт","35",0,0,0,0,0,0,0,0,0,0,0,0,0,0,null,null,{"$f":"Раздел2!F47","v":948}]
[null,"Военно-спортивное многоборье","36",0,0,0,0,0,0,0,0,0,0,0,0,0,0,null,null,{"$f":"Раздел2!F48","v":40}]
[null,"Воздухоплавательный спорт","37",0,0,0,0,0,0,0,0,0,0,0,0,0,0,null,null,{"$f":"Раздел2!F49","v":35}]
[null,"Волейбол - всего","38",61,35,28,7,20,4,9,15,0,0,15,14,6,0,null,null,{"$f":"Раздел2!F50","v":0}]
[null,"в том числе:\nВолейбол (муж.)","39",23,18,15,3,12,1,5,7,0,0,5,11,2,0,null,null,{"$f":"Раздел2!F51","v":0}]
[null,"Волейбол (жен.)","40",33,17,13,4,8,3,4,8,0,0,10,3,4,0,null,null,{"$f":"Раздел2!F52","v":476}]
[null,"Пляжный волейбол (муж.)","41",2,0,0,0,0,0,0,0,0,0,0,0,0,0,null,null,{"$f":"Раздел2!F53","v":41}]
[null,"Пляжный волейбол (жен.)","42",3,0,0,0,0,0,0,0,0,0,0,0,0,0,null,null,{"$f":"Раздел2!F54","v":435}]
[null,"Восточное боевое единоборство","43",0,0,0,0,0,0,0,0,0,0,0,0,0,0,null,null,{"$f":"Раздел2!F56","v":0}]
[null,"Всестилевое карате","44",0,0,0,0,0,0,0,0,0,0,0,0,0,0,null,null,{"$f":"Раздел2!F57","v":0}]
[null,"Гандбол - всего","45",10,8,8,0,8,0,5,3,0,1,0,7,0,0,null,null,{"$f":"Раздел2!F58","v":0}]
[null,"в том числе:\nГандбол (муж.)","46",1,1,1,0,1,0,0,1,0,0,0,1,0,0,null,null,{"$f":"Раздел2!F59","v":0}]
[null,"Гандбол (жен.)","47",9,7,7,0,7,0,5,2,0,1,0,6,0,0,null,null,{"$f":"Раздел2!F60","v":0}]
[null,"Пляжный гандбол","48",0,0,0,0,0,0,0,0,0,0,0,0,0,0,null,null,{"$f":"Раздел2!F61","v":0}]
[null,"Гиревой спорт","49",0,0,0,0,0,0,0,0,0,0,0,0,0,0,null,null,{"$f":"Раздел2!F63","v":0}]
[null,"Го","50",0,0,0,0,0,0,0,0,0,0,0,0,0,0,null,null,{"$f":"Раздел2!F64","v":0}]
[null,"Гольф","51",0,0,0,0,0,0,0,0,0,0,0,0,0,0,null,null,{"$f":"Раздел2!F65","v":0}]
[null,"Горнолыжный спорт","52",0,0,0,0,0,0,0,0,0,0,0,0,0,0,null,null,{"$f":"Раздел2!F66","v":0}]
[null,"Городошный спорт","53",0,0,0,0,0,0,0,0,0,0,0,0,0,0,null,null,{"$f":"Раздел2!F67","v":0}]
[null,"Гребля на байдарках и каноэ","54",0,0,0,0,0,0,0,0,0,0,0,0,0,0,null,null,{"$f":"Раздел2!F68","v":0}]
[null,"Гребля на шлюпках","55",0,0,0,0,0,0,0,0,0,0,0,0,0,0,null,null,{"$f":"Раздел2!F69","v":0}]
[null,"Гребной слалом","56",0,0,0,0,0,0,0,0,0,0,0,0,0,0,null,null,{"$f":"Раздел2!F70","v":0}]
[null,"Гребной спорт - всего","57",0,0,0,0,0,0,0,0,0,0,0,0,0,0,null,null,{"$f":"Раздел2!F71","v":0}]
[null,"в том числе:\nАкадемическая гребля","58",0,0,0,0,0,0,0,0,0,0,0,0,0,0,null,null,{"$f":"Раздел2!F72","v":1342}]
[null,"Гребля-индор","59",0,0,0,0,0,0,0,0,0,0,0,0,0,0,null,null,{"$f":"Раздел2!F73","v":0}]
[null,"Народная гребля","60",0,0,0,0,0,0,0,0,0,0,0,0,0,0,null,null,{"$f":"Раздел2!F74","v":0}]
[null,"Прибрежная гребля","61",0,0,0,0,0,0,0,0,0,0,0,0,0,0,null,null,{"$f":"Раздел2!F75","v":99}]
[null,"Гребно-парусное двоеборье","62",0,0,0,0,0,0,0,0,0,0,0,0,0,0,null,null,{"$f":"Раздел2!F76","v":0}]
[null,"Дартс","63",0,0,0,0,0,0,0,0,0,0,0,0,0,0,null,null,{"$f":"Раздел2!F77","v":0}]
[null,"Джиу-джитсу","64",0,0,0,0,0,0,0,0,0,0,0,0,0,0,null,null,{"$f":"Раздел2!F78","v":0}]
[null,"Дзюдо","65",56,35,30,4,29,4,20,2,1,7,6,19,3,2,null,null,{"$f":"Раздел2!F79","v":0}]
[null,"Ездовой спорт","66",0,0,0,0,0,0,0,0,0,0,0,0,0,0,null,null,{"$f":"Раздел2!F80","v":0}]
[null,"Капоэйра","67",0,0,0,0,0,0,0,0,0,0,0,0,0,0,null,null,{"$f":"Раздел2!F81","v":118}]
[null,"Каратэ","68",2,1,1,0,1,0,1,0,0,0,0,1,0,0,null,null,{"$f":"Раздел2!F82","v":0}]
[null,"Кендо","69",0,0,0,0,0,0,0,0,0,0,0,0,0,0,null,null,{"$f":"Раздел2!F83","v":0}]
[null,"Керешу","70",0,0,0,0,0,0,0,0,0,0,0,0,0,0,null,null,{"$f":"Раздел2!F84","v":0}]
[null,"Керлинг - всего","71",0,0,0,0,0,0,0,0,0,0,0,0,0,0,null,null,{"$f":"Раздел2!F85","v":0}]
[null,"в том числе:\nКерлинг (муж.)","72",0,0,0,0,0,0,0,0,0,0,0,0,0,0,null,null,{"$f":"Раздел2!F86","v":124}]
[null,"Керлинг (жен.)","73",0,0,0,0,0,0,0,0,0,0,0,0,0,0,null,null,{"$f":"Раздел2!F87","v":0}]
[null,"Кикбоксинг","74",3,3,3,0,3,0,2,0,0,1,0,1,1,1,null,null,{"$f":"Раздел2!F88","v":0}]
[null,"Кинологический спорт","75",0,0,0,0,0,0,0,0,0,0,0,0,0,0,null,null,{"$f":"Раздел2!F89","v":0}]
[null,"Киокусинкай","76",0,0,0,0,0,0,0,0,0,0,0,0,0,0,null,null,{"$f":"Раздел2!F90","v":0}]
[null,"Комплексное единоборство","77",0,0,0,0,0,0,0,0,0,0,0,0,0,0,null,null,{"$f":"Раздел2!F91","v":0}]
[null,"Компьютерный спорт","78",0,0,0,0,0,0,0,0,0,0,0,0,0,0,null,null,{"$f":"Раздел2!F92","v":0}]
[null,"Конный спорт","79",7,7,4,3,1,1,0,0,3,7,0,0,0,0,null,null,{"$f":"Раздел2!F93","v":549}]
[null,"Конькобежный спорт - всего","80",0,0,0,0,0,0,0,0,0,0,0,0,0,0,null,null,{"$f":"Раздел2!F94","v":234}]
[null,"в том числе:\nКонькобежный спорт","81",0,0,0,0,0,0,0,0,0,0,0,0,0,0,null,null,{"$f":"Раздел2!F95","v":107}]
[null,"Шорт-трек","82",0,0,0,0,0,0,0,0,0,0,0,0,0,0,null,null,{"$f":"Раздел2!F96","v":8}]
[null,"Корэш","83",0,0,0,0,0,0,0,0,0,0,0,0,0,0,null,null,{"$f":"Раздел2!F97","v":140}]
[null,"Корфбол","84",0,0,0,0,0,0,0,0,0,0,0,0,0,0,null,null,{"$f":"Раздел2!F98","v":14}]
[null,"Лапта","85",0,0,0,0,0,0,0,0,0,0,0,0,0,0,null,null,{"$f":"Раздел2!F99","v":46}]
[null,"Легкая атлетика - всего","86",23,15,14,1,14,0,10,3,0,2,6,5,2,0,null,null,{"$f":"Раздел2!F100","v":0}]
[null,"в том числе:\nСпринтерский и барьерный бег","87",12,8,7,1,7,0,5,1,0,2,3,2,1,0,null,null,{"$f":"Раздел2!F101","v":0}]
[null,"Бег на средние дистанции и бег с препятствиями","88",3,3,3,0,3,0,3,0,0,0,1,2,0,0,null,null,{"$f":"Раздел2!F102","v":0}]
[null,"Бег на длинные и сверхдлинные дистанции","89",1,1,1,0,1,0,1,0,0,0,1,0,0,0,null,null,{"$f":"Раздел2!F103","v":0}]
[null,"Многоборья","90",5,3,3,0,3,0,1,2,0,0,1,1,1,0,null,null,{"$f":"Раздел2!F104","v":0}]
[null,"Прыжки","91",1,0,0,0,0,0,0,0,0,0,0,0,0,0,null,null,{"$f":"Раздел2!F105","v":0}]
[null,"Метания","92",1,0,0,0,0,0,0,0,0,0,0,0,0,0,null,null,{"$f":"Раздел2!F106","v":0}]
[null,"Спортивная ходьба","93",0,0,0,0,0,0,0,0,0,0,0,0,0,0,null,null,{"$f":"Раздел2!F107","v":0}]
[null,"Лыжное двоеборье","94",0,0,0,0,0,0,0,0,0,0,0,0,0,0,null,null,{"$f":"Раздел2!F108","v":0}]
[null,"Лыжные гонки","95",0,0,0,0,0,0,0,0,0,0,0,0,0,0,null,null,{"$f":"Раздел2!F109","v":689}]
[null,"Мас-рестлинг","96",0,0,0,0,0,0,0,0,0,0,0,0,0,0,null,null,{"$f":"Раздел2!F110","v":0}]
[null,"Международное военно-спортивное многоборье","97",0,0,0,0,0,0,0,0,0,0,0,0,0,0,null,null,{"$f":"Раздел2!F111","v":0}]
[null,"Многоборье кинологов","98",0,0,0,0,0,0,0,0,0,0,0,0,0,0,null,null,{"$f":"Раздел2!F112","v":0}]
[null,"Многоборье спасателей МЧС России","99",0,0,0,0,0,0,0,0,0,0,0,0,0,0,null,null,{"$f":"Раздел2!F113","v":0}]
[null,"Морское многоборье","100",0,0,0,0,0,0,0,0,0,0,0,0,0,0,null,null,{"$f":"Раздел2!F114","v":0}]
[null,"Мотоциклетный спорт","101",0,0,0,0,0,0,0,0,0,0,0,0,0,0,null,null,{"$f":"Раздел2!F115","v":0}]
[null,"Настольный теннис","102",28,16,15,1,14,0,8,5,0,2,5,5,4,0,null,null,{"$f":"Раздел2!F116","v":0}]
[null,"Парашютный спорт","103",0,0,0,0,0,0,0,0,0,0,0,0,0,0,null,null,{"$f":"Раздел2!F117","v":0}]
[null,"Парусный спорт","104",0,0,0,0,0,0,0,0,0,0,0,0,0,0,null,null,{"$f":"Раздел2!F118","v":0}]
[null,"Пауэрлифтинг","105",0,0,0,0,0,0,0,0,0,0,0,0,0,0,null,null,{"$f":"Раздел2!F119","v":0}]
[null,"Перетягивание каната","106",0,0,0,0,0,0,0,0,0,0,0,0,0,0,null,null,{"$f":"Раздел2!F120","v":0}]
[null,"Петанк","107",0,0,0,0,0,0,0,0,0,0,0,0,0,0,null,null,{"$f":"Раздел2!F121","v":0}]
[null,"Плавание - всего","108",0,0,0,0,0,0,0,0,0,0,0,0,0,0,null,null,{"$f":"Раздел2!F122","v":0}]
[null,"в том числе:\nПлавание ","109",0,0,0,0,0,0,0,0,0,0,0,0,0,0,null,null,{"$f":"Раздел2!F123","v":0}]
[null,"Открытая вода","110",0,0,0,0,0,0,0,0,0,0,0,0,0,0,null,null,{"$f":"Раздел2!F124","v":0}]
[null,"Планерный спорт","111",0,0,0,0,0,0,0,0,0,0,0,0,0,0,null,null,{"$f":"Раздел2!F125","v":0}]
[null,"Подводный спорт","112",0,0,0,0,0,0,0,0,0,0,0,0,0,0,null,null,{"$f":"Раздел2!F126","v":94}]
[null,"Пожарно-прикладной спорт","113",0,0,0,0,0,0,0,0,0,0,0,0,0,0,null,null,{"$f":"Раздел2!F127","v":0}]
[null,"Полиатлон","114",0,0,0,0,0,0,0,0,0,0,0,0,0,0,null,null,{"$f":"Раздел2!F128","v":0}]
[null,"Практическая стрельба","115",0,0,0,0,0,0,0,0,0,0,0,0,0,0,null,null,{"$f":"Раздел2!F129","v":94}]
[null,"Прыжки в воду - всего","116",0,0,0,0,0,0,0,0,0,0,0,0,0,0,null,null,{"$f":"Раздел2!F130","v":0}]
[null,"в том числе:\nПрыжки в воду","117",0,0,0,0,0,0,0,0,0,0,0,0,0,0,null,null,{"$f":"Раздел2!F131","v":0}]
[null,"Прыжки в открытый водоем","118",0,0,0,0,0,0,0,0,0,0,0,0,0,0,null,null,{"$f":"Раздел2!F132","v":129}]
[null,"Прыжки на батуте - всего","119",6,1,1,0,1,0,1,0,0,0,0,1,0,0,null,null,{"$f":"Раздел2!F133","v":0}]
[null,"в том числе:\nАкробатическая дорожка","120",0,0,0,0,0,0,0,0,0,0,0,0,0,0,null,null,{"$f":"Раздел2!F134","v":106}]
[null,"Двойной минитрамп","121",0,0,0,0,0,0,0,0,0,0,0,0,0,0,null,null,{"$f":"Раздел2!F135","v":7}]
[null,"Индивидуальные прыжки","122",6,1,1,0,1,0,1,0,0,0,0,1,0,0,null,null,{"$f":"Раздел2!F136","v":16}]
[null,"Синхронные прыжки","123",0,0,0,0,0,0,0,0,0,0,0,0,0,0,null,null,{"$f":"Раздел2!F137","v":0}]
[null,"Прыжки на лыжах с трамплина","124",0,0,0,0,0,0,0,0,0,0,0,0,0,0,null,null,{"$f":"Раздел2!F138","v":0}]
[null,"Пулевая стрельба - всего","125",11,7,6,1,6,0,1,0,5,1,0,3,3,1,null,null,{"$f":"Раздел2!F139","v":0}]
[null,"в том числе:\nПневматическая винтовка","126",0,0,0,0,0,0,0,0,0,0,0,0,0,0,null,null,{"$f":"Раздел2!F140","v":0}]
[null,"Пневматический пистолет","127",7,6,5,1,5,0,1,0,5,1,0,2,3,1,null,null,{"$f":"Раздел2!F141","v":0}]
[null,"Малокалиберная винтовка","128",1,0,0,0,0,0,0,0,0,0,0,0,0,0,null,null,{"$f":"Раздел2!F142","v":0}]
[null,"Малокалиберный пистолет","129",3,1,1,0,1,0,0,0,0,0,0,1,0,0,null,null,{"$f":"Раздел2!F143","v":0}]
[null,"Движущаяся мишень","130",0,0,0,0,0,0,0,0,0,0,0,0,0,0,null,null,{"$f":"Раздел2!F144","v":0}]
[null,"Пэйнтбол","131",0,0,0,0,0,0,0,0,0,0,0,0,0,0,null,null,{"$f":"Раздел2!F145","v":0}]
[null,"Радиоспорт","132",0,0,0,0,0,0,0,0,0,0,0,0,0,0,null,null,{"$f":"Раздел2!F146","v":0}]
[null,"Рафтинг","133",0,0,0,0,0,0,0,0,0,0,0,0,0,0,null,null,{"$f":"Раздел2!F147","v":0}]
[null,"Регби - всего","134",0,0,0,0,0,0,0,0,0,0,0,0,0,0,null,null,{"$f":"Раздел2!F148","v":0}]
[null,"в том числе:\nРегби","135",0,0,0,0,0,0,0,0,0,0,0,0,0,0,null,null,{"$f":"Раздел2!F149","v":0}]
[null,"Регби 7 (муж.)","136",0,0,0,0,0,0,0,0,0,0,0,0,0,0,null,null,{"$f":"Раздел2!F150","v":0}]
[null,"Регби 7 (жен.)","137",0,0,0,0,0,0,0,0,0,0,0,0,0,0,null,null,{"$f":"Раздел2!F151","v":1473}]
[null,"Регби - пляжное","138",0,0,0,0,0,0,0,0,0,0,0,0,0,0,null,null,{"$f":"Раздел2!F152","v":0}]
[null,"Регбол","139",0,0,0,0,0,0,0,0,0,0,0,0,0,0,null,null,{"$f":"Раздел2!F153","v":0}]
[null,"Роллер спорт","140",0,0,0,0,0,0,0,0,0,0,0,0,0,0,null,null,{"$f":"Раздел2!F154","v":0}]
[null,"Рукопашный бой","141",0,0,0,0,0,0,0,0,0,0,0,0,0,0,null,null,{"$f":"Раздел2!F155","v":0}]
[null,"Рыболовный спорт","142",0,0,0,0,0,0,0,0,0,0,0,0,0,0,null,null,{"$f":"Раздел2!F156","v":0}]
[null,"Сават","143",0,0,0,0,0,0,0,0,0,0,0,0,0,0,null,null,{"$f":"Раздел2!F157","v":44}]
[null,"Самбо","144",50,33,27,5,21,2,18,2,2,3,13,11,6,5,null,null,{"$f":"Раздел2!F158","v":0}]
[null,"Самолетный спорт","145",0,0,0,0,0,0,0,0,0,0,0,0,0,0,null,null,{"$f":"Раздел2!F159","v":0}]
[null,"Санный спорт","146",0,0,0,0,0,0,0,0,0,0,0,0,0,0,null,null,{"$f":"Раздел2!F160","v":0}]
[null,"Северное многоборье","147",0,0,0,0,0,0,0,0,0,0,0,0,0,0,null,null,{"$f":"Раздел2!F161","v":0}]
[null,"Серфинг","148",0,0,0,0,0,0,0,0,0,0,0,0,0,0,null,null,{"$f":"Раздел2!F162","v":0}]
[null,"Синхронное плавание","149",0,0,0,0,0,0,0,0,0,0,0,0,0,0,null,null,{"$f":"Раздел2!F163","v":0}]
[null,"Скалолазание","150",2,0,0,0,0,0,0,0,0,0,0,0,0,0,null,null,{"$f":"Раздел2!F164","v":0}]
[null,"Скейтбординг","151",0,0,0,0,0,0,0,0,0,0,0,0,0,0,null,null,{"$f":"Раздел2!F165","v":0}]
[null,"Сквош","152",0,0,0,0,0,0,0,0,0,0,0,0,0,0,null,null,{"$f":"Раздел2!F166","v":0}]
[null,"Служебно-прикладной спорт ФСО России","153",0,0,0,0,0,0,0,0,0,0,0,0,0,0,null,null,{"$f":"Раздел2!F167","v":0}]
[null,"Служебно-прикладной спорт ГФС России","154",0,0,0,0,0,0,0,0,0,0,0,0,0,0,null,null,{"$f":"Раздел2!F168","v":0}]
[null,"Служебно-прикладной спорт ФСКН России","155",0,0,0,0,0,0,0,0,0,0,0,0,0,0,null,null,{"$f":"Раздел2!F169","v":0}]
[null,"Служебно-прикладной спорт ФТС России","156",0,0,0,0,0,0,0,0,0,0,0,0,0,0,null,null,{"$f":"Раздел2!F170","v":0}]
[null,"Служебное двоеборье","157",0,0,0,0,0,0,0,0,0,0,0,0,0,0,null,null,{"$f":"Раздел2!F171","v":0}]
[null,"Служебное единоборство","158",0,0,0,0,0,0,0,0,0,0,0,0,0,0,null,null,{"$f":"Раздел2!F172","v":0}]
[null,"Служебное многоборье","159",0,0,0,0,0,0,0,0,0,0,0,0,0,0,null,null,{"$f":"Раздел2!F173","v":0}]
[null,"Служебное собаководство","160",0,0,0,0,0,0,0,0,0,0,0,0,0,0,null,null,{"$f":"Раздел2!F174","v":0}]
[null,"Служебный биатлон","161",0,0,0,0,0,0,0,0,0,0,0,0,0,0,null,null,{"$f":"Раздел2!F175","v":0}]
[null,"Спасательный спорт","162",0,0,0,0,0,0,0,0,0,0,0,0,0,0,null,null,{"$f":"Раздел2!F176","v":0}]
[null,"Стрельба из боевого ручного стрелкового оружия","163",0,0,0,0,0,0,0,0,0,0,0,0,0,0,null,null,{"$f":"Раздел2!F177","v":132}]
[null,"Стрельба из штатного или табельного оружия","164",0,0,0,0,0,0,0,0,0,0,0,0,0,0,null,null,{"$f":"Раздел2!F178","v":0}]
[null,"Смешанное боевое единоборство (ММА)","165",0,0,0,0,0,0,0,0,0,0,0,0,0,0,null,null,{"$f":"Раздел2!F179","v":417}]
[null,"Сноуборд","166",0,0,0,0,0,0,0,0,0,0,0,0,0,0,null,null,{"$f":"Раздел2!F180","v":81}]
[null,"Современное пятиборье","167",0,0,0,0,0,0,0,0,0,0,0,0,0,0,null,null,{"$f":"Раздел2!F181","v":336}]
[null,"Софтбол","168",0,0,0,0,0,0,0,0,0,0,0,0,0,0,null,null,{"$f":"Раздел2!F182","v":0}]
[null,"Спорт сверхлегкой авиации","169",0,0,0,0,0,0,0,0,0,0,0,0,0,0,null,null,{"$f":"Раздел2!F183","v":0}]
[null,"Спортивная акробатика","170",4,3,3,0,3,0,3,0,0,0,3,0,0,0,null,null,{"$f":"Раздел2!F184","v":0}]
[null,"Спортивная аэробика","171",0,0,0,0,0,0,0,0,0,0,0,0,0,0,null,null,{"$f":"Раздел2!F185","v":0}]
[null,"Спортивная борьба - всего","172",16,8,8,0,7,0,4,0,0,4,3,0,1,0,null,null,{"$f":"Раздел2!F186","v":302}]
[null,"в том числе:\nВольная борьба","173",3,1,1,0,1,0,1,0,0,0,0,0,1,0,null,null,{"$f":"Раздел2!F187","v":234}]
[null,"Греко-римская борьба","174",13,7,7,0,6,0,3,0,0,4,3,0,0,0,null,null,{"$f":"Раздел2!F188","v":0}]
[null,"Грэпплинг","175",0,0,0,0,0,0,0,0,0,0,0,0,0,0,null,null,{"$f":"Раздел2!F189","v":50}]
[null,"Грэпплинг-ги","176",0,0,0,0,0,0,0,0,0,0,0,0,0,0,null,null,{"$f":"Раздел2!F190","v":0}]
[null,"Панкратион","177",0,0,0,0,0,0,0,0,0,0,0,0,0,0,null,null,{"$f":"Раздел2!F191","v":0}]
[null,"Спортивно-прикладное собаководство","178",0,0,0,0,0,0,0,0,0,0,0,0,0,0,null,null,{"$f":"Раздел2!F192","v":0}]
[null,"Спортивная гимнастика","179",8,8,7,1,6,1,3,3,1,1,1,3,3,0,null,null,{"$f":"Раздел2!F193","v":0}]
[null,"Спортивное ориентирование","180",16,2,2,0,2,0,2,0,0,0,0,0,2,0,null,null,{"$f":"Раздел2!F194","v":0}]
[null,"Спортивный бридж","181",0,0,0,0,0,0,0,0,0,0,0,0,0,0,null,null,{"$f":"Раздел2!F195","v":0}]
[null,"Спортивный туризм","182",4,1,1,0,1,0,1,0,0,0,1,0,0,0,null,null,{"$f":"Раздел2!F196","v":0}]
[null,"Стендовая стрельба - всего","183",0,0,0,0,0,0,0,0,0,0,0,0,0,0,null,null,{"$f":"Раздел2!F197","v":0}]
[null,"в том числе:\nТрап","184",0,0,0,0,0,0,0,0,0,0,0,0,0,0,null,null,{"$f":"Раздел2!F198","v":0}]
[null,"Скит","185",0,0,0,0,0,0,0,0,0,0,0,0,0,0,null,null,{"$f":"Раздел2!F199","v":0}]
[null,"Дубль-трап","186",0,0,0,0,0,0,0,0,0,0,0,0,0,0,null,null,{"$f":"Раздел2!F200","v":0}]
[null,"Спортинг","187",0,0,0,0,0,0,0,0,0,0,0,0,0,0,null,null,{"$f":"Раздел2!F201","v":0}]
[null,"Стрельба из арбалета","188",0,0,0,0,0,0,0,0,0,0,0,0,0,0,null,null,{"$f":"Раздел2!F202","v":0}]
[null,"Стрельба из лука - всего","189",0,0,0,0,0,0,0,0,0,0,0,0,0,0,null,null,{"$f":"Раздел2!F203","v":0}]
[null,"в том числе:\nКлассический лук","190",0,0,0,0,0,0,0,0,0,0,0,0,0,0,null,null,{"$f":"Раздел2!F204","v":22}]
[null,"   Блочный лук","191",0,0,0,0,0,0,0,0,0,0,0,0,0,0,null,null,{"$f":"Раздел2!F205","v":0}]
[null,"   Ачери ","192",0,0,0,0,0,0,0,0,0,0,0,0,0,0,null,null,{"$f":"Раздел2!F206","v":250}]
[null,"Судомодельный спорт","193",0,0,0,0,0,0,0,0,0,0,0,0,0,0,null,null,{"$f":"Раздел2!F207","v":0}]
[null,"Сумо","194",0,0,0,0,0,0,0,0,0,0,0,0,0,0,null,null,{"$f":"Раздел2!F208","v":250}]
[null,"Тайский бокс","195",0,0,0,0,0,0,0,0,0,0,0,0,0,0,null,null,{"$f":"Раздел2!F209","v":580}]
[null,"Танцевальный спорт","196",0,0,0,0,0,0,0,0,0,0,0,0,0,0,null,null,{"$f":"Раздел2!F210","v":0}]
[null,"Теннис","197",1,1,1,0,1,0,0,0,1,0,0,0,1,0,null,null,{"$f":"Раздел2!F211","v":91}]
[null,"Триатлон","198",0,0,0,0,0,0,0,0,0,0,0,0,0,0,null,null,{"$f":"Раздел2!F212","v":0}]
[null,"Тхэквондо - всего","199",7,6,6,0,6,0,1,1,3,1,4,1,0,0,null,null,{"$f":"Раздел2!F213","v":0}]
[null,"в том числе:\nТхэквондо (ГТФ, ИТФ, МФТ)","200",0,0,0,0,0,0,0,0,0,0,0,0,0,0,null,null,{"$f":"Раздел2!F214","v":0}]
[null,"Тхэквондо (ВТФ)","201",7,6,6,0,6,0,1,1,3,1,4,1,0,0,null,null,{"$f":"Раздел2!F215","v":0}]
[null,"Тяжелая атлетика","202",34,24,18,6,12,3,8,8,1,7,7,8,2,0,null,null,{"$f":"Раздел2!F216","v":0}]
[null,"Универсальный бой","203",0,0,0,0,0,0,0,0,0,0,0,0,0,0,null,null,{"$f":"Раздел2!F217","v":0}]
[null,"Ушу","204",3,2,2,0,2,0,0,2,0,0,1,1,0,0,null,null,{"$f":"Раздел2!F218","v":59}]
[null,"Фехтование - всего","205",0,0,0,0,0,0,0,0,0,0,0,0,0,0,null,null,{"$f":"Раздел2!F219","v":0}]
[null,"в том числе:\nРапира","206",0,0,0,0,0,0,0,0,0,0,0,0,0,0,null,null,{"$f":"Раздел2!F220","v":0}]
[null,"Сабля","207",0,0,0,0,0,0,0,0,0,0,0,0,0,0,null,null,{"$f":"Раздел2!F221","v":0}]
[null,"Шпага","208",0,0,0,0,0,0,0,0,0,0,0,0,0,0,null,null,{"$f":"Раздел2!F222","v":0}]
[null,"Арт-фехтование","209",0,0,0,0,0,0,0,0,0,0,0,0,0,0,null,null,{"$f":"Раздел2!F223","v":0}]
[null,"Фигурное катание на коньках","210",0,0,0,0,0,0,0,0,0,0,0,0,0,0,null,null,{"$f":"Раздел2!F224","v":0}]
[null,"Фитнес-аэробика","211",1,1,1,0,1,0,0,0,0,0,1,0,0,0,null,null,{"$f":"Раздел2!F225","v":0}]
[null,"Флаинг диск","212",0,0,0,0,0,0,0,0,0,0,0,0,0,0,null,null,{"$f":"Раздел2!F226","v":0}]
[null,"Флорбол","213",0,0,0,0,0,0,0,0,0,0,0,0,0,0,null,null,{"$f":"Раздел2!F227","v":2096}]
[null,"Фристайл - всего","214",0,0,0,0,0,0,0,0,0,0,0,0,0,0,null,null,{"$f":"Раздел2!F228","v":2096}]
[null,"в том числе:\nАкробатика","215",0,0,0,0,0,0,0,0,0,0,0,0,0,0,null,null,{"$f":"Раздел2!F229","v":0}]
[null,"Могул","216",0,0,0,0,0,0,0,0,0,0,0,0,0,0,null,null,{"$f":"Раздел2!F230","v":0}]
[null,"Ски-кросс","217",0,0,0,0,0,0,0,0,0,0,0,0,0,0,null,null,{"$f":"Раздел2!F231","v":0}]
[null,"Хаф-пайп","218",0,0,0,0,0,0,0,0,0,0,0,0,0,0,null,null,{"$f":"Раздел2!F232","v":0}]
[null,"Слоуп-стайл","219",0,0,0,0,0,0,0,0,0,0,0,0,0,0,null,null,{"$f":"Раздел2!F233","v":0}]
[null,"Футбол - всего","220",65,53,47,6,23,4,9,11,10,11,23,10,9,0,null,null,{"$f":"Раздел2!F234","v":0}]
[null,"в том числе:\nФутбол (муж.)","221",65,53,47,6,23,4,9,11,10,11,23,10,9,0,null,null,{"$f":"Раздел2!F235","v":0}]
[null,"Футбол (жен.)","222",0,0,0,0,0,0,0,0,0,0,0,0,0,0]
[null,"Мини-футбол (футзал)","223",0,0,0,0,0,0,0,0,0,0,0,0,0,0]
[null,"Пляжный футбол","224",0,0,0,0,0,0,0,0,0,0,0,0,0,0]
[null,"Хапсагай","225",0,0,0,0,0,0,0,0,0,0,0,0,0,0]
[null,"Хоккей - всего","226",0,0,0,0,0,0,0,0,0,0,0,0,0,0]
[null,"в том числе:\nХоккей (муж.)","227",0,0,0,0,0,0,0,0,0,0,0,0,0,0]
[null,"Хоккей (жен.)","228",0,0,0,0,0,0,0,0,0,0,0,0,0,0]
[null,"Хоккей на траве - всего","229",0,0,0,0,0,0,0,0,0,0,0,0,0,0]
[null,"в том числе:\nХоккей на траве (муж.)","230",0,0,0,0,0,0,0,0,0,0,0,0,0,0]
[null,"Хоккей на траве (жен.)","231",0,0,0,0,0,0,0,0,0,0,0,0,0,0]
[null,"Индорхоккей","232",0,0,0,0,0,0,0,0,0,0,0,0,0,0]
[null,"Хоккей с мячом","233",0,0,0,0,0,0,0,0,0,0,0,0,0,0]
[null,"Художественная гимнастика","234",3,3,2,1,2,1,1,0,1,2,0,1,0,0]
[null,"Хуреш","235",0,0,0,0,0,0,0,0,0,0,0,0,0,0]
[null,"Черлидинг","236",0,0,0,0,0,0,0,0,0,0,0,0,0,0]
[null,"Чир спорт","237",0,0,0,0,0,0,0,0,0,0,0,0,0,0]
[null,"Шахматы","238",21,16,13,2,2,1,1,6,0,1,3,5,7,0]
[null,"Шашки","239",0,0,0,0,0,0,0,0,0,0,0,0,0,0]
[null,"Эстетическая гимнастика","240",0,0,0,0,0,0,0,0,0,0,0,0,0,0]
[null,"Якутские национальные прыжки","241",0,0,0,0,0,0,0,0,0,0,0,0,0,0]
[null,"ИТОГО","242",504,331,284,44,218,26,121,66,38,64,102,107,58,11]
[null,"ИТОГО по олимпийским видам спорта","243",402,270,232,37,183,23,94,56,36,59,80,89,42,5]
[null,"  в том числе: \n  по летним видам спорта","244",402,270,232,37,183,23,94,56,36,59,80,89,42,5]
[null,"  по зимним видам спорта","245",0,0,0,0,0,0,0,0,0,0,0,0,0,0]
[null,"ИТОГО по неолимпийским видам спорта","246",102,61,52,7,35,3,27,10,2,5,22,18,16,6]
[null,"ИТОГО по национальным видам спорта","247",0,0,0,0,0,0,0,0,0,0,0,0,0,0]
[null,"ИТОГО по прикладным видам спорта","248",0,0,0,0,0,0,0,0,0,0,0,0,0,0]
[null,"        По виду организации: \nДЮСШ - отделения, не соответствующие Перечню \"Олимпийский\"","249",340,228,196,30,151,16,84,53,5,40,74,67,47,6]
[null,"     из них по \n     ведомственной\n     принадлежности: \nорганы управления в сфере образования","250",253,164,137,25,102,12,69,45,0,24,60,46,34,3]
[null,"органы управления в сфере физической культуры и \nспорта","251",87,64,59,5,49,4,15,8,5,16,14,21,13,3]
[null,"другая ведомственная принадлежность","252",0,0,0,0,0,0,0,0,0,0,0,0,0,0]
[null,"СШ - отделения, не соответствующие Перечню \"Олимпийский\"","253",24,10,10,0,10,0,7,2,1,0,3,6,1,1]
[null,"     из них по \n     ведомственной\n     принадлежности: \nорганы управления в сфере образования","254",0,0,0,0,0,0,0,0,0,0,0,0,0,0]
[null,"органы управления в сфере физической культуры и \nспорта","255",24,10,10,0,10,0,7,2,1,0,3,6,1,1]
[null,"другая ведомственная принадлежность","256",0,0,0,0,0,0,0,0,0,0,0,0,0,0]
[null,"СДЮСШОР - отделения, соответствующие Перечню \"Олимпийский\"","257",15,13,12,1,12,0,6,2,5,2,0,8,3,1]
[null,"     из них по \n     ведомственной\n     принадлежности:\nорганы управления в сфере образования","258",0,0,0,0,0,0,0,0,0,0,0,0,0,0]
[null,"органы управления в сфере физической культуры и спорта","259",15,13,12,1,12,0,6,2,5,2,0,8,3,1]
[null,"другая ведомственная принадлежность","260",0,0,0,0,0,0,0,0,0,0,0,0,0,0]
[null,"СШОР - отделения, соответствующие Перечню \"Олимпийский\"","261",81,63,55,8,37,8,20,9,22,15,22,19,7,2]
[null,"     из них по \n     ведомственной\n     принадлежности:\nорганы управления в сфере образования","262",0,0,0,0,0,0,0,0,0,0,0,0,0,0]
[null,"органы управления в сфере физической культуры и спорта","263",81,63,55,8,37,8,20,9,22,15,22,19,7,2]
[null,"другая ведомственная принадлежность","264",0,0,0,0,0,0,0,0,0,0,0,0,0,0]
[null,"УОР","265",0,0,0,0,0,0,0,0,0,0,0,0,0,0]
[null,"     из них по\n     ведомственной\n     принадлежности:\nорганы управления в сфере образования","266",0,0,0,0,0,0,0,0,0,0,0,0,0,0]
[null,"органы управления в сфере физической культуры и спорта","267",0,0,0,0,0,0,0,0,0,0,0,0,0,0]
[null,"другая ведомственная принадлежность","268",0,0,0,0,0,0,0,0,0,0,0,0,0,0]
[null,"ЦСП","269",44,17,11,5,8,2,4,0,5,7,3,7,0,1]
[null,"     из них по\n     ведомственной\n     принадлежности:\nорганы управления в сфере образования","270",0,0,0,0,0,0,0,0,0,0,0,0,0,0]
[null,"органы управления в сфере физической культуры и спорта","271",44,17,11,5,8,2,4,0,5,7,3,7,0,1]
[null,"другая ведомственная принадлежность","272",0,0,0,0,0,0,0,0,0,0,0,0,0,0]
[null,"ЦОП","273",0,0,0,0,0,0,0,0,0,0,0,0,0,0]
[null,"     из них по\n     ведомственной\n     принадлежности:\nорганы управления в сфере образования","274",0,0,0,0,0,0,0,0,0,0,0,0,0,0]
[null,"органы управления в сфере физической культуры и спорта","275",0,0,0,0,0,0,0,0,0,0,0,0,0,0]
[null,"другая ведомственная принадлежность","276",0,0,0,0,0,0,0,0,0,0,0,0,0,0]
[null,"Другие организации","277",0,0,0,0,0,0,0,0,0,0,0,0,0,0]
[null,"     из них по\n     ведомственной\n     принадлежности:\nорганы управления в сфере образования","278",0,0,0,0,0,0,0,0,0,0,0,0,0,0]
[null,"органы управления в сфере физической культуры и спорта","279",0,0,0,0,0,0,0,0,0,0,0,0,0,0]
[null,"другая ведомственная принадлежность","280",0,0,0,0,0,0,0,0,0,0,0,0,0,0]

{"sheet":"Раздел9","index":9,"n_rows":37,"n_cols":17,"rows_kept":37,"cut":false,"hidden":false,"merged":[[1,14,28,14],[4,9,4,11],[4,12,4,13],[3,5,3,13],[4,5,4,8],[2,11,2,13],[0,0,0,8],[3,1,6,1],[3,2,6,2],[1,1,1,13],[3,3,4,4],[5,12,6,12],[1,0,28,0],[5,11,6,11],[5,10,6,10],[5,6,6,6],[5,3,6,3],[5,13,6,13],[5,4,6,4],[5,9,6,9],[5,5,6,5],[5,7,5,8]]}
[]
[null,"Раздел IX. Административные работники и специалисты"]
[null,null,null,null,null,null,null,null,null,null,null,"Код по ОКЕИ: человек – 792"]
[null,"Наименование должности","№ строки","Число работников",null,"из них имеют (из гр. 4):"]
[null,null,null,null,null,"профессиональное образование",null,null,null,"квалификационную категорию",null,null,"почетные звания"]
[null,null,null,"Всего","в том числе штатные","высшее","среднее","в том числе\nфизкультурное",null,"высшую","первую","вторую","Заслужен-ный тренер России","Заслуженный работник физической культуры Российской Федерации"]
[null,null,null,null,null,null,null,"высшее","среднее"]
[null,1,2,3,4,5,6,7,8,9,10,11,12,13]
[null,"Директор (руководитель)","01",23,23,23,0,21,0,12,0,0,3,2,null,null,{"$f":"Раздел11!D9","v":23}]
[null,"Заместители директора (руководителя)","02",55,55,47,7,32,0,11,1,1,2,1]
[null,"      в том числе:\n   по учебно-спортивной работе","03",13,13,13,0,11,0,2,1,1,1,1]
[null,"   по учебно-воспитательной работе","04",17,17,16,1,13,0,7,0,0,1,0]
[null,"   по научно-методической работе","05",3,3,3,0,3,0,1,0,0,0,0]
[null,"   другие","06",22,22,15,6,5,0,1,0,0,0,0]
[null,"Инструктор по спорту","07",1,1,1,0,1,0,0,0,0,0,0]
[null,"Спортсмен, спортсмен-инструктор","08",71,68,28,6,23,3,0,0,0,0,0,null,{"$f":"Раздел2!R215","v":0}]
[null,"Инструктор – методист (включая старшего)","09",32,27,24,3,18,1,6,5,1,1,0]
[null,"Техник (специалист) по эксплуатации и ремонту спортивной техники, инвентаря и снаряжения",10,5,5,0,2,0,0,0,0,0,0,0]
[null,"Преподаватель",11,16,16,15,1,15,0,8,1,0,0,0]
[null,"Воспитатель (включая старшего)",12,0,0,0,0,0,0,0,0,0,0,0]
[null,"Методист (включая старшего)",13,5,4,4,0,3,0,0,0,0,0,0]
[null,"Педагог – психолог",14,2,2,2,0,0,0,0,0,0,0,0]
[null,"Медицинские работники:",15,18,8,3,5,0,0,0,0,0,0,0]
[null,"   в том числе:\n   врачи",16,7,3,3,0,0,0,0,0,0,0,0]
[null,"   средний медицинский персонал",17,10,5,0,5,0,0,0,0,0,0,0]
[null,"   младший медицинский персонал",18,1,0,0,0,0,0,0,0,0,0,0]
[null,"Специалисты спортсооружений",19,1,1,1,0,1,0,0,0,0,0,0]
[null,"Прочий персонал",20,237,207,33,83,12,0,1,0,0,0,0]
[null,"ИТОГО",21,466,417,181,107,126,4,38,7,2,6,3]
[null,"в том числе по виду организаций: \nДЮСШ",22,217,197,81,83,54,0,27,4,0,3,1]
[null,"СШ",23,0,0,0,0,0,0,0,0,0,0,0]
[null,"СДЮСШОР",24,9,9,8,1,5,0,4,1,1,1,0]
[null,"СШОР",25,149,133,67,10,51,4,7,2,1,1,0]
[null,"УОР",26,0,0,0,0,0,0,0,0,0,0,0]
[null,"ЦСП",27,91,78,25,13,16,0,0,0,0,1,2]
[null,"ЦОП",28,0,0,0,0,0,0,0,0,0,0,0]
[null,"Другие организации",29,0,0,0,0,0,0,0,0,0,0,0]

{"sheet":"Раздел10","index":10,"n_rows":50,"n_cols":16,"rows_kept":50,"cut":false,"hidden":false,"merged":[[3,15,5,15],[0,0,0,8],[3,1,5,1],[3,2,5,2],[3,4,3,8],[3,14,5,14],[1,1,1,14],[3,3,5,3],[4,4,5,4],[4,5,4,8],[3,9,3,13],[4,9,5,9],[4,10,4,13],[1,0,41,0],[2,11,2,15]]}
[]
[null,"Раздел X. Спортивные сооружения"]
[null,null,null,null,null,null,null,null,null,null,null,"Код по ОКЕИ: единица – 642"]
[null,"Наименование спортивного сооружения","№ стро-ки","Число спортивных сооружений – всего","находящихся на балансе (из гр. 3)",null,null,null,null,"арендуемых (из гр. 3)",null,null,null,null,"используемых на безвозмездной основе\n(из гр. 3)","Количество спортсооружений, входящих во Всероссийский реестр объектов спорта (из гр. 3)"]
[null,null,null,null,"всего","в том числе по формам собственности:",null,null,null,"всего","в том числе по формам собственности:"]
[null,null,null,null,null,"федеральной","субъектов Российской Федерации","муници-пальной","другой",null,"федеральной","субъектов Российской Федерации","муници-пальной","другой"]
[null,1,2,3,4,5,6,7,8,9,10,11,12,13,14,15]
[null,"Стадионы с трибунами – всего","01",4,2,0,1,1,0,0,0,0,0,0,2,1]
[null,"в том числе на 1500 мест и более","02",2,0,0,0,0,0,0,0,0,0,0,2,1]
[null,"Плоскостные спортивные сооружения - всего","03",39,29,0,11,18,0,7,0,0,7,0,3,0]
[null,"в том числе:\nПлоскостные спортивные сооружения","04",29,23,0,9,14,0,3,0,0,3,0,3,0]
[null,"Футбольные поля","05",10,6,0,2,4,0,4,0,0,4,0,0,0]
[null,"Спортивные залы – всего","06",69,34,0,2,32,0,11,0,0,10,1,24,0]
[null,"      в том числе размером:\n     (42 х 24 м)","07",4,2,0,0,2,0,1,0,0,0,1,1,0]
[null,"     (36 х 18 м); (30 х 18 м) и (30 х 15 м)","08",5,3,0,0,3,0,0,0,0,0,0,2,0]
[null,"     (24 х 12 м) и (18 х 9 м)","09",46,27,0,2,25,0,10,0,0,10,0,9,0]
[null,"     иных размеров",10,14,2,0,0,2,0,0,0,0,0,0,12,0]
[null,"Манежи легкоатлетические",11,0,0,0,0,0,0,0,0,0,0,0,0,0]
[null,"Манежи футбольные",12,0,0,0,0,0,0,0,0,0,0,0,0,0]
[null,"Велотреки",13,1,1,0,1,0,0,0,0,0,0,0,0,0]
[null,"Велодромы",14,0,0,0,0,0,0,0,0,0,0,0,0,0]
[null,"Бассейны – всего",15,1,1,0,0,1,0,0,0,0,0,0,0,0]
[null,"     в том числе: \n     плавательные 50-метровые",16,0,0,0,0,0,0,0,0,0,0,0,0,0]
[null,"     плавательные 25-метровые",17,1,1,0,0,1,0,0,0,0,0,0,0,0]
[null,"     нестандартных размеров",18,0,0,0,0,0,0,0,0,0,0,0,0,0]
[null,"     для прыжков в воду",19,0,0,0,0,0,0,0,0,0,0,0,0,0]
[null,"         из строки 15 - крытые",20,0,0,0,0,0,0,0,0,0,0,0,0,0]
[null,"Гребные базы",21,0,0,0,0,0,0,0,0,0,0,0,0,0]
[null,"Гребные каналы",22,0,0,0,0,0,0,0,0,0,0,0,0,0]
[null,"Крытые спортивные объекты с искусственным льдом – всего",23,0,0,0,0,0,0,0,0,0,0,0,0,0]
[null,"  в том числе:\n  крытые спортивные объекты с искусственным     льдом ",24,0,0,0,0,0,0,0,0,0,0,0,0,0]
[null,"     конькобежные",25,0,0,0,0,0,0,0,0,0,0,0,0,0]
[null,"Лыжные базы",26,0,0,0,0,0,0,0,0,0,0,0,0,0]
[null,"Лыжные стадионы",27,0,0,0,0,0,0,0,0,0,0,0,0,0]
[null,"Биатлонные комплексы",28,0,0,0,0,0,0,0,0,0,0,0,0,0]
[null,"Сооружения для стрелковых видов спорта – всего",29,2,0,0,0,0,0,2,1,1,0,0,0,0]
[null,"     в том числе: \n     тиры",30,2,0,0,0,0,0,2,1,1,0,0,0,0]
[null,"     стрельбища",31,0,0,0,0,0,0,0,0,0,0,0,0,0]
[null,"     стенды",32,0,0,0,0,0,0,0,0,0,0,0,0,0]
[null,"     лукодромы",33,0,0,0,0,0,0,0,0,0,0,0,0,0]
[null,"Другие спортивные сооружения",34,7,7,0,2,5,0,0,0,0,0,0,0,0]
[null,"ИТОГО",35,123,74,0,17,57,0,20,1,1,17,1,29,1]
[null,"в том числе по виду организаций:\n     ДЮСШ",36,71,53,0,0,53,0,17,0,0,17,0,1,0]
[null,"СШ",37,0,0,0,0,0,0,0,0,0,0,0,0,0]
[null,"СДЮСШОР",38,5,4,0,0,4,0,1,0,1,0,0,0,0]
[null,"СШОР",39,29,6,0,6,0,0,1,0,0,0,1,22,1]
[null,"УОР",40,0,0,0,0,0,0,0,0,0,0,0,0,0]
[null,"ЦСП",41,18,11,0,11,0,0,1,1,0,0,0,6,0]
[null,"ЦОП",42,0,0,0,0,0,0,0,0,0,0,0,0,0]
[null,"Другие организации",43,0,0,0,0,0,0,0,0,0,0,0,0,0]

{"sheet":"Раздел11","index":11,"n_rows":60,"n_cols":21,"rows_kept":60,"cut":false,"hidden":false,"merged":[[0,0,0,8],[1,1,1,13],[3,1,6,1],[3,2,6,2],[3,3,4,4],[3,5,3,13],[4,8,4,13],[1,0,27,0],[5,3,6,3],[5,4,6,4],[1,14,27,14],[5,8,5,10],[5,11,5,13],[2,11,2,13],[4,5,4,7],[5,5,5,6],[5,7,6,7]]}
[]
[null,"Раздел XI. Сведения о численности и оплате труда работников"]
[null,null,null,null,null,null,null,null,null,null,null,"Коды по ОКЕИ: человек – 792; тысяча рублей – 384"]
[null,"Наименование должности","№ строки","Средняя численность работников, человек",null,"Фонд начисленной заработной платы работников, тыс. руб."]
[null,null,null,null,null,"всего",null,null,"по источникам финансирования"]
[null,null,null,"списочного состава\n(без внеш-них совме-стителей)\n","внешних совме-стителей","списочного состава (без внешних совместителей)",null,"внешних совме-стителей","списочного состава\n(без внешних совместителей)",null,null,"внешних совместителей"]
[null,null,null,null,null,"всего","в том числе по внутреннему совместитель-ству",null,"средства бюджетов всех уровней\n(субсидий)","ОМС","средства от приносящей доход деятельности","средства бюджетов всех уровней\n(субсидий)","ОМС","средства от приносящей доход деятельности"]
[null,1,2,3,4,5,6,7,8,9,10,11,12,13]
[null,"Директор","01",23,0,12177.300000000003,326.8,0,12177.300000000003,139.80000000000001,0,0,0,0,null,{"$f":"Раздел12!E9","v":6778},{"$f":"Раздел12!F9+Раздел12!G9+Раздел12!H9","v":6777.9999999999991},{"$f":"Раздел12!I9","v":0},{"$f":"Раздел12!D9","v":12177.3},{"$f":"Раздел12!AV9","v":9224.0999999999985},{"$f":"Раздел12!AW9","v":0}]
[null,"Заместители директора, руководители структурных подразделений и их заместители","02",56,0,20931.499999999996,700.09999999999991,0,20931.499999999996,287.59999999999997,0,0,0,0,null,{"$f":"Раздел12!E10","v":10207.800000000001},{"$f":"Раздел12!F10+Раздел12!G10+Раздел12!H10","v":10207.800000000001},{"$f":"Раздел12!I10","v":0},{"$f":"Раздел12!D10","v":20931.5},{"$f":"Раздел12!AV10","v":14770.400000000001},{"$f":"Раздел12!AW10","v":0}]
[null,"Работники учреждений, осуществляющие спортивную подготовку:","03",439.8,114.7,98370.3,2974.9,16837.2,98370.3,772.3,0,16837.2,187.5,0,null,null,null,null,null,{"$f":"Раздел12!AV11","v":78098.200000000012},{"$f":"Раздел12!AW11","v":0}]
[null,"     тренерский персонал - всего:","04",344.3,109.7,83247.60000000002,2004.1000000000001,16136.499999999998,83247.60000000002,430,0,16136.499999999998,169.39999999999998,0,null,{"$f":"Раздел12!E11","v":57427.7},{"$f":"Раздел12!F11+Раздел12!G11+Раздел12!H11","v":57427.7},{"$f":"Раздел12!I11","v":0},{"$f":"Раздел12!D11","v":99384.1},{"$f":"Раздел12!AV12","v":8346.5},{"$f":"Раздел12!AW11","v":0}]
[null,"   в том числе:\n   главные тренеры по видам спорта","05",0,0,0,0,0,0,0,0,0,0,0,null,null,null,null,null,{"$f":"Раздел12!AV13","v":1127.2},{"$f":"Раздел12!AW13","v":0}]
[null,"      старшие тренеры по видам спорта ","06",36,7,11258.899999999998,54,2171,11258.899999999998,83.9,0,2171,53.2,0,null,null,null,null,null,{"$f":"Раздел12!AV14","v":22667.199999999997},{"$f":"Раздел12!AW14","v":0}]
[null,"тренеры по видам спорта - всего:","07",308.3,102.7,71988.700000000012,1950.1000000000001,13965.5,71988.700000000012,346.1,0,13965.5,116.19999999999999,0,null,null,null,null,null,{"$f":"Раздел12!AV15","v":36294.400000000001},{"$f":"Раздел12!AW15","v":0}]
[null,"       в том числе:\n       тренеры","08",116.8,67,26205.800000000003,450.7,9323.9,26205.800000000003,227.70000000000002,0,9323.9,82.399999999999991,0,null,null,null,null,null,{"$f":"Раздел12!AV16","v":0},{"$f":"Раздел12!AW16","v":0}]
[null,"          тренеры-преподаватели","09",191.5,35.700000000000003,45782.9,1499.4,4641.5999999999995,45782.9,118.4,0,4641.5999999999995,33.799999999999997,0,null,null,null,null,null,{"$f":"Раздел12!AV17","v":0},{"$f":"Раздел12!AW17","v":0}]
[null,"      методический персонал:",10,95.5,5,15122.699999999999,970.8,700.69999999999993,15122.699999999999,342.3,0,700.69999999999993,18.100000000000001,0,null,{"$f":"Раздел12!E12","v":5286.2999999999993},{"$f":"Раздел12!F12+Раздел12!G12+Раздел12!H12","v":5286.3},{"$f":"Раздел12!I12","v":0},{"$f":"Раздел12!D12","v":15823.4},{"$f":"Раздел12!AV12","v":8346.5},{"$f":"Раздел12!AW12","v":0}]
[null,"      в том числе:\n      инструкторы-методисты;",11,25.5,1,5021.9000000000005,496.8,127.9,5021.9000000000005,56.2,0,127.9,0,0]
[null,"      старшие инструкторы-методисты",12,6,1,1411.7,154.1,100.7,1411.7,118,0,100.7,0,0]
[null,"      спортсмены, спортсмены- инструкторы",13,64,3,8689.0999999999985,319.89999999999998,472.1,8689.0999999999985,168.10000000000002,0,472.1,18.100000000000001,0]
[null,"Медицинские работники - всего:",14,11,9.5,1016.1,0,1048.6000000000001,1016.1,31.1,0,1048.6000000000001,5.4,0,null,{"$f":"Раздел12!E13","v":666.9},{"$f":"Раздел12!F13+Раздел12!G13+Раздел12!H13","v":666.9},{"$f":"Раздел12!I13","v":0},{"$f":"Раздел12!D13","v":2064.7000000000003},{"$f":"Раздел12!AV13","v":1127.2},{"$f":"Раздел12!AW13","v":0}]
[null,"   в том числе:\n   врачи",15,3,5,231.8,0,541.90000000000009,231.8,6.7,0,541.90000000000009,5.4,0]
[null,"     средний медицинский персонал",16,6,4.5,643.30000000000007,0,506.70000000000005,643.30000000000007,17.399999999999999,0,506.70000000000005,0,0]
[null,"     младший медицинский персонал",17,2,0,141,0,0,141,7,0,0,0,0]
[null,"Прочий персонал",18,241.8,13.5,30080.9,760.59999999999991,1466.7,30080.9,508.50000000000006,0,1466.7,16.3,0,null,{"$f":"Раздел12!E14","v":13990.200000000004},{"$f":"Раздел12!F14+Раздел12!G14+Раздел12!H14","v":13990.199999999999},{"$f":"Раздел12!I14","v":0},{"$f":"Раздел12!D14","v":31547.600000000006},{"$f":"Раздел12!AV14","v":22667.199999999997},{"$f":"Раздел12!AW14","v":0}]
[null,"Страховые взносы с заработной платы",19,0,0,45514.69999999999,675.4,5198.6000000000004,45514.69999999999,0,0,5198.6000000000004,0,0,null,{"$f":"Раздел12!E15","v":26836.7},{"$f":"Раздел12!F15+Раздел12!G15+Раздел12!H15","v":26836.7},{"$f":"Раздел12!I15","v":0},{"$f":"Раздел12!D15","v":50713.299999999996},{"$f":"Раздел12!AV15","v":36294.400000000001},{"$f":"Раздел12!AW15","v":0}]
[null,"ИТОГО",20,771.59999999999991,137.70000000000002,208090.80000000002,5437.7999999999993,24551.100000000002,208090.80000000002,1739.3,0,24551.100000000002,209.2,0,null,{"$f":"Раздел12!E8","v":121193.59999999999},{"$f":"Раздел12!I8","v":0},{"$f":"Раздел12!F8+Раздел12!G8+Раздел12!H8","v":121193.59999999999},{"$f":"Раздел12!D8","v":232641.89999999997},{"$f":"Раздел12!AV8","v":170528},{"$f":"Раздел12!AW8","v":0}]
[null,"        в том числе по виду\n        организации: \nДЮСШ","21",388.6,57.1,112053.2,3684.7000000000003,9140.4,112053.2,357.3,0,9140.4,33.799999999999997,0]
[null,"     из них по \n     ведомственной\n     принадлежности: \nорганы управления в сфере образования","22",270.60000000000002,33.1,78372.800000000003,2235.3000000000002,5971.3,78372.800000000003,0,0,5971.3,0,0]
[null,"органы управления в сфере физической культуры и \nспорта","23",118,24,33680.399999999994,1449.4,3169.1,33680.399999999994,357.3,0,3169.1,33.799999999999997,0]
[null,"другая ведомственная принадлежность","24",0,0,0,0,0,0,0,0,0,0,0]
[null,"СШ","25",0,0,0,0,0,0,0,0,0,0,0]
[null,"     из них по \n     ведомственной\n     принадлежности: \nорганы управления в сфере образования","26",0,0,0,0,0,0,0,0,0,0,0]
[null,"органы управления в сфере физической культуры и \nспорта","27",0,0,0,0,0,0,0,0,0,0,0]
[null,"другая ведомственная принадлежность","28",0,0,0,0,0,0,0,0,0,0,0]
[null,"СДЮСШОР","29",70,4.0999999999999996,17043,349.6,666.19999999999993,17043,0,0,666.19999999999993,0,0]
[null,"     из них по \n     ведомственной\n     принадлежности:\nорганы управления в сфере образования","30",0,0,0,0,0,0,0,0,0,0,0]
[null,"органы управления в сфере физической культуры и спорта","31",70,4.0999999999999996,17043,349.6,666.19999999999993,17043,0,0,666.19999999999993,0,0]
[null,"другая ведомственная принадлежность","32",0,0,0,0,0,0,0,0,0,0,0]
[null,"СШОР","33",217,43,54729.700000000004,632.4,7384.2,54729.700000000004,656,0,7384.2,12.8,0]
[null,"     из них по \n     ведомственной\n     принадлежности:\nорганы управления в сфере образования","34",0,0,0,0,0,0,0,0,0,0,0]
[null,"органы управления в сфере физической культуры и спорта","35",217,43,54729.700000000004,632.4,7384.2,54729.700000000004,656,0,7384.2,12.8,0]
[null,"другая ведомственная принадлежность","36",0,0,0,0,0,0,0,0,0,0,0]
[null,"УОР","37",0,0,0,0,0,0,0,0,0,0,0]
[null,"     из них по\n     ведомственной\n     принадлежности:\nорганы управления в сфере образования","38",0,0,0,0,0,0,0,0,0,0,0]
[null,"органы управления в сфере физической культуры и спорта","39",0,0,0,0,0,0,0,0,0,0,0]
[null,"другая ведомственная принадлежность","40",0,0,0,0,0,0,0,0,0,0,0]
[null,"ЦСП","41",96,33.5,24264.9,771.1,7360.3,24264.9,726,0,7360.3,162.60000000000002,0]
[null,"     из них по\n     ведомственной\n     принадлежности:\nорганы управления в сфере образования","42",0,0,0,0,0,0,0,0,0,0,0]
[null,"органы управления в сфере физиченской культуры и спорта","43",96,33.5,24264.9,771.1,7360.3,24264.9,726,0,7360.3,162.60000000000002,0]
[null,"другая ведомственная принадлежность","44",0,0,0,0,0,0,0,0,0,0,0]
[null,"ЦОП","45",0,0,0,0,0,0,0,0,0,0,0]
[null,"     из них по\n     ведомственной\n     принадлежности:\nорганы управления в сфере образования","46",0,0,0,0,0,0,0,0,0,0,0]
[null,"органы управления в сфере физической культуры и спорта","47",0,0,0,0,0,0,0,0,0,0,0]
[null,"другая ведомственная принадлежность","48",0,0,0,0,0,0,0,0,0,0,0]
[null,"Другие организации","49",0,0,0,0,0,0,0,0,0,0,0]
[null,"     из них по\n     ведомственной\n     принадлежности:\nорганы управления в сфере образования","50",0,0,0,0,0,0,0,0,0,0,0]
[null,"органы управления в сфере физической культуры и спорта","51",0,0,0,0,0,0,0,0,0,0,0]
[null,"другая ведомственная принадлежность","52",0,0,0,0,0,0,0,0,0,0,0]

{"sheet":"Раздел12","index":12,"n_rows":42,"n_cols":50,"rows_kept":42,"cut":false,"hidden":false,"merged":[[3,39,3,43],[0,14,0,26],[1,41,1,43],[41,14,41,15],[41,24,44,25],[37,8,37,17],[38,8,38,16],[40,8,40,17],[37,24,37,25],[3,9,3,13],[3,19,3,23],[3,34,3,38],[38,1,38,5],[38,24,38,25],[40,2,40,4],[0,0,44,0],[32,5,32,7],[0,1,0,7],[37,1,37,5],[41,2,42,4],[2,4,2,43],[3,4,3,8],[2,3,4,3],[2,2,4,2],[2,1,4,1],[3,14,3,18],[3,24,3,28],[3,29,3,33]]}
[null,null,null,null,null,null,null,null,null,null,null,null,null,null,"Раздел XII. Финансовая деятельность организаций"]
[null,null,null,null,null,null,null,null,null,null,null,null,null,null,null,null,null,null,null,null,null,null,null,null,null,null,null,null,null,null,null,null,null,null,null,null,null,null,null,null,null,"Код по ОКЕИ: тысяча рублей – 384"]
[null,"Расходы на содержание организаций","№ строки","ВСЕГО","в том числе по виду организации:"]
[null,null,null,null,"ДЮСШ",null,null,null,null,"СШ",null,null,null,null,"СДЮСШОР",null,null,null,null,"СШОР",null,null,null,null,"УОР",null,null,null,null,"ЦСП",null,null,null,null,"ЦОП",null,null,null,null,"Другие организации"]
[null,null,null,null,"ВСЕГО","федеральный бюджет","бюджет субъекта Российской Федерации","муниципальный бюджет","внебюджетные источники","ВСЕГО","федеральный бюджет","бюджет субъекта Российской Федерации","муниципальный бюджет","внебюджетные источники","ВСЕГО","федеральный бюджет","бюджет субъекта Российской Федерации","муниципальный бюджет","внебюджетные источники","ВСЕГО","федеральный бюджет","бюджет субъекта Российской Федерации","муниципальный бюджет","внебюджетные источники","ВСЕГО","федеральный бюджет","бюджет субъекта Российской Федерации","муниципальный бюджет","внебюджетные источники","ВСЕГО","федеральный бюджет","бюджет субъекта Российской Федерации","муниципальный бюджет","внебюджетные источники","ВСЕГО","федеральный бюджет","бюджет субъекта Российской Федерации","муниципальный бюджет","внебюджетные источники","ВСЕГО","федеральный бюджет","бюджет субъекта Российской Федерации","муниципальный бюджет","внебюджетные источники"]
[null,1,2,3,4,5,6,7,8,9,10,11,12,13,14,15,16,17,18,19,20,21,22,23,24,25,26,27,28,29,30,31,32,33,34,35,36,37,38,39,40,41,42,43]
[null,"Всего расходов","01",{"$f":"E7+J7+O7+T7+Y7+AD7+AI7+AN7","v":309207.20000000007},147437.40000000002,0,18665.5,127976.8,795.1,0,0,0,0,0,21189.4,0,0,21189.4,0,90304.8,2900,87404.800000000003,0,0,0,0,0,0,0,50275.600000000006,1957.6,48318,0,0,0,0,0,0,0,0,0,0,0,0]
[null,"в том числе: \nЗаработная плата - всего","02",{"$f":"E8+J8+O8+T8+Y8+AD8+AI8+AN8","v":232641.89999999997},121193.59999999999,0,16686.7,104506.9,0,0,0,0,0,0,17709.2,0,0,17709.2,0,62113.9,0,62113.9,0,0,0,0,0,0,0,31625.199999999997,0,31625.199999999997,0,0,0,0,0,0,0,0,0,0,0,0,null,{"$f":"Раздел11!F28+Раздел11!H28","v":232641.90000000002},{"$f":"Раздел11!I28+Раздел11!L28","v":232641.90000000002},{"$f":"SUM(F8:H8,P8:R8,Z8:AB8,AE8:AG8,AO8:AQ8)","v":170528},{"$f":"I8+S8+AC8+AH8+AR8","v":0},{"$f":"Раздел11!K28+Раздел11!N28","v":0}]
[null,"в том числе:\nдиректор","03",12177.3,6778,0,458.9,6319.0999999999995,0,0,0,0,0,0,833.4,0,0,833.4,0,2953.2,0,2953.2,0,0,0,0,0,0,0,1612.7,0,1612.7,0,0,0,0,0,0,0,0,0,0,0,0,null,{"$f":"Раздел11!F9+Раздел11!H9","v":12177.300000000003},{"$f":"Раздел11!I9+Раздел11!L9","v":12177.300000000003},9224.0999999999985,0,{"$f":"Раздел11!K9+Раздел11!N9","v":0}]
[null,"   заместители директора","04",20931.5,10207.800000000001,0,1799.1,8408.7000000000007,0,0,0,0,0,0,750.1,0,0,750.1,0,6161.0999999999995,0,6161.0999999999995,0,0,0,0,0,0,0,3812.5000000000005,0,3812.5000000000005,0,0,0,0,0,0,0,0,0,0,0,0,null,{"$f":"Раздел11!F10+Раздел11!H10","v":20931.499999999996},{"$f":"Раздел11!I10+Раздел11!L10","v":20931.499999999996},14770.400000000001,0,{"$f":"Раздел11!K10+Раздел11!N10","v":0}]
[null,"   тренерский персонал","05",99384.1,57427.7,0,7849.4000000000005,49578.299999999996,0,0,0,0,0,0,11276.400000000001,0,0,11276.400000000001,0,21285.9,0,21285.9,0,0,0,0,0,0,0,9394.1,0,9394.1,0,0,0,0,0,0,0,0,0,0,0,0,null,{"$f":"Раздел11!F12+Раздел11!H12","v":99384.10000000002},{"$f":"Раздел11!I12+Раздел11!L12","v":99384.10000000002},78098.200000000012,0,{"$f":"Раздел11!K12+Раздел11!N12","v":0}]
[null,"   методический персонал","06",15823.4,5286.2999999999993,0,492.8,4793.5,0,0,0,0,0,0,298.60000000000002,0,0,298.60000000000002,0,7476.9000000000005,0,7476.9000000000005,0,0,0,0,0,0,0,2761.6,0,2761.6,0,0,0,0,0,0,0,0,0,0,0,0,null,{"$f":"Раздел11!F18+Раздел11!H18","v":15823.4},{"$f":"Раздел11!I18+Раздел11!L18","v":15823.4},8346.5,0,{"$f":"Раздел11!K18+Раздел11!N18","v":0}]
[null,"   медицинские работники","07",2064.7000000000003,666.9,0,52.6,614.29999999999995,0,0,0,0,0,0,0,0,0,0,0,937.5,0,937.5,0,0,0,0,0,0,0,460.3,0,460.3,0,0,0,0,0,0,0,0,0,0,0,0,null,{"$f":"Раздел11!F22+Раздел11!H22","v":2064.7000000000003},{"$f":"Раздел11!I22+Раздел11!L22","v":2064.7000000000003},1127.2,0,{"$f":"Раздел11!K22+Раздел11!N22","v":0}]
[null,"   прочий персонал","08",31547.600000000006,13990.200000000004,0,1691.4,12298.8,0,0,0,0,0,0,2396.1,0,0,2396.1,0,8880.4,0,8880.4,0,0,0,0,0,0,0,6280.9,0,6280.9,0,0,0,0,0,0,0,0,0,0,0,0,null,{"$f":"Раздел11!F26+Раздел11!H26","v":31547.600000000002},{"$f":"Раздел11!I26+Раздел11!L26","v":31547.600000000002},22667.199999999997,0,{"$f":"Раздел11!K26+Раздел11!N26","v":0}]
[null,"   страховые взносы с заработной платы","09",50713.299999999996,26836.7,0,4342.5,22494.2,0,0,0,0,0,0,2154.6,0,0,2154.6,0,14418.9,0,14418.9,0,0,0,0,0,0,0,7303.1,0,7303.1,0,0,0,0,0,0,0,0,0,0,0,0,null,{"$f":"Раздел11!F27+Раздел11!H27","v":50713.299999999988},{"$f":"Раздел11!I27+Раздел11!L27","v":50713.299999999988},36294.400000000001,0,{"$f":"Раздел11!K27+Раздел11!N27","v":0}]
[null,"Оздоровительная кампания",10,1160.5,44,0,0,44,0,0,0,0,0,0,666.5,0,0,666.5,0,450,0,450,0,0,0,0,0,0,0,0,0,0,0,0,0,0,0,0,0,0,0,0,0,0]
[null,"Участие в соревнованиях и\nтренировочных сборах - всего",11,28719.999999999996,4302.7,0,313.2,3924.5,65,0,0,0,0,0,208.2,0,0,208.2,0,14668.3,0,14668.3,0,0,0,0,0,0,0,9540.7999999999993,362.5,9178.2999999999993,0,0,0,0,0,0,0,0,0,0,0,0]
[null,"   в том числе: \n   тренерский состав",12,3543.7000000000003,1126.7,0,46.4,1065.3,15,0,0,0,0,0,26,0,0,26,0,1295.2,0,1295.2,0,0,0,0,0,0,0,1095.8000000000002,157.1,938.7,0,0,0,0,0,0,0,0,0,0,0,0]
[null,"   спортсмены, спортсмены-инструкторы",13,23468.399999999998,2240.2000000000003,0,111.8,2078.4,50,0,0,0,0,0,182.2,0,0,182.2,0,13369.699999999999,0,13369.699999999999,0,0,0,0,0,0,0,7676.3,205.4,7470.9,0,0,0,0,0,0,0,0,0,0,0,0]
[null,"   медицинский персонал",14,70.099999999999994,10,0,10,0,0,0,0,0,0,0,0,0,0,0,0,0,0,0,0,0,0,0,0,0,0,60.1,0,60.1,0,0,0,0,0,0,0,0,0,0,0,0]
[null,"   прочий персонал",15,84.100000000000009,0,0,0,0,0,0,0,0,0,0,0,0,0,0,0,3.4,0,3.4,0,0,0,0,0,0,0,80.7,0,80.7,0,0,0,0,0,0,0,0,0,0,0,0]
[null,"   другие расходы",16,1553.7,925.8,0,145,780.8,0,0,0,0,0,0,0,0,0,0,0,0,0,0,0,0,0,0,0,0,0,627.90000000000009,0,627.90000000000009,0,0,0,0,0,0,0,0,0,0,0,0]
[null,"Материально-техническое обеспечение",17,15466,6349,0,137.6,6196.2999999999993,15.1,0,0,0,0,0,772.6,0,0,772.6,0,5532.7,2900,2632.7000000000003,0,0,0,0,0,0,0,2811.7,1595.1,1216.5999999999999,0,0,0,0,0,0,0,0,0,0,0,0]
[null,"   в том числе: \n   экипировка, спортивное оборудование, \n   инвентарь",18,10285,1761.5,0,11,1735.3999999999999,15.1,0,0,0,0,0,494,0,0,494,0,5217.7999999999993,2900,2317.8000000000002,0,0,0,0,0,0,0,2811.7,1595.1,1216.5999999999999,0,0,0,0,0,0,0,0,0,0,0,0]
[null,"   прочее",19,5181,4587.5,0,126.6,4460.8999999999996,0,0,0,0,0,0,278.60000000000002,0,0,278.60000000000002,0,314.89999999999998,0,314.89999999999998,0,0,0,0,0,0,0,0,0,0,0,0,0,0,0,0,0,0,0,0,0,0]
[null,"Содержание спортивных сооружений",20,{"$f":"E26+J26+O26+T26+Y26+AD26+AI26+AN26","v":9414.9},3301.3999999999996,0,330,2256.3999999999996,715,0,0,0,0,0,1405,0,0,1405,0,1766.1,0,1766.1,0,0,0,0,0,0,0,2942.4,0,2942.4,0,0,0,0,0,0,0,0,0,0,0,0]
[null,"   в том числе: \n   аренда (услуги спортсооружений)",21,912,130,0,130,0,0,0,0,0,0,0,240,0,0,240,0,398,0,398,0,0,0,0,0,0,0,144,0,144,0,0,0,0,0,0,0,0,0,0,0,0]
[null,"   собственные спортсооружения",22,5724.7000000000007,1649.1000000000001,0,200,1449.1,0,0,0,0,0,0,836,0,0,836,0,1256.8,0,1256.8,0,0,0,0,0,0,0,1982.8,0,1982.8,0,0,0,0,0,0,0,0,0,0,0,0]
[null,"   другие расходы на содержание",23,2778.2,1522.3,0,0,807.3,715,0,0,0,0,0,329,0,0,329,0,111.3,0,111.3,0,0,0,0,0,0,0,815.6,0,815.6,0,0,0,0,0,0,0,0,0,0,0,0]
[null,"Прочие расходы",24,21803.899999999998,12246.699999999999,0,1198,11048.699999999999,0,0,0,0,0,0,427.9,0,0,427.9,0,5773.8,0,5773.8,0,0,0,0,0,0,0,3355.5,0,3355.5,0,0,0,0,0,0,0,0,0,0,0,0]
[null,null,null,{"$f":"Раздел1!G9","v":2}]
[]
[null,"Поступило средств от предоставления платных услуг, тысяча рублей:"]
[]
[null,"Всего (25)",16424.5,", в том числе ДЮСШ (26)",715,"  , СШ (27) ",0,", СДЮСШОР (28) ",0,",СШОР (29)",0,",УОР (30)",0,",ЦСП (31)",15709.5,",ЦОП (32)",0,",Другие организации (33)",0]
[]
[null,"Должностное лицо, ответственное за предоставление статистической информации (лицо, уполномоченное предоставлять статистическую информацию от имени юридического лица)"]
[null,"Начальник отдела развития видов спорта и высшего спортивного мастерства",null,null,null,null,null,null,"Кочева Сусанна Юсуфовна"]
[null,"(должность)",null,null,null,null,null,null,"(Ф.И.О.)",null,null,null,null,null,null,null,null,null,null,null,null,null,null,null,"(подпись)"]
[]
[null,null,"8-8772-52-45-21",null,null,null,null,"e-mail","sportkom01@rambler.ru"]
[null,null,"(номер контактного телефона)",null,null,null,null,null,null,null,null,null,null,null,null,null,null,null,null,null,null,null,null,null,"(дата составления\nдокумента)"]

{"sheet":"Лист1","index":13,"n_rows":57,"n_cols":19,"rows_kept":57,"cut":false,"hidden":false,"merged":[]}
["Тяжелая атлетика",165,0,0,0,0,0,0,0,0,0,0,0,0,0,0,0,0,0]
["Универсальный бой",166,0,0,0,0,0,0,0,0,0,0,0,0,0,0,0,0,0]
["Ушу",167,0,0,0,0,0,0,0,0,0,0,0,0,0,0,0,0,0]
["Фехтование - всего",168,0,0,0,0,0,0,0,0,0,0,0,0,0,0,0,0,0]
["в том числе:\nРапира",169,0,0,0,0,0,0,0,0,0,0,0,0,0,0,0,0,0]
["Сабля",170,0,0,0,0,0,0,0,0,0,0,0,0,0,0,0,0,0]
["Шпага",171,0,0,0,0,0,0,0,0,0,0,0,0,0,0,0,0,0]
["Арт-фехтование",172,0,0,0,0,0,0,0,0,0,0,0,0,0,0,0,0,0]
["Фигурное катание на коньках",173,0,0,0,0,0,0,0,0,0,0,0,0,0,0,0,0,0]
["Флорбол",174,0,0,0,0,0,0,0,0,0,0,0,0,0,0,0,0,0]
["Фристайл - всего",175,0,0,0,0,0,0,0,0,0,0,0,0,0,0,0,0,0]
["в том числе:\nАкробатика",176,0,0,0,0,0,0,0,0,0,0,0,0,0,0,0,0,0]
["Могул",177,0,0,0,0,0,0,0,0,0,0,0,0,0,0,0,0,0]
["Ски-кросс",178,0,0,0,0,0,0,0,0,0,0,0,0,0,0,0,0,0]
["Хаф-пайп",179,0,0,0,0,0,0,0,0,0,0,0,0,0,0,0,0,0]
["Слоуп-стайл",180,0,0,0,0,0,0,0,0,0,0,0,0,0,0,0,0,0]
["Футбол - всего",181,0,0,0,0,0,0,0,0,0,0,0,0,0,0,0,0,0]
["в том числе:\nФутбол (муж.)",182,0,0,0,0,0,0,0,0,0,0,0,0,0,0,0,0,0]
["Футбол (жен.)",183,0,0,0,0,0,0,0,0,0,0,0,0,0,0,0,0,0]
["Мини-футбол (футзал)",184,0,0,0,0,0,0,0,0,0,0,0,0,0,0,0,0,0]
["Пляжный футбол",185,0,0,0,0,0,0,0,0,0,0,0,0,0,0,0,0,0]
["Хапсагай",186,0,0,0,0,0,0,0,0,0,0,0,0,0,0,0,0,0]
["Хоккей - всего",187,0,0,0,0,0,0,0,0,0,0,0,0,0,0,0,0,0]
["в том числе:\nХоккей (муж.)",188,0,0,0,0,0,0,0,0,0,0,0,0,0,0,0,0,0]
["Хоккей (жен.)",189,0,0,0,0,0,0,0,0,0,0,0,0,0,0,0,0,0]
["Хоккей на траве",190,0,0,0,0,0,0,0,0,0,0,0,0,0,0,0,0,0]
["Хоккей на траве (муж.)",191,0,0,0,0,0,0,0,0,0,0,0,0,0,0,0,0,0]
["Хоккей на траве (жен.)",192,0,0,0,0,0,0,0,0,0,0,0,0,0,0,0,0,0]
["Хоккей с мячом",193,0,0,0,0,0,0,0,0,0,0,0,0,0,0,0,0,0]
["Художественная гимнастика",194,0,0,0,0,0,0,0,0,0,0,0,0,0,0,0,0,0]
["Черлидинг",195,0,0,0,0,0,0,0,0,0,0,0,0,0,0,0,0,0]
["Чир спорт",196,0,0,0,0,0,0,0,0,0,0,0,0,0,0,0,0,0]
["Шахматы",197,0,0,0,0,0,0,0,0,0,0,0,0,0,0,0,0,0]
["Шашки",198,0,0,0,0,0,0,0,0,0,0,0,0,0,0,0,0,0]
["Эстетическая гимнастика",199,0,0,0,0,0,0,0,0,0,0,0,0,0,0,0,0,0]
["Якутские национальные прыжки",200,0,0,0,0,0,0,0,0,0,0,0,0,0,0,0,0,0]
["ИТОГО",201,0,0,0,0,0,0,0,0,0,0,0,0,0,0,0,0,0]
["        в том числе по виду\n        организации: \nДЮСШ - отделения, не соответствующие Перечню \"Олимпийский\"",202,0,0,0,0,0,0,0,0,0,0,0,0,0,0,0,0,0]
["     из них по \n     ведомственной\n     принадлежности: \nорганы управления в сфере образования",203,0,0,0,0,0,0,0,0,0,0,0,0,0,0,0,0,0]
["органы управления в сфере физиченской культуры и \nспорта",204,0,0,0,0,0,0,0,0,0,0,0,0,0,0,0,0,0]
["другая ведомственная принадлежность",205,0,0,0,0,0,0,0,0,0,0,0,0,0,0,0,0,0]
["СДЮШОР - отделения, соответствующие Перечню \"Олимпийский\"",206,0,0,0,0,0,0,0,0,0,0,0,0,0,0,0,0,0]
["     из них по \n     ведомственной\n     принадлежности:\nорганы управления в сфере образования",207,0,0,0,0,0,0,0,0,0,0,0,0,0,0,0,0,0]
["органы управления в сфере физиченской культуры и спорта",208,0,0,0,0,0,0,0,0,0,0,0,0,0,0,0,0,0]
["другая ведомственная принадлежность",209,0,0,0,0,0,0,0,0,0,0,0,0,0,0,0,0,0]
["УОР",210,0,0,0,0,0,0,0,0,0,0,0,0,0,0,0,0,0]
["     из них по\n     ведомственной\n     принадлежности:\nорганы управления в сфере образования",211,0,0,0,0,0,0,0,0,0,0,0,0,0,0,0,0,0]
["органы управления в сфере физиченской культуры и спорта",212,0,0,0,0,0,0,0,0,0,0,0,0,0,0,0,0,0]
["другая ведомственная принадлежность",213,0,0,0,0,0,0,0,0,0,0,0,0,0,0,0,0,0]
["ЦСП",214,0,0,0,0,0,0,0,0,0,0,0,0,0,0,0,0,0]
["     из них по\n     ведомственной\n     принадлежности:\nорганы управления в сфере образования",215,0,0,0,0,0,0,0,0,0,0,0,0,0,0,0,0,0]
["органы управления в сфере физиченской культуры и спорта",216,0,0,0,0,0,0,0,0,0,0,0,0,0,0,0,0,0]
["другая ведомственная принадлежность",217,0,0,0,0,0,0,0,0,0,0,0,0,0,0,0,0,0]
["Другие организации",218,0,0,0,0,0,0,0,0,0,0,0,0,0,0,0,0,0]
["     из них по\n     ведомственной\n     принадлежности:\nорганы управления в сфере образования",219,0,0,0,0,0,0,0,0,0,0,0,0,0,0,0,0,0]
["органы управления в сфере физиченской культуры и спорта",220,0,0,0,0,0,0,0,0,0,0,0,0,0,0,0,0,0]
["другая ведомственная принадлежность",221,0,0,0,0,0,0,0,0,0,0,0,0,0,0,0,0,0]